BEGIN:VCALENDAR
PRODID:-//eluceo/ical//2.0/EN
VERSION:2.0
CALSCALE:GREGORIAN
BEGIN:VEVENT
UID:https://hbb.rivio.dev/senioren/2022/wedstrijd/30320
DTSTAMP:20260420T184405Z
SUMMARY:Mixed 2 - RBC 1
DESCRIPTION:Baan 4\, Wedstrijdnummer 1011\, Afdeling Topklasse Degradatie
DTSTART:20221006T200000
DTEND:20221006T230000
LOCATION:City Resort Helmond
ATTACH;FMTTYPE=text/plain:https://hbb.rivio.dev/senioren/2022/wedstrijd/303
 20
END:VEVENT
BEGIN:VEVENT
UID:https://hbb.rivio.dev/senioren/2022/wedstrijd/30341
DTSTAMP:20260420T184405Z
SUMMARY:RBC 1 - Mierlo 1
DESCRIPTION:Baan 5\, Wedstrijdnummer 1016\, Afdeling Topklasse Degradatie
DTSTART:20221013T200000
DTEND:20221013T230000
LOCATION:City Resort Helmond
ATTACH;FMTTYPE=text/plain:https://hbb.rivio.dev/senioren/2022/wedstrijd/303
 41
END:VEVENT
BEGIN:VEVENT
UID:https://hbb.rivio.dev/senioren/2022/wedstrijd/30363
DTSTAMP:20260420T184405Z
SUMMARY:Smashing Bruang 1 - RBC 1
DESCRIPTION:Baan 12\, Wedstrijdnummer 1024\, Afdeling Topklasse Midden
DTSTART:20221020T200000
DTEND:20221020T230000
LOCATION:City Resort Helmond
ATTACH;FMTTYPE=text/plain:https://hbb.rivio.dev/senioren/2022/wedstrijd/303
 63
END:VEVENT
BEGIN:VEVENT
UID:https://hbb.rivio.dev/senioren/2022/wedstrijd/30298
DTSTAMP:20260420T184405Z
SUMMARY:RBC 1 - Brabantia 1
DESCRIPTION:Baan 13\, Wedstrijdnummer 1004\, Afdeling Topklasse Degradatie
DTSTART:20221103T200000
DTEND:20221103T230000
LOCATION:City Resort Helmond
ATTACH;FMTTYPE=text/plain:https://hbb.rivio.dev/senioren/2022/wedstrijd/302
 98
END:VEVENT
BEGIN:VEVENT
UID:https://hbb.rivio.dev/senioren/2022/wedstrijd/30399
DTSTAMP:20260420T184405Z
SUMMARY:RBC 1 - De Valken 1
DESCRIPTION:Baan 3\, Wedstrijdnummer 1029\, Afdeling Topklasse Degradatie
DTSTART:20221110T200000
DTEND:20221110T230000
LOCATION:City Resort Helmond
ATTACH;FMTTYPE=text/plain:https://hbb.rivio.dev/senioren/2022/wedstrijd/303
 99
END:VEVENT
BEGIN:VEVENT
UID:https://hbb.rivio.dev/senioren/2022/wedstrijd/30425
DTSTAMP:20260420T184405Z
SUMMARY:Mierlo 2 - RBC 1
DESCRIPTION:Baan 14\, Wedstrijdnummer 1036\, Afdeling Topklasse Degradatie
DTSTART:20221117T200000
DTEND:20221117T230000
LOCATION:City Resort Helmond
ATTACH;FMTTYPE=text/plain:https://hbb.rivio.dev/senioren/2022/wedstrijd/304
 25
END:VEVENT
BEGIN:VEVENT
UID:https://hbb.rivio.dev/senioren/2022/wedstrijd/30462
DTSTAMP:20260420T184405Z
SUMMARY:RBC 1 - Mixed 1
DESCRIPTION:Baan 11\, Wedstrijdnummer 1042\, Afdeling Topklasse Degradatie
DTSTART:20221201T200000
DTEND:20221201T230000
LOCATION:City Resort Helmond
ATTACH;FMTTYPE=text/plain:https://hbb.rivio.dev/senioren/2022/wedstrijd/304
 62
END:VEVENT
BEGIN:VEVENT
UID:https://hbb.rivio.dev/senioren/2022/wedstrijd/30472
DTSTAMP:20260420T184405Z
SUMMARY:Ganzeveer 1 - RBC 1
DESCRIPTION:Baan 15\, Wedstrijdnummer 1045\, Afdeling Topklasse Kampioen
DTSTART:20221207T200000
DTEND:20221207T230000
LOCATION:City Resort Helmond
ATTACH;FMTTYPE=text/plain:https://hbb.rivio.dev/senioren/2022/wedstrijd/304
 72
END:VEVENT
BEGIN:VEVENT
UID:https://hbb.rivio.dev/senioren/2022/wedstrijd/30498
DTSTAMP:20260420T184405Z
SUMMARY:Bakel 1 - RBC 1
DESCRIPTION:Baan 4\, Wedstrijdnummer 1052\, Afdeling Topklasse Midden
DTSTART:20221221T200000
DTEND:20221221T230000
LOCATION:City Resort Helmond
ATTACH;FMTTYPE=text/plain:https://hbb.rivio.dev/senioren/2022/wedstrijd/304
 98
END:VEVENT
BEGIN:VEVENT
UID:https://hbb.rivio.dev/senioren/2022/wedstrijd/30545
DTSTAMP:20260420T184405Z
SUMMARY:Phoenix 1 - RBC 1
DESCRIPTION:Baan 4\, Wedstrijdnummer 1064\, Afdeling Topklasse Kampioen
DTSTART:20230125T200000
DTEND:20230125T230000
LOCATION:City Resort Helmond
ATTACH;FMTTYPE=text/plain:https://hbb.rivio.dev/senioren/2022/wedstrijd/305
 45
END:VEVENT
BEGIN:VEVENT
UID:https://hbb.rivio.dev/senioren/2022/wedstrijd/30581
DTSTAMP:20260420T184405Z
SUMMARY:RBC 1 - Hanevoet 1
DESCRIPTION:Baan 5\, Wedstrijdnummer 1070\, Afdeling Topklasse Degradatie
DTSTART:20230209T200000
DTEND:20230209T230000
LOCATION:City Resort Helmond
ATTACH;FMTTYPE=text/plain:https://hbb.rivio.dev/senioren/2022/wedstrijd/305
 81
END:VEVENT
BEGIN:VEVENT
UID:https://hbb.rivio.dev/senioren/2022/wedstrijd/30609
DTSTAMP:20260420T184405Z
SUMMARY:Someren 1 - RBC 1
DESCRIPTION:Baan 5\, Wedstrijdnummer 1075\, Afdeling Topklasse Midden
DTSTART:20230302T200000
DTEND:20230302T230000
LOCATION:City Resort Helmond
ATTACH;FMTTYPE=text/plain:https://hbb.rivio.dev/senioren/2022/wedstrijd/306
 09
END:VEVENT
BEGIN:VEVENT
UID:https://hbb.rivio.dev/senioren/2022/wedstrijd/30921
DTSTAMP:20260420T184405Z
SUMMARY:RBC 1 - Mierlo 2
DESCRIPTION:Baan 11\, Wedstrijdnummer 2013\, Afdeling Topklasse Degradatie
DTSTART:20230308T200000
DTEND:20230308T230000
LOCATION:City Resort Helmond
ATTACH;FMTTYPE=text/plain:https://hbb.rivio.dev/senioren/2022/wedstrijd/309
 21
END:VEVENT
BEGIN:VEVENT
UID:https://hbb.rivio.dev/senioren/2022/wedstrijd/30925
DTSTAMP:20260420T184405Z
SUMMARY:Brabantia 1 - RBC 1
DESCRIPTION:Baan 5\, Wedstrijdnummer 2020\, Afdeling Topklasse Degradatie
DTSTART:20230322T200000
DTEND:20230322T230000
LOCATION:City Resort Helmond
ATTACH;FMTTYPE=text/plain:https://hbb.rivio.dev/senioren/2022/wedstrijd/309
 25
END:VEVENT
BEGIN:VEVENT
UID:https://hbb.rivio.dev/senioren/2022/wedstrijd/30927
DTSTAMP:20260420T184405Z
SUMMARY:RBC 1 - Mixed 2
DESCRIPTION:Baan 11\, Wedstrijdnummer 2016\, Afdeling Topklasse Degradatie
DTSTART:20230329T200000
DTEND:20230329T230000
LOCATION:City Resort Helmond
ATTACH;FMTTYPE=text/plain:https://hbb.rivio.dev/senioren/2022/wedstrijd/309
 27
END:VEVENT
BEGIN:VEVENT
UID:https://hbb.rivio.dev/senioren/2022/wedstrijd/30933
DTSTAMP:20260420T184405Z
SUMMARY:Hanevoet 1 - RBC 1
DESCRIPTION:Baan 2\, Wedstrijdnummer 2021\, Afdeling Topklasse Degradatie
DTSTART:20230405T200000
DTEND:20230405T230000
LOCATION:City Resort Helmond
ATTACH;FMTTYPE=text/plain:https://hbb.rivio.dev/senioren/2022/wedstrijd/309
 33
END:VEVENT
BEGIN:VTIMEZONE
TZID:Europe/Amsterdam
BEGIN:STANDARD
DTSTART:20220101T000000
TZNAME:CET
TZOFFSETTO:+0100
TZOFFSETFROM:+0100
END:STANDARD
BEGIN:DAYLIGHT
DTSTART:20220327T030000
TZNAME:CEST
TZOFFSETTO:+0200
TZOFFSETFROM:+0100
END:DAYLIGHT
BEGIN:STANDARD
DTSTART:20221030T020000
TZNAME:CET
TZOFFSETTO:+0100
TZOFFSETFROM:+0200
END:STANDARD
BEGIN:DAYLIGHT
DTSTART:20230326T030000
TZNAME:CEST
TZOFFSETTO:+0200
TZOFFSETFROM:+0100
END:DAYLIGHT
BEGIN:STANDARD
DTSTART:20231029T020000
TZNAME:CET
TZOFFSETTO:+0100
TZOFFSETFROM:+0200
END:STANDARD
END:VTIMEZONE
END:VCALENDAR
