BEGIN:VCALENDAR
PRODID:-//eluceo/ical//2.0/EN
VERSION:2.0
CALSCALE:GREGORIAN
BEGIN:VEVENT
UID:https://hbb.rivio.dev/senioren/2022/wedstrijd/30307
DTSTAMP:20260419T150416Z
SUMMARY:De Valken 2 - Mixed 6
DESCRIPTION:Baan 1\, Wedstrijdnummer 1131\, Afdeling 1e klasse 
DTSTART:20221005T200000
DTEND:20221005T230000
LOCATION:City Resort Helmond
ATTACH;FMTTYPE=text/plain:https://hbb.rivio.dev/senioren/2022/wedstrijd/303
 07
END:VEVENT
BEGIN:VEVENT
UID:https://hbb.rivio.dev/senioren/2022/wedstrijd/30346
DTSTAMP:20260419T150416Z
SUMMARY:Mixed 6 - BCAB 1
DESCRIPTION:Baan 15\, Wedstrijdnummer 1133\, Afdeling 2e klasse 
DTSTART:20221013T200000
DTEND:20221013T230000
LOCATION:City Resort Helmond
ATTACH;FMTTYPE=text/plain:https://hbb.rivio.dev/senioren/2022/wedstrijd/303
 46
END:VEVENT
BEGIN:VEVENT
UID:https://hbb.rivio.dev/senioren/2022/wedstrijd/30372
DTSTAMP:20260419T150416Z
SUMMARY:Mixed 6 - Ganzeveer 2
DESCRIPTION:Baan 11\, Wedstrijdnummer 1137\, Afdeling 2e klasse 
DTSTART:20221102T200000
DTEND:20221102T230000
LOCATION:City Resort Helmond
ATTACH;FMTTYPE=text/plain:https://hbb.rivio.dev/senioren/2022/wedstrijd/303
 72
END:VEVENT
BEGIN:VEVENT
UID:https://hbb.rivio.dev/senioren/2022/wedstrijd/30416
DTSTAMP:20260419T150416Z
SUMMARY:Mixed 6 - ASML 1
DESCRIPTION:Baan 15\, Wedstrijdnummer 1141\, Afdeling 2e klasse 
DTSTART:20221116T200000
DTEND:20221116T230000
LOCATION:City Resort Helmond
ATTACH;FMTTYPE=text/plain:https://hbb.rivio.dev/senioren/2022/wedstrijd/304
 16
END:VEVENT
BEGIN:VEVENT
UID:https://hbb.rivio.dev/senioren/2022/wedstrijd/30459
DTSTAMP:20260419T150416Z
SUMMARY:VBSC 1 - Mixed 6
DESCRIPTION:Baan 3\, Wedstrijdnummer 1144\, Afdeling 1e klasse 
DTSTART:20221201T200000
DTEND:20221201T230000
LOCATION:City Resort Helmond
ATTACH;FMTTYPE=text/plain:https://hbb.rivio.dev/senioren/2022/wedstrijd/304
 59
END:VEVENT
BEGIN:VEVENT
UID:https://hbb.rivio.dev/senioren/2022/wedstrijd/30771
DTSTAMP:20260419T150416Z
SUMMARY:Mixed 6 - Bakel 4
DESCRIPTION:Baan 13\, Wedstrijdnummer 2087\, Afdeling 2e klasse 
DTSTART:20221222T200000
DTEND:20221222T230000
LOCATION:City Resort Helmond
ATTACH;FMTTYPE=text/plain:https://hbb.rivio.dev/senioren/2022/wedstrijd/307
 71
END:VEVENT
BEGIN:VEVENT
UID:https://hbb.rivio.dev/senioren/2022/wedstrijd/30774
DTSTAMP:20260419T150416Z
SUMMARY:Phoenix 3 - Mixed 6
DESCRIPTION:Baan 1\, Wedstrijdnummer 2088\, Afdeling 2e klasse 
DTSTART:20230112T200000
DTEND:20230112T230000
LOCATION:City Resort Helmond
ATTACH;FMTTYPE=text/plain:https://hbb.rivio.dev/senioren/2022/wedstrijd/307
 74
END:VEVENT
BEGIN:VEVENT
UID:https://hbb.rivio.dev/senioren/2022/wedstrijd/30785
DTSTAMP:20260419T150416Z
SUMMARY:Mixed 6 - De Valken 3
DESCRIPTION:Baan 13\, Wedstrijdnummer 2095\, Afdeling 2e klasse 
DTSTART:20230126T200000
DTEND:20230126T230000
LOCATION:City Resort Helmond
ATTACH;FMTTYPE=text/plain:https://hbb.rivio.dev/senioren/2022/wedstrijd/307
 85
END:VEVENT
BEGIN:VEVENT
UID:https://hbb.rivio.dev/senioren/2022/wedstrijd/30791
DTSTAMP:20260419T150416Z
SUMMARY:BCAB 1 - Mixed 6
DESCRIPTION:Baan 14\, Wedstrijdnummer 2099\, Afdeling 2e klasse 
DTSTART:20230201T200000
DTEND:20230201T230000
LOCATION:City Resort Helmond
ATTACH;FMTTYPE=text/plain:https://hbb.rivio.dev/senioren/2022/wedstrijd/307
 91
END:VEVENT
BEGIN:VEVENT
UID:https://hbb.rivio.dev/senioren/2022/wedstrijd/30801
DTSTAMP:20260419T150416Z
SUMMARY:Mixed 6 - Mierlo 4
DESCRIPTION:Baan 15\, Wedstrijdnummer 2103\, Afdeling 2e klasse 
DTSTART:20230216T200000
DTEND:20230216T230000
LOCATION:City Resort Helmond
ATTACH;FMTTYPE=text/plain:https://hbb.rivio.dev/senioren/2022/wedstrijd/308
 01
END:VEVENT
BEGIN:VEVENT
UID:https://hbb.rivio.dev/senioren/2022/wedstrijd/30805
DTSTAMP:20260419T150416Z
SUMMARY:Mixed 6 - ASML 1
DESCRIPTION:Baan 12\, Wedstrijdnummer 2107\, Afdeling 2e klasse 
DTSTART:20230301T200000
DTEND:20230301T230000
LOCATION:City Resort Helmond
ATTACH;FMTTYPE=text/plain:https://hbb.rivio.dev/senioren/2022/wedstrijd/308
 05
END:VEVENT
BEGIN:VEVENT
UID:https://hbb.rivio.dev/senioren/2022/wedstrijd/30812
DTSTAMP:20260419T150416Z
SUMMARY:Ganzeveer 3 - Mixed 6
DESCRIPTION:Baan 12\, Wedstrijdnummer 2111\, Afdeling 2e klasse 
DTSTART:20230309T200000
DTEND:20230309T230000
LOCATION:City Resort Helmond
ATTACH;FMTTYPE=text/plain:https://hbb.rivio.dev/senioren/2022/wedstrijd/308
 12
END:VEVENT
BEGIN:VEVENT
UID:https://hbb.rivio.dev/senioren/2022/wedstrijd/30825
DTSTAMP:20260419T150417Z
SUMMARY:Mixed 6 - Mixed 5
DESCRIPTION:Baan 4\, Wedstrijdnummer 2115\, Afdeling 2e klasse 
DTSTART:20230329T200000
DTEND:20230329T230000
LOCATION:City Resort Helmond
ATTACH;FMTTYPE=text/plain:https://hbb.rivio.dev/senioren/2022/wedstrijd/308
 25
END:VEVENT
BEGIN:VTIMEZONE
TZID:Europe/Amsterdam
BEGIN:STANDARD
DTSTART:20220101T000000
TZNAME:CET
TZOFFSETTO:+0100
TZOFFSETFROM:+0100
END:STANDARD
BEGIN:DAYLIGHT
DTSTART:20220327T030000
TZNAME:CEST
TZOFFSETTO:+0200
TZOFFSETFROM:+0100
END:DAYLIGHT
BEGIN:STANDARD
DTSTART:20221030T020000
TZNAME:CET
TZOFFSETTO:+0100
TZOFFSETFROM:+0200
END:STANDARD
BEGIN:DAYLIGHT
DTSTART:20230326T030000
TZNAME:CEST
TZOFFSETTO:+0200
TZOFFSETFROM:+0100
END:DAYLIGHT
BEGIN:STANDARD
DTSTART:20231029T020000
TZNAME:CET
TZOFFSETTO:+0100
TZOFFSETFROM:+0200
END:STANDARD
END:VTIMEZONE
END:VCALENDAR
