BEGIN:VCALENDAR
PRODID:-//eluceo/ical//2.0/EN
VERSION:2.0
CALSCALE:GREGORIAN
BEGIN:VEVENT
UID:https://hbb.rivio.dev/senioren/2022/wedstrijd/30306
DTSTAMP:20260420T151744Z
SUMMARY:Mixed 4 - Hanevoet 2
DESCRIPTION:Baan 15\, Wedstrijdnummer 1100\, Afdeling 1e klasse 
DTSTART:20220929T200000
DTEND:20220929T230000
LOCATION:City Resort Helmond
ATTACH;FMTTYPE=text/plain:https://hbb.rivio.dev/senioren/2022/wedstrijd/303
 06
END:VEVENT
BEGIN:VEVENT
UID:https://hbb.rivio.dev/senioren/2022/wedstrijd/30345
DTSTAMP:20260420T151744Z
SUMMARY:Hanevoet 2 - Someren 2
DESCRIPTION:Baan 14\, Wedstrijdnummer 1104\, Afdeling 1e klasse 
DTSTART:20221013T200000
DTEND:20221013T230000
LOCATION:City Resort Helmond
ATTACH;FMTTYPE=text/plain:https://hbb.rivio.dev/senioren/2022/wedstrijd/303
 45
END:VEVENT
BEGIN:VEVENT
UID:https://hbb.rivio.dev/senioren/2022/wedstrijd/30382
DTSTAMP:20260420T151744Z
SUMMARY:Hanevoet 2 - Mierlo 4
DESCRIPTION:Baan 11\, Wedstrijdnummer 1108\, Afdeling 1e klasse 
DTSTART:20221103T200000
DTEND:20221103T230000
LOCATION:City Resort Helmond
ATTACH;FMTTYPE=text/plain:https://hbb.rivio.dev/senioren/2022/wedstrijd/303
 82
END:VEVENT
BEGIN:VEVENT
UID:https://hbb.rivio.dev/senioren/2022/wedstrijd/30396
DTSTAMP:20260420T151744Z
SUMMARY:Phoenix 3 - Hanevoet 2
DESCRIPTION:Baan 15\, Wedstrijdnummer 1111\, Afdeling 2e klasse 
DTSTART:20221109T200000
DTEND:20221109T230000
LOCATION:City Resort Helmond
ATTACH;FMTTYPE=text/plain:https://hbb.rivio.dev/senioren/2022/wedstrijd/303
 96
END:VEVENT
BEGIN:VEVENT
UID:https://hbb.rivio.dev/senioren/2022/wedstrijd/30445
DTSTAMP:20260420T151744Z
SUMMARY:Bakel 4 - Hanevoet 2
DESCRIPTION:Baan 14\, Wedstrijdnummer 1113\, Afdeling 2e klasse 
DTSTART:20221124T200000
DTEND:20221124T230000
LOCATION:City Resort Helmond
ATTACH;FMTTYPE=text/plain:https://hbb.rivio.dev/senioren/2022/wedstrijd/304
 45
END:VEVENT
BEGIN:VEVENT
UID:https://hbb.rivio.dev/senioren/2022/wedstrijd/30756
DTSTAMP:20260420T151744Z
SUMMARY:Hanevoet 2 - De Valken 2
DESCRIPTION:Baan 3\, Wedstrijdnummer 2044\, Afdeling 1e klasse 
DTSTART:20221207T200000
DTEND:20221207T230000
LOCATION:City Resort Helmond
ATTACH;FMTTYPE=text/plain:https://hbb.rivio.dev/senioren/2022/wedstrijd/307
 56
END:VEVENT
BEGIN:VEVENT
UID:https://hbb.rivio.dev/senioren/2022/wedstrijd/30768
DTSTAMP:20260420T151744Z
SUMMARY:Mixed 4 - Hanevoet 2
DESCRIPTION:Baan 5\, Wedstrijdnummer 2048\, Afdeling 1e klasse 
DTSTART:20221222T200000
DTEND:20221222T230000
LOCATION:City Resort Helmond
ATTACH;FMTTYPE=text/plain:https://hbb.rivio.dev/senioren/2022/wedstrijd/307
 68
END:VEVENT
BEGIN:VEVENT
UID:https://hbb.rivio.dev/senioren/2022/wedstrijd/30772
DTSTAMP:20260420T151744Z
SUMMARY:Hanevoet 2 - VBSC 1
DESCRIPTION:Baan 4\, Wedstrijdnummer 2052\, Afdeling 1e klasse 
DTSTART:20230111T200000
DTEND:20230111T230000
LOCATION:City Resort Helmond
ATTACH;FMTTYPE=text/plain:https://hbb.rivio.dev/senioren/2022/wedstrijd/307
 72
END:VEVENT
BEGIN:VEVENT
UID:https://hbb.rivio.dev/senioren/2022/wedstrijd/30783
DTSTAMP:20260420T151744Z
SUMMARY:BC '85 1 - Hanevoet 2
DESCRIPTION:Baan 11\, Wedstrijdnummer 2058\, Afdeling 1e klasse 
DTSTART:20230126T200000
DTEND:20230126T230000
LOCATION:City Resort Helmond
ATTACH;FMTTYPE=text/plain:https://hbb.rivio.dev/senioren/2022/wedstrijd/307
 83
END:VEVENT
BEGIN:VEVENT
UID:https://hbb.rivio.dev/senioren/2022/wedstrijd/30789
DTSTAMP:20260420T151744Z
SUMMARY:Hanevoet 2 - Geldrop 2
DESCRIPTION:Baan 12\, Wedstrijdnummer 2060\, Afdeling 1e klasse 
DTSTART:20230201T200000
DTEND:20230201T230000
LOCATION:City Resort Helmond
ATTACH;FMTTYPE=text/plain:https://hbb.rivio.dev/senioren/2022/wedstrijd/307
 89
END:VEVENT
BEGIN:VEVENT
UID:https://hbb.rivio.dev/senioren/2022/wedstrijd/30809
DTSTAMP:20260420T151744Z
SUMMARY:Hanevoet 2 - Someren 2
DESCRIPTION:Baan 4\, Wedstrijdnummer 2068\, Afdeling 1e klasse 
DTSTART:20230309T200000
DTEND:20230309T230000
LOCATION:City Resort Helmond
ATTACH;FMTTYPE=text/plain:https://hbb.rivio.dev/senioren/2022/wedstrijd/308
 09
END:VEVENT
BEGIN:VEVENT
UID:https://hbb.rivio.dev/senioren/2022/wedstrijd/30817
DTSTAMP:20260420T151744Z
SUMMARY:Hanevoet 2 - Ganzeveer 2
DESCRIPTION:Baan 13\, Wedstrijdnummer 2072\, Afdeling 1e klasse 
DTSTART:20230315T200000
DTEND:20230315T230000
LOCATION:City Resort Helmond
ATTACH;FMTTYPE=text/plain:https://hbb.rivio.dev/senioren/2022/wedstrijd/308
 17
END:VEVENT
BEGIN:VEVENT
UID:https://hbb.rivio.dev/senioren/2022/wedstrijd/30820
DTSTAMP:20260420T151744Z
SUMMARY:Bakel 3 - Hanevoet 2
DESCRIPTION:Baan 14\, Wedstrijdnummer 2076\, Afdeling 1e klasse 
DTSTART:20230322T200000
DTEND:20230322T230000
LOCATION:City Resort Helmond
ATTACH;FMTTYPE=text/plain:https://hbb.rivio.dev/senioren/2022/wedstrijd/308
 20
END:VEVENT
BEGIN:VTIMEZONE
TZID:Europe/Amsterdam
BEGIN:STANDARD
DTSTART:20220101T000000
TZNAME:CET
TZOFFSETTO:+0100
TZOFFSETFROM:+0100
END:STANDARD
BEGIN:DAYLIGHT
DTSTART:20220327T030000
TZNAME:CEST
TZOFFSETTO:+0200
TZOFFSETFROM:+0100
END:DAYLIGHT
BEGIN:STANDARD
DTSTART:20221030T020000
TZNAME:CET
TZOFFSETTO:+0100
TZOFFSETFROM:+0200
END:STANDARD
BEGIN:DAYLIGHT
DTSTART:20230326T030000
TZNAME:CEST
TZOFFSETTO:+0200
TZOFFSETFROM:+0100
END:DAYLIGHT
BEGIN:STANDARD
DTSTART:20231029T020000
TZNAME:CET
TZOFFSETTO:+0100
TZOFFSETFROM:+0200
END:STANDARD
END:VTIMEZONE
END:VCALENDAR
