BEGIN:VCALENDAR
PRODID:-//eluceo/ical//2.0/EN
VERSION:2.0
CALSCALE:GREGORIAN
BEGIN:VEVENT
UID:https://hbb.rivio.dev/senioren/2022/wedstrijd/30321
DTSTAMP:20260420T165458Z
SUMMARY:Hanevoet 1 - Phoenix 1
DESCRIPTION:Baan 5\, Wedstrijdnummer 1012\, Afdeling Topklasse Degradatie
DTSTART:20221006T200000
DTEND:20221006T230000
LOCATION:City Resort Helmond
ATTACH;FMTTYPE=text/plain:https://hbb.rivio.dev/senioren/2022/wedstrijd/303
 21
END:VEVENT
BEGIN:VEVENT
UID:https://hbb.rivio.dev/senioren/2022/wedstrijd/30340
DTSTAMP:20260420T165458Z
SUMMARY:Hanevoet 1 - Ganzeveer 1
DESCRIPTION:Baan 4\, Wedstrijdnummer 1015\, Afdeling Topklasse Degradatie
DTSTART:20221013T200000
DTEND:20221013T230000
LOCATION:City Resort Helmond
ATTACH;FMTTYPE=text/plain:https://hbb.rivio.dev/senioren/2022/wedstrijd/303
 40
END:VEVENT
BEGIN:VEVENT
UID:https://hbb.rivio.dev/senioren/2022/wedstrijd/30362
DTSTAMP:20260420T165458Z
SUMMARY:Someren 1 - Hanevoet 1
DESCRIPTION:Baan 11\, Wedstrijdnummer 1022\, Afdeling Topklasse Midden
DTSTART:20221020T200000
DTEND:20221020T230000
LOCATION:City Resort Helmond
ATTACH;FMTTYPE=text/plain:https://hbb.rivio.dev/senioren/2022/wedstrijd/303
 62
END:VEVENT
BEGIN:VEVENT
UID:https://hbb.rivio.dev/senioren/2022/wedstrijd/30398
DTSTAMP:20260420T165458Z
SUMMARY:Hanevoet 1 - Brabantia 1
DESCRIPTION:Baan 2\, Wedstrijdnummer 1028\, Afdeling Topklasse Degradatie
DTSTART:20221110T200000
DTEND:20221110T230000
LOCATION:City Resort Helmond
ATTACH;FMTTYPE=text/plain:https://hbb.rivio.dev/senioren/2022/wedstrijd/303
 98
END:VEVENT
BEGIN:VEVENT
UID:https://hbb.rivio.dev/senioren/2022/wedstrijd/30424
DTSTAMP:20260420T165458Z
SUMMARY:Mixed 2 - Hanevoet 1
DESCRIPTION:Baan 13\, Wedstrijdnummer 1035\, Afdeling Topklasse Degradatie
DTSTART:20221117T200000
DTEND:20221117T230000
LOCATION:City Resort Helmond
ATTACH;FMTTYPE=text/plain:https://hbb.rivio.dev/senioren/2022/wedstrijd/304
 24
END:VEVENT
BEGIN:VEVENT
UID:https://hbb.rivio.dev/senioren/2022/wedstrijd/30461
DTSTAMP:20260420T165458Z
SUMMARY:Hanevoet 1 - Mierlo 1
DESCRIPTION:Baan 5\, Wedstrijdnummer 1041\, Afdeling Topklasse Degradatie
DTSTART:20221201T200000
DTEND:20221201T230000
LOCATION:City Resort Helmond
ATTACH;FMTTYPE=text/plain:https://hbb.rivio.dev/senioren/2022/wedstrijd/304
 61
END:VEVENT
BEGIN:VEVENT
UID:https://hbb.rivio.dev/senioren/2022/wedstrijd/30485
DTSTAMP:20260420T165458Z
SUMMARY:Smashing Bruang 1 - Hanevoet 1
DESCRIPTION:Baan 1\, Wedstrijdnummer 1046\, Afdeling Topklasse Midden
DTSTART:20221215T200000
DTEND:20221215T230000
LOCATION:City Resort Helmond
ATTACH;FMTTYPE=text/plain:https://hbb.rivio.dev/senioren/2022/wedstrijd/304
 85
END:VEVENT
BEGIN:VEVENT
UID:https://hbb.rivio.dev/senioren/2022/wedstrijd/30510
DTSTAMP:20260420T165458Z
SUMMARY:Hanevoet 1 - De Valken 1
DESCRIPTION:Baan 15\, Wedstrijdnummer 1054\, Afdeling Topklasse Degradatie
DTSTART:20221222T200000
DTEND:20221222T230000
LOCATION:City Resort Helmond
ATTACH;FMTTYPE=text/plain:https://hbb.rivio.dev/senioren/2022/wedstrijd/305
 10
END:VEVENT
BEGIN:VEVENT
UID:https://hbb.rivio.dev/senioren/2022/wedstrijd/30536
DTSTAMP:20260420T165458Z
SUMMARY:Mierlo 2 - Hanevoet 1
DESCRIPTION:Baan 4\, Wedstrijdnummer 1060\, Afdeling Topklasse Degradatie
DTSTART:20230119T200000
DTEND:20230119T230000
LOCATION:City Resort Helmond
ATTACH;FMTTYPE=text/plain:https://hbb.rivio.dev/senioren/2022/wedstrijd/305
 36
END:VEVENT
BEGIN:VEVENT
UID:https://hbb.rivio.dev/senioren/2022/wedstrijd/30561
DTSTAMP:20260420T165458Z
SUMMARY:Hanevoet 1 - Mixed 1
DESCRIPTION:Baan 3\, Wedstrijdnummer 1066\, Afdeling Topklasse Degradatie
DTSTART:20230202T200000
DTEND:20230202T230000
LOCATION:City Resort Helmond
ATTACH;FMTTYPE=text/plain:https://hbb.rivio.dev/senioren/2022/wedstrijd/305
 61
END:VEVENT
BEGIN:VEVENT
UID:https://hbb.rivio.dev/senioren/2022/wedstrijd/30581
DTSTAMP:20260420T165458Z
SUMMARY:RBC 1 - Hanevoet 1
DESCRIPTION:Baan 5\, Wedstrijdnummer 1070\, Afdeling Topklasse Degradatie
DTSTART:20230209T200000
DTEND:20230209T230000
LOCATION:City Resort Helmond
ATTACH;FMTTYPE=text/plain:https://hbb.rivio.dev/senioren/2022/wedstrijd/305
 81
END:VEVENT
BEGIN:VEVENT
UID:https://hbb.rivio.dev/senioren/2022/wedstrijd/30610
DTSTAMP:20260420T165458Z
SUMMARY:Hanevoet 1 - Bakel 1
DESCRIPTION:Baan 11\, Wedstrijdnummer 1078\, Afdeling Topklasse Degradatie
DTSTART:20230302T200000
DTEND:20230302T230000
LOCATION:City Resort Helmond
ATTACH;FMTTYPE=text/plain:https://hbb.rivio.dev/senioren/2022/wedstrijd/306
 10
END:VEVENT
BEGIN:VEVENT
UID:https://hbb.rivio.dev/senioren/2022/wedstrijd/30923
DTSTAMP:20260420T165458Z
SUMMARY:Hanevoet 1 - Brabantia 1
DESCRIPTION:Baan 15\, Wedstrijdnummer 2017\, Afdeling Topklasse Degradatie
DTSTART:20230316T200000
DTEND:20230316T230000
LOCATION:City Resort Helmond
ATTACH;FMTTYPE=text/plain:https://hbb.rivio.dev/senioren/2022/wedstrijd/309
 23
END:VEVENT
BEGIN:VEVENT
UID:https://hbb.rivio.dev/senioren/2022/wedstrijd/30924
DTSTAMP:20260420T165458Z
SUMMARY:Mixed 2 - Hanevoet 1
DESCRIPTION:Baan 4\, Wedstrijdnummer 2019\, Afdeling Topklasse Degradatie
DTSTART:20230322T200000
DTEND:20230322T230000
LOCATION:City Resort Helmond
ATTACH;FMTTYPE=text/plain:https://hbb.rivio.dev/senioren/2022/wedstrijd/309
 24
END:VEVENT
BEGIN:VEVENT
UID:https://hbb.rivio.dev/senioren/2022/wedstrijd/30931
DTSTAMP:20260420T165458Z
SUMMARY:Mierlo 2 - Hanevoet 1
DESCRIPTION:Baan 15\, Wedstrijdnummer 2015\, Afdeling Topklasse Degradatie
DTSTART:20230330T200000
DTEND:20230330T230000
LOCATION:City Resort Helmond
ATTACH;FMTTYPE=text/plain:https://hbb.rivio.dev/senioren/2022/wedstrijd/309
 31
END:VEVENT
BEGIN:VEVENT
UID:https://hbb.rivio.dev/senioren/2022/wedstrijd/30933
DTSTAMP:20260420T165458Z
SUMMARY:Hanevoet 1 - RBC 1
DESCRIPTION:Baan 2\, Wedstrijdnummer 2021\, Afdeling Topklasse Degradatie
DTSTART:20230405T200000
DTEND:20230405T230000
LOCATION:City Resort Helmond
ATTACH;FMTTYPE=text/plain:https://hbb.rivio.dev/senioren/2022/wedstrijd/309
 33
END:VEVENT
BEGIN:VTIMEZONE
TZID:Europe/Amsterdam
BEGIN:STANDARD
DTSTART:20220101T000000
TZNAME:CET
TZOFFSETTO:+0100
TZOFFSETFROM:+0100
END:STANDARD
BEGIN:DAYLIGHT
DTSTART:20220327T030000
TZNAME:CEST
TZOFFSETTO:+0200
TZOFFSETFROM:+0100
END:DAYLIGHT
BEGIN:STANDARD
DTSTART:20221030T020000
TZNAME:CET
TZOFFSETTO:+0100
TZOFFSETFROM:+0200
END:STANDARD
BEGIN:DAYLIGHT
DTSTART:20230326T030000
TZNAME:CEST
TZOFFSETTO:+0200
TZOFFSETFROM:+0100
END:DAYLIGHT
BEGIN:STANDARD
DTSTART:20231029T020000
TZNAME:CET
TZOFFSETTO:+0100
TZOFFSETFROM:+0200
END:STANDARD
END:VTIMEZONE
END:VCALENDAR
