BEGIN:VCALENDAR
PRODID:-//eluceo/ical//2.0/EN
VERSION:2.0
CALSCALE:GREGORIAN
BEGIN:VEVENT
UID:https://hbb.rivio.dev/senioren/2022/wedstrijd/30291
DTSTAMP:20260420T203141Z
SUMMARY:Geldrop 3 - Mierlo 6
DESCRIPTION:Baan 5\, Wedstrijdnummer 1174\, Afdeling 3e klasse II
DTSTART:20220928T200000
DTEND:20220928T230000
LOCATION:City Resort Helmond
ATTACH;FMTTYPE=text/plain:https://hbb.rivio.dev/senioren/2022/wedstrijd/302
 91
END:VEVENT
BEGIN:VEVENT
UID:https://hbb.rivio.dev/senioren/2022/wedstrijd/30385
DTSTAMP:20260420T203141Z
SUMMARY:Con Brio 1 - Mierlo 6
DESCRIPTION:Baan 14\, Wedstrijdnummer 1179\, Afdeling 3e klasse II
DTSTART:20221103T200000
DTEND:20221103T230000
LOCATION:City Resort Helmond
ATTACH;FMTTYPE=text/plain:https://hbb.rivio.dev/senioren/2022/wedstrijd/303
 85
END:VEVENT
BEGIN:VEVENT
UID:https://hbb.rivio.dev/senioren/2022/wedstrijd/30419
DTSTAMP:20260420T203141Z
SUMMARY:Mierlo 6 - Someren 4
DESCRIPTION:Baan 3\, Wedstrijdnummer 1183\, Afdeling 3e klasse II
DTSTART:20221117T200000
DTEND:20221117T230000
LOCATION:City Resort Helmond
ATTACH;FMTTYPE=text/plain:https://hbb.rivio.dev/senioren/2022/wedstrijd/304
 19
END:VEVENT
BEGIN:VEVENT
UID:https://hbb.rivio.dev/senioren/2022/wedstrijd/30444
DTSTAMP:20260420T203141Z
SUMMARY:Mierlo 6 - Gemert 2
DESCRIPTION:Baan 13\, Wedstrijdnummer 1187\, Afdeling 3e klasse II
DTSTART:20221124T200000
DTEND:20221124T230000
LOCATION:City Resort Helmond
ATTACH;FMTTYPE=text/plain:https://hbb.rivio.dev/senioren/2022/wedstrijd/304
 44
END:VEVENT
BEGIN:VEVENT
UID:https://hbb.rivio.dev/senioren/2022/wedstrijd/30468
DTSTAMP:20260420T203141Z
SUMMARY:Mierlo 6 - BC '85 2
DESCRIPTION:Baan 2\, Wedstrijdnummer 1190\, Afdeling 3e klasse II
DTSTART:20221207T200000
DTEND:20221207T230000
LOCATION:City Resort Helmond
ATTACH;FMTTYPE=text/plain:https://hbb.rivio.dev/senioren/2022/wedstrijd/304
 68
END:VEVENT
BEGIN:VEVENT
UID:https://hbb.rivio.dev/senioren/2022/wedstrijd/30483
DTSTAMP:20260420T203141Z
SUMMARY:ASML 2 - Mierlo 6
DESCRIPTION:Baan 14\, Wedstrijdnummer 2146\, Afdeling 3e klasse II
DTSTART:20221214T200000
DTEND:20221214T230000
LOCATION:City Resort Helmond
ATTACH;FMTTYPE=text/plain:https://hbb.rivio.dev/senioren/2022/wedstrijd/304
 83
END:VEVENT
BEGIN:VEVENT
UID:https://hbb.rivio.dev/senioren/2022/wedstrijd/30513
DTSTAMP:20260420T203141Z
SUMMARY:Mierlo 6 - Geldrop 3
DESCRIPTION:Baan 3\, Wedstrijdnummer 2148\, Afdeling 3e klasse II
DTSTART:20230111T200000
DTEND:20230111T230000
LOCATION:City Resort Helmond
ATTACH;FMTTYPE=text/plain:https://hbb.rivio.dev/senioren/2022/wedstrijd/305
 13
END:VEVENT
BEGIN:VEVENT
UID:https://hbb.rivio.dev/senioren/2022/wedstrijd/30557
DTSTAMP:20260420T203141Z
SUMMARY:Mierlo 6 - Con Brio 1
DESCRIPTION:Baan 3\, Wedstrijdnummer 2153\, Afdeling 3e klasse II
DTSTART:20230201T200000
DTEND:20230201T230000
LOCATION:City Resort Helmond
ATTACH;FMTTYPE=text/plain:https://hbb.rivio.dev/senioren/2022/wedstrijd/305
 57
END:VEVENT
BEGIN:VEVENT
UID:https://hbb.rivio.dev/senioren/2022/wedstrijd/30599
DTSTAMP:20260420T203141Z
SUMMARY:Someren 4 - Mierlo 6
DESCRIPTION:Baan 12\, Wedstrijdnummer 2157\, Afdeling 3e klasse II
DTSTART:20230216T200000
DTEND:20230216T230000
LOCATION:City Resort Helmond
ATTACH;FMTTYPE=text/plain:https://hbb.rivio.dev/senioren/2022/wedstrijd/305
 99
END:VEVENT
BEGIN:VEVENT
UID:https://hbb.rivio.dev/senioren/2022/wedstrijd/30621
DTSTAMP:20260420T203141Z
SUMMARY:Gemert 2 - Mierlo 6
DESCRIPTION:Baan 3\, Wedstrijdnummer 2161\, Afdeling 3e klasse II
DTSTART:20230309T200000
DTEND:20230309T230000
LOCATION:City Resort Helmond
ATTACH;FMTTYPE=text/plain:https://hbb.rivio.dev/senioren/2022/wedstrijd/306
 21
END:VEVENT
BEGIN:VEVENT
UID:https://hbb.rivio.dev/senioren/2022/wedstrijd/30626
DTSTAMP:20260420T203141Z
SUMMARY:BC '85 2 - Mierlo 6
DESCRIPTION:Baan 5\, Wedstrijdnummer 2164\, Afdeling 3e klasse II
DTSTART:20230315T200000
DTEND:20230315T230000
LOCATION:City Resort Helmond
ATTACH;FMTTYPE=text/plain:https://hbb.rivio.dev/senioren/2022/wedstrijd/306
 26
END:VEVENT
BEGIN:VEVENT
UID:https://hbb.rivio.dev/senioren/2022/wedstrijd/30640
DTSTAMP:20260420T203141Z
SUMMARY:Mierlo 6 - ASML 2
DESCRIPTION:Baan 12\, Wedstrijdnummer 2167\, Afdeling 3e klasse II
DTSTART:20230322T200000
DTEND:20230322T230000
LOCATION:City Resort Helmond
ATTACH;FMTTYPE=text/plain:https://hbb.rivio.dev/senioren/2022/wedstrijd/306
 40
END:VEVENT
BEGIN:VTIMEZONE
TZID:Europe/Amsterdam
BEGIN:STANDARD
DTSTART:20220101T000000
TZNAME:CET
TZOFFSETTO:+0100
TZOFFSETFROM:+0100
END:STANDARD
BEGIN:DAYLIGHT
DTSTART:20220327T030000
TZNAME:CEST
TZOFFSETTO:+0200
TZOFFSETFROM:+0100
END:DAYLIGHT
BEGIN:STANDARD
DTSTART:20221030T020000
TZNAME:CET
TZOFFSETTO:+0100
TZOFFSETFROM:+0200
END:STANDARD
BEGIN:DAYLIGHT
DTSTART:20230326T030000
TZNAME:CEST
TZOFFSETTO:+0200
TZOFFSETFROM:+0100
END:DAYLIGHT
BEGIN:STANDARD
DTSTART:20231029T020000
TZNAME:CET
TZOFFSETTO:+0100
TZOFFSETFROM:+0200
END:STANDARD
END:VTIMEZONE
END:VCALENDAR
