BEGIN:VCALENDAR
PRODID:-//eluceo/ical//2.0/EN
VERSION:2.0
CALSCALE:GREGORIAN
BEGIN:VEVENT
UID:https://hbb.rivio.dev/senioren/2022/wedstrijd/30293
DTSTAMP:20260420T220440Z
SUMMARY:Mierlo 5 - Mierlo 7
DESCRIPTION:Baan 12\, Wedstrijdnummer 1145\, Afdeling 3e klasse I
DTSTART:20220928T200000
DTEND:20220928T230000
LOCATION:City Resort Helmond
ATTACH;FMTTYPE=text/plain:https://hbb.rivio.dev/senioren/2022/wedstrijd/302
 93
END:VEVENT
BEGIN:VEVENT
UID:https://hbb.rivio.dev/senioren/2022/wedstrijd/30316
DTSTAMP:20260420T220440Z
SUMMARY:Con Brio 2 - Mierlo 5
DESCRIPTION:Baan 15\, Wedstrijdnummer 1149\, Afdeling 3e klasse I
DTSTART:20221005T200000
DTEND:20221005T230000
LOCATION:City Resort Helmond
ATTACH;FMTTYPE=text/plain:https://hbb.rivio.dev/senioren/2022/wedstrijd/303
 16
END:VEVENT
BEGIN:VEVENT
UID:https://hbb.rivio.dev/senioren/2022/wedstrijd/30368
DTSTAMP:20260420T220440Z
SUMMARY:Mierlo 5 - Gemert 1
DESCRIPTION:Baan 2\, Wedstrijdnummer 1153\, Afdeling 3e klasse I
DTSTART:20221102T200000
DTEND:20221102T230000
LOCATION:City Resort Helmond
ATTACH;FMTTYPE=text/plain:https://hbb.rivio.dev/senioren/2022/wedstrijd/303
 68
END:VEVENT
BEGIN:VEVENT
UID:https://hbb.rivio.dev/senioren/2022/wedstrijd/30406
DTSTAMP:20260420T220440Z
SUMMARY:Heiakker 1 - Mierlo 5
DESCRIPTION:Baan 15\, Wedstrijdnummer 1157\, Afdeling 3e klasse I
DTSTART:20221110T200000
DTEND:20221110T230000
LOCATION:City Resort Helmond
ATTACH;FMTTYPE=text/plain:https://hbb.rivio.dev/senioren/2022/wedstrijd/304
 06
END:VEVENT
BEGIN:VEVENT
UID:https://hbb.rivio.dev/senioren/2022/wedstrijd/30441
DTSTAMP:20260420T220440Z
SUMMARY:Mierlo 5 - BCAB 2
DESCRIPTION:Baan 5\, Wedstrijdnummer 1161\, Afdeling 3e klasse I
DTSTART:20221124T200000
DTEND:20221124T230000
LOCATION:City Resort Helmond
ATTACH;FMTTYPE=text/plain:https://hbb.rivio.dev/senioren/2022/wedstrijd/304
 41
END:VEVENT
BEGIN:VEVENT
UID:https://hbb.rivio.dev/senioren/2022/wedstrijd/30475
DTSTAMP:20260420T220440Z
SUMMARY:Someren 3 - Mierlo 5
DESCRIPTION:Baan 3\, Wedstrijdnummer 1165\, Afdeling 3e klasse I
DTSTART:20221208T200000
DTEND:20221208T230000
LOCATION:City Resort Helmond
ATTACH;FMTTYPE=text/plain:https://hbb.rivio.dev/senioren/2022/wedstrijd/304
 75
END:VEVENT
BEGIN:VEVENT
UID:https://hbb.rivio.dev/senioren/2022/wedstrijd/30493
DTSTAMP:20260420T220440Z
SUMMARY:Mierlo 5 - RBC 2
DESCRIPTION:Baan 14\, Wedstrijdnummer 1169\, Afdeling 3e klasse I
DTSTART:20221215T200000
DTEND:20221215T230000
LOCATION:City Resort Helmond
ATTACH;FMTTYPE=text/plain:https://hbb.rivio.dev/senioren/2022/wedstrijd/304
 93
END:VEVENT
BEGIN:VEVENT
UID:https://hbb.rivio.dev/senioren/2022/wedstrijd/30511
DTSTAMP:20260420T220440Z
SUMMARY:Mierlo 7 - Mierlo 5
DESCRIPTION:Baan 1\, Wedstrijdnummer 2116\, Afdeling 3e klasse I
DTSTART:20230111T200000
DTEND:20230111T230000
LOCATION:City Resort Helmond
ATTACH;FMTTYPE=text/plain:https://hbb.rivio.dev/senioren/2022/wedstrijd/305
 11
END:VEVENT
BEGIN:VEVENT
UID:https://hbb.rivio.dev/senioren/2022/wedstrijd/30533
DTSTAMP:20260420T220440Z
SUMMARY:Mierlo 5 - Con Brio 2
DESCRIPTION:Baan 14\, Wedstrijdnummer 2120\, Afdeling 3e klasse I
DTSTART:20230118T200000
DTEND:20230118T230000
LOCATION:City Resort Helmond
ATTACH;FMTTYPE=text/plain:https://hbb.rivio.dev/senioren/2022/wedstrijd/305
 33
END:VEVENT
BEGIN:VEVENT
UID:https://hbb.rivio.dev/senioren/2022/wedstrijd/30556
DTSTAMP:20260420T220440Z
SUMMARY:Gemert 1 - Mierlo 5
DESCRIPTION:Baan 2\, Wedstrijdnummer 2124\, Afdeling 3e klasse I
DTSTART:20230201T200000
DTEND:20230201T230000
LOCATION:City Resort Helmond
ATTACH;FMTTYPE=text/plain:https://hbb.rivio.dev/senioren/2022/wedstrijd/305
 56
END:VEVENT
BEGIN:VEVENT
UID:https://hbb.rivio.dev/senioren/2022/wedstrijd/30595
DTSTAMP:20260420T220440Z
SUMMARY:Mierlo 5 - Heiakker 1
DESCRIPTION:Baan 3\, Wedstrijdnummer 2128\, Afdeling 3e klasse I
DTSTART:20230216T200000
DTEND:20230216T230000
LOCATION:City Resort Helmond
ATTACH;FMTTYPE=text/plain:https://hbb.rivio.dev/senioren/2022/wedstrijd/305
 95
END:VEVENT
BEGIN:VEVENT
UID:https://hbb.rivio.dev/senioren/2022/wedstrijd/30608
DTSTAMP:20260420T220440Z
SUMMARY:BCAB 2 - Mierlo 5
DESCRIPTION:Baan 4\, Wedstrijdnummer 2132\, Afdeling 3e klasse I
DTSTART:20230302T200000
DTEND:20230302T230000
LOCATION:City Resort Helmond
ATTACH;FMTTYPE=text/plain:https://hbb.rivio.dev/senioren/2022/wedstrijd/306
 08
END:VEVENT
BEGIN:VEVENT
UID:https://hbb.rivio.dev/senioren/2022/wedstrijd/30632
DTSTAMP:20260420T220440Z
SUMMARY:Mierlo 5 - Someren 3
DESCRIPTION:Baan 11\, Wedstrijdnummer 2136\, Afdeling 3e klasse I
DTSTART:20230316T200000
DTEND:20230316T230000
LOCATION:City Resort Helmond
ATTACH;FMTTYPE=text/plain:https://hbb.rivio.dev/senioren/2022/wedstrijd/306
 32
END:VEVENT
BEGIN:VEVENT
UID:https://hbb.rivio.dev/senioren/2022/wedstrijd/30646
DTSTAMP:20260420T220440Z
SUMMARY:RBC 2 - Mierlo 5
DESCRIPTION:Baan 11\, Wedstrijdnummer 2140\, Afdeling 3e klasse I
DTSTART:20230323T200000
DTEND:20230323T230000
LOCATION:City Resort Helmond
ATTACH;FMTTYPE=text/plain:https://hbb.rivio.dev/senioren/2022/wedstrijd/306
 46
END:VEVENT
BEGIN:VTIMEZONE
TZID:Europe/Amsterdam
BEGIN:STANDARD
DTSTART:20220101T000000
TZNAME:CET
TZOFFSETTO:+0100
TZOFFSETFROM:+0100
END:STANDARD
BEGIN:DAYLIGHT
DTSTART:20220327T030000
TZNAME:CEST
TZOFFSETTO:+0200
TZOFFSETFROM:+0100
END:DAYLIGHT
BEGIN:STANDARD
DTSTART:20221030T020000
TZNAME:CET
TZOFFSETTO:+0100
TZOFFSETFROM:+0200
END:STANDARD
BEGIN:DAYLIGHT
DTSTART:20230326T030000
TZNAME:CEST
TZOFFSETTO:+0200
TZOFFSETFROM:+0100
END:DAYLIGHT
BEGIN:STANDARD
DTSTART:20231029T020000
TZNAME:CET
TZOFFSETTO:+0100
TZOFFSETFROM:+0200
END:STANDARD
END:VTIMEZONE
END:VCALENDAR
