BEGIN:VCALENDAR
PRODID:-//eluceo/ical//2.0/EN
VERSION:2.0
CALSCALE:GREGORIAN
BEGIN:VEVENT
UID:https://hbb.rivio.dev/senioren/2022/wedstrijd/30294
DTSTAMP:20260420T150706Z
SUMMARY:Mierlo 4 - Phoenix 3
DESCRIPTION:Baan 13\, Wedstrijdnummer 1101\, Afdeling 2e klasse 
DTSTART:20220928T200000
DTEND:20220928T230000
LOCATION:City Resort Helmond
ATTACH;FMTTYPE=text/plain:https://hbb.rivio.dev/senioren/2022/wedstrijd/302
 94
END:VEVENT
BEGIN:VEVENT
UID:https://hbb.rivio.dev/senioren/2022/wedstrijd/30335
DTSTAMP:20260420T150706Z
SUMMARY:Mierlo 4 - Bakel 4
DESCRIPTION:Baan 14\, Wedstrijdnummer 1105\, Afdeling 2e klasse 
DTSTART:20221012T200000
DTEND:20221012T230000
LOCATION:City Resort Helmond
ATTACH;FMTTYPE=text/plain:https://hbb.rivio.dev/senioren/2022/wedstrijd/303
 35
END:VEVENT
BEGIN:VEVENT
UID:https://hbb.rivio.dev/senioren/2022/wedstrijd/30382
DTSTAMP:20260420T150706Z
SUMMARY:Hanevoet 2 - Mierlo 4
DESCRIPTION:Baan 11\, Wedstrijdnummer 1108\, Afdeling 1e klasse 
DTSTART:20221103T200000
DTEND:20221103T230000
LOCATION:City Resort Helmond
ATTACH;FMTTYPE=text/plain:https://hbb.rivio.dev/senioren/2022/wedstrijd/303
 82
END:VEVENT
BEGIN:VEVENT
UID:https://hbb.rivio.dev/senioren/2022/wedstrijd/30420
DTSTAMP:20260420T150706Z
SUMMARY:Someren 2 - Mierlo 4
DESCRIPTION:Baan 4\, Wedstrijdnummer 1110\, Afdeling 1e klasse 
DTSTART:20221117T200000
DTEND:20221117T230000
LOCATION:City Resort Helmond
ATTACH;FMTTYPE=text/plain:https://hbb.rivio.dev/senioren/2022/wedstrijd/304
 20
END:VEVENT
BEGIN:VEVENT
UID:https://hbb.rivio.dev/senioren/2022/wedstrijd/30436
DTSTAMP:20260420T150706Z
SUMMARY:Mixed 4 - Mierlo 4
DESCRIPTION:Baan 15\, Wedstrijdnummer 1112\, Afdeling 1e klasse 
DTSTART:20221123T200000
DTEND:20221123T230000
LOCATION:City Resort Helmond
ATTACH;FMTTYPE=text/plain:https://hbb.rivio.dev/senioren/2022/wedstrijd/304
 36
END:VEVENT
BEGIN:VEVENT
UID:https://hbb.rivio.dev/senioren/2022/wedstrijd/30762
DTSTAMP:20260420T150706Z
SUMMARY:Bakel 4 - Mierlo 4
DESCRIPTION:Baan 14\, Wedstrijdnummer 2081\, Afdeling 2e klasse 
DTSTART:20221208T200000
DTEND:20221208T230000
LOCATION:City Resort Helmond
ATTACH;FMTTYPE=text/plain:https://hbb.rivio.dev/senioren/2022/wedstrijd/307
 62
END:VEVENT
BEGIN:VEVENT
UID:https://hbb.rivio.dev/senioren/2022/wedstrijd/30770
DTSTAMP:20260420T150706Z
SUMMARY:Mierlo 4 - Phoenix 3
DESCRIPTION:Baan 12\, Wedstrijdnummer 2084\, Afdeling 2e klasse 
DTSTART:20221222T200000
DTEND:20221222T230000
LOCATION:City Resort Helmond
ATTACH;FMTTYPE=text/plain:https://hbb.rivio.dev/senioren/2022/wedstrijd/307
 70
END:VEVENT
BEGIN:VEVENT
UID:https://hbb.rivio.dev/senioren/2022/wedstrijd/30775
DTSTAMP:20260420T150706Z
SUMMARY:De Valken 3 - Mierlo 4
DESCRIPTION:Baan 2\, Wedstrijdnummer 2090\, Afdeling 2e klasse 
DTSTART:20230112T200000
DTEND:20230112T230000
LOCATION:City Resort Helmond
ATTACH;FMTTYPE=text/plain:https://hbb.rivio.dev/senioren/2022/wedstrijd/307
 75
END:VEVENT
BEGIN:VEVENT
UID:https://hbb.rivio.dev/senioren/2022/wedstrijd/30786
DTSTAMP:20260420T150706Z
SUMMARY:Mierlo 4 - BCAB 1
DESCRIPTION:Baan 14\, Wedstrijdnummer 2092\, Afdeling 2e klasse 
DTSTART:20230126T200000
DTEND:20230126T230000
LOCATION:City Resort Helmond
ATTACH;FMTTYPE=text/plain:https://hbb.rivio.dev/senioren/2022/wedstrijd/307
 86
END:VEVENT
BEGIN:VEVENT
UID:https://hbb.rivio.dev/senioren/2022/wedstrijd/30794
DTSTAMP:20260420T150706Z
SUMMARY:Mierlo 4 - ASML 1
DESCRIPTION:Baan 3\, Wedstrijdnummer 2097\, Afdeling 2e klasse 
DTSTART:20230209T200000
DTEND:20230209T230000
LOCATION:City Resort Helmond
ATTACH;FMTTYPE=text/plain:https://hbb.rivio.dev/senioren/2022/wedstrijd/307
 94
END:VEVENT
BEGIN:VEVENT
UID:https://hbb.rivio.dev/senioren/2022/wedstrijd/30801
DTSTAMP:20260420T150706Z
SUMMARY:Mixed 6 - Mierlo 4
DESCRIPTION:Baan 15\, Wedstrijdnummer 2103\, Afdeling 2e klasse 
DTSTART:20230216T200000
DTEND:20230216T230000
LOCATION:City Resort Helmond
ATTACH;FMTTYPE=text/plain:https://hbb.rivio.dev/senioren/2022/wedstrijd/308
 01
END:VEVENT
BEGIN:VEVENT
UID:https://hbb.rivio.dev/senioren/2022/wedstrijd/30802
DTSTAMP:20260420T150706Z
SUMMARY:Mierlo 4 - Ganzeveer 3
DESCRIPTION:Baan 4\, Wedstrijdnummer 2105\, Afdeling 2e klasse 
DTSTART:20230301T200000
DTEND:20230301T230000
LOCATION:City Resort Helmond
ATTACH;FMTTYPE=text/plain:https://hbb.rivio.dev/senioren/2022/wedstrijd/308
 02
END:VEVENT
BEGIN:VEVENT
UID:https://hbb.rivio.dev/senioren/2022/wedstrijd/30813
DTSTAMP:20260420T150706Z
SUMMARY:Mixed 5 - Mierlo 4
DESCRIPTION:Baan 13\, Wedstrijdnummer 2110\, Afdeling 2e klasse 
DTSTART:20230309T200000
DTEND:20230309T230000
LOCATION:City Resort Helmond
ATTACH;FMTTYPE=text/plain:https://hbb.rivio.dev/senioren/2022/wedstrijd/308
 13
END:VEVENT
BEGIN:VTIMEZONE
TZID:Europe/Amsterdam
BEGIN:STANDARD
DTSTART:20220101T000000
TZNAME:CET
TZOFFSETTO:+0100
TZOFFSETFROM:+0100
END:STANDARD
BEGIN:DAYLIGHT
DTSTART:20220327T030000
TZNAME:CEST
TZOFFSETTO:+0200
TZOFFSETFROM:+0100
END:DAYLIGHT
BEGIN:STANDARD
DTSTART:20221030T020000
TZNAME:CET
TZOFFSETTO:+0100
TZOFFSETFROM:+0200
END:STANDARD
BEGIN:DAYLIGHT
DTSTART:20230326T030000
TZNAME:CEST
TZOFFSETTO:+0200
TZOFFSETFROM:+0100
END:DAYLIGHT
BEGIN:STANDARD
DTSTART:20231029T020000
TZNAME:CET
TZOFFSETTO:+0100
TZOFFSETFROM:+0200
END:STANDARD
END:VTIMEZONE
END:VCALENDAR
