BEGIN:VCALENDAR
PRODID:-//eluceo/ical//2.0/EN
VERSION:2.0
CALSCALE:GREGORIAN
BEGIN:VEVENT
UID:https://hbb.rivio.dev/senioren/2022/wedstrijd/30292
DTSTAMP:20260420T234332Z
SUMMARY:Mierlo 3 - Mixed 3
DESCRIPTION:Baan 11\, Wedstrijdnummer 1081\, Afdeling Overgangsklasse 
DTSTART:20220928T200000
DTEND:20220928T230000
LOCATION:City Resort Helmond
ATTACH;FMTTYPE=text/plain:https://hbb.rivio.dev/senioren/2022/wedstrijd/302
 92
END:VEVENT
BEGIN:VEVENT
UID:https://hbb.rivio.dev/senioren/2022/wedstrijd/30339
DTSTAMP:20260420T234332Z
SUMMARY:Geldrop 1 - Mierlo 3
DESCRIPTION:Baan 3\, Wedstrijdnummer 1084\, Afdeling Overgangsklasse 
DTSTART:20221013T200000
DTEND:20221013T230000
LOCATION:City Resort Helmond
ATTACH;FMTTYPE=text/plain:https://hbb.rivio.dev/senioren/2022/wedstrijd/303
 39
END:VEVENT
BEGIN:VEVENT
UID:https://hbb.rivio.dev/senioren/2022/wedstrijd/30391
DTSTAMP:20260420T234332Z
SUMMARY:Phoenix 2 - Mierlo 3
DESCRIPTION:Baan 5\, Wedstrijdnummer 1089\, Afdeling Overgangsklasse 
DTSTART:20221109T200000
DTEND:20221109T230000
LOCATION:City Resort Helmond
ATTACH;FMTTYPE=text/plain:https://hbb.rivio.dev/senioren/2022/wedstrijd/303
 91
END:VEVENT
BEGIN:VEVENT
UID:https://hbb.rivio.dev/senioren/2022/wedstrijd/30439
DTSTAMP:20260420T234332Z
SUMMARY:Eindhoven 1 - Mierlo 3
DESCRIPTION:Baan 3\, Wedstrijdnummer 1091\, Afdeling Overgangsklasse 
DTSTART:20221124T200000
DTEND:20221124T230000
LOCATION:City Resort Helmond
ATTACH;FMTTYPE=text/plain:https://hbb.rivio.dev/senioren/2022/wedstrijd/304
 39
END:VEVENT
BEGIN:VEVENT
UID:https://hbb.rivio.dev/senioren/2022/wedstrijd/30474
DTSTAMP:20260420T234332Z
SUMMARY:Mierlo 3 - Bakel 2
DESCRIPTION:Baan 2\, Wedstrijdnummer 1095\, Afdeling Overgangsklasse 
DTSTART:20221208T200000
DTEND:20221208T230000
LOCATION:City Resort Helmond
ATTACH;FMTTYPE=text/plain:https://hbb.rivio.dev/senioren/2022/wedstrijd/304
 74
END:VEVENT
BEGIN:VEVENT
UID:https://hbb.rivio.dev/senioren/2022/wedstrijd/30491
DTSTAMP:20260420T234332Z
SUMMARY:Mierlo 3 - Smashing Bruang 2
DESCRIPTION:Baan 12\, Wedstrijdnummer 1098\, Afdeling Overgangsklasse 
DTSTART:20221215T200000
DTEND:20221215T230000
LOCATION:City Resort Helmond
ATTACH;FMTTYPE=text/plain:https://hbb.rivio.dev/senioren/2022/wedstrijd/304
 91
END:VEVENT
BEGIN:VEVENT
UID:https://hbb.rivio.dev/senioren/2022/wedstrijd/30503
DTSTAMP:20260420T234332Z
SUMMARY:Mixed 3 - Mierlo 3
DESCRIPTION:Baan 14\, Wedstrijdnummer 2025\, Afdeling Overgangsklasse 
DTSTART:20221221T200000
DTEND:20221221T230000
LOCATION:City Resort Helmond
ATTACH;FMTTYPE=text/plain:https://hbb.rivio.dev/senioren/2022/wedstrijd/305
 03
END:VEVENT
BEGIN:VEVENT
UID:https://hbb.rivio.dev/senioren/2022/wedstrijd/30540
DTSTAMP:20260420T234332Z
SUMMARY:Mierlo 3 - Geldrop 1
DESCRIPTION:Baan 13\, Wedstrijdnummer 2028\, Afdeling Overgangsklasse 
DTSTART:20230119T200000
DTEND:20230119T230000
LOCATION:City Resort Helmond
ATTACH;FMTTYPE=text/plain:https://hbb.rivio.dev/senioren/2022/wedstrijd/305
 40
END:VEVENT
BEGIN:VEVENT
UID:https://hbb.rivio.dev/senioren/2022/wedstrijd/30578
DTSTAMP:20260420T234332Z
SUMMARY:Mierlo 3 - Phoenix 2
DESCRIPTION:Baan 15\, Wedstrijdnummer 2033\, Afdeling Overgangsklasse 
DTSTART:20230208T200000
DTEND:20230208T230000
LOCATION:City Resort Helmond
ATTACH;FMTTYPE=text/plain:https://hbb.rivio.dev/senioren/2022/wedstrijd/305
 78
END:VEVENT
BEGIN:VEVENT
UID:https://hbb.rivio.dev/senioren/2022/wedstrijd/30604
DTSTAMP:20260420T234332Z
SUMMARY:Mierlo 3 - Eindhoven 1
DESCRIPTION:Baan 13\, Wedstrijdnummer 2035\, Afdeling Overgangsklasse 
DTSTART:20230301T200000
DTEND:20230301T230000
LOCATION:City Resort Helmond
ATTACH;FMTTYPE=text/plain:https://hbb.rivio.dev/senioren/2022/wedstrijd/306
 04
END:VEVENT
BEGIN:VEVENT
UID:https://hbb.rivio.dev/senioren/2022/wedstrijd/30631
DTSTAMP:20260420T234332Z
SUMMARY:Bakel 2 - Mierlo 3
DESCRIPTION:Baan 5\, Wedstrijdnummer 2039\, Afdeling Overgangsklasse 
DTSTART:20230316T200000
DTEND:20230316T230000
LOCATION:City Resort Helmond
ATTACH;FMTTYPE=text/plain:https://hbb.rivio.dev/senioren/2022/wedstrijd/306
 31
END:VEVENT
BEGIN:VEVENT
UID:https://hbb.rivio.dev/senioren/2022/wedstrijd/30654
DTSTAMP:20260420T234332Z
SUMMARY:Smashing Bruang 2 - Mierlo 3
DESCRIPTION:Baan 4\, Wedstrijdnummer 2042\, Afdeling Overgangsklasse 
DTSTART:20230330T200000
DTEND:20230330T230000
LOCATION:City Resort Helmond
ATTACH;FMTTYPE=text/plain:https://hbb.rivio.dev/senioren/2022/wedstrijd/306
 54
END:VEVENT
BEGIN:VTIMEZONE
TZID:Europe/Amsterdam
BEGIN:STANDARD
DTSTART:20220101T000000
TZNAME:CET
TZOFFSETTO:+0100
TZOFFSETFROM:+0100
END:STANDARD
BEGIN:DAYLIGHT
DTSTART:20220327T030000
TZNAME:CEST
TZOFFSETTO:+0200
TZOFFSETFROM:+0100
END:DAYLIGHT
BEGIN:STANDARD
DTSTART:20221030T020000
TZNAME:CET
TZOFFSETTO:+0100
TZOFFSETFROM:+0200
END:STANDARD
BEGIN:DAYLIGHT
DTSTART:20230326T030000
TZNAME:CEST
TZOFFSETTO:+0200
TZOFFSETFROM:+0100
END:DAYLIGHT
BEGIN:STANDARD
DTSTART:20231029T020000
TZNAME:CET
TZOFFSETTO:+0100
TZOFFSETFROM:+0200
END:STANDARD
END:VTIMEZONE
END:VCALENDAR
