BEGIN:VCALENDAR
PRODID:-//eluceo/ical//2.0/EN
VERSION:2.0
CALSCALE:GREGORIAN
BEGIN:VEVENT
UID:https://hbb.rivio.dev/senioren/2022/wedstrijd/30290
DTSTAMP:20260420T183943Z
SUMMARY:Mierlo 2 - Mierlo 1
DESCRIPTION:Baan 4\, Wedstrijdnummer 1006\, Afdeling Topklasse Degradatie
DTSTART:20220928T200000
DTEND:20220928T230000
LOCATION:City Resort Helmond
ATTACH;FMTTYPE=text/plain:https://hbb.rivio.dev/senioren/2022/wedstrijd/302
 90
END:VEVENT
BEGIN:VEVENT
UID:https://hbb.rivio.dev/senioren/2022/wedstrijd/30312
DTSTAMP:20260420T183943Z
SUMMARY:Smashing Bruang 1 - Mierlo 2
DESCRIPTION:Baan 11\, Wedstrijdnummer 1010\, Afdeling Topklasse Midden
DTSTART:20221005T200000
DTEND:20221005T230000
LOCATION:City Resort Helmond
ATTACH;FMTTYPE=text/plain:https://hbb.rivio.dev/senioren/2022/wedstrijd/303
 12
END:VEVENT
BEGIN:VEVENT
UID:https://hbb.rivio.dev/senioren/2022/wedstrijd/30330
DTSTAMP:20260420T183943Z
SUMMARY:Mierlo 2 - De Valken 1
DESCRIPTION:Baan 4\, Wedstrijdnummer 1018\, Afdeling Topklasse Degradatie
DTSTART:20221012T200000
DTEND:20221012T230000
LOCATION:City Resort Helmond
ATTACH;FMTTYPE=text/plain:https://hbb.rivio.dev/senioren/2022/wedstrijd/303
 30
END:VEVENT
BEGIN:VEVENT
UID:https://hbb.rivio.dev/senioren/2022/wedstrijd/30367
DTSTAMP:20260420T183943Z
SUMMARY:Ganzeveer 1 - Mierlo 2
DESCRIPTION:Baan 1\, Wedstrijdnummer 1023\, Afdeling Topklasse Kampioen
DTSTART:20221102T200000
DTEND:20221102T230000
LOCATION:City Resort Helmond
ATTACH;FMTTYPE=text/plain:https://hbb.rivio.dev/senioren/2022/wedstrijd/303
 67
END:VEVENT
BEGIN:VEVENT
UID:https://hbb.rivio.dev/senioren/2022/wedstrijd/30390
DTSTAMP:20260420T183943Z
SUMMARY:Mixed 1 - Mierlo 2
DESCRIPTION:Baan 4\, Wedstrijdnummer 1030\, Afdeling Topklasse Midden
DTSTART:20221109T200000
DTEND:20221109T230000
LOCATION:City Resort Helmond
ATTACH;FMTTYPE=text/plain:https://hbb.rivio.dev/senioren/2022/wedstrijd/303
 90
END:VEVENT
BEGIN:VEVENT
UID:https://hbb.rivio.dev/senioren/2022/wedstrijd/30425
DTSTAMP:20260420T183944Z
SUMMARY:Mierlo 2 - RBC 1
DESCRIPTION:Baan 14\, Wedstrijdnummer 1036\, Afdeling Topklasse Degradatie
DTSTART:20221117T200000
DTEND:20221117T230000
LOCATION:City Resort Helmond
ATTACH;FMTTYPE=text/plain:https://hbb.rivio.dev/senioren/2022/wedstrijd/304
 25
END:VEVENT
BEGIN:VEVENT
UID:https://hbb.rivio.dev/senioren/2022/wedstrijd/30452
DTSTAMP:20260420T183944Z
SUMMARY:Bakel 1 - Mierlo 2
DESCRIPTION:Baan 11\, Wedstrijdnummer 1040\, Afdeling Topklasse Midden
DTSTART:20221130T200000
DTEND:20221130T230000
LOCATION:City Resort Helmond
ATTACH;FMTTYPE=text/plain:https://hbb.rivio.dev/senioren/2022/wedstrijd/304
 52
END:VEVENT
BEGIN:VEVENT
UID:https://hbb.rivio.dev/senioren/2022/wedstrijd/30496
DTSTAMP:20260420T183944Z
SUMMARY:Phoenix 1 - Mierlo 2
DESCRIPTION:Baan 2\, Wedstrijdnummer 1051\, Afdeling Topklasse Kampioen
DTSTART:20221221T200000
DTEND:20221221T230000
LOCATION:City Resort Helmond
ATTACH;FMTTYPE=text/plain:https://hbb.rivio.dev/senioren/2022/wedstrijd/304
 96
END:VEVENT
BEGIN:VEVENT
UID:https://hbb.rivio.dev/senioren/2022/wedstrijd/30536
DTSTAMP:20260420T183944Z
SUMMARY:Mierlo 2 - Hanevoet 1
DESCRIPTION:Baan 4\, Wedstrijdnummer 1060\, Afdeling Topklasse Degradatie
DTSTART:20230119T200000
DTEND:20230119T230000
LOCATION:City Resort Helmond
ATTACH;FMTTYPE=text/plain:https://hbb.rivio.dev/senioren/2022/wedstrijd/305
 36
END:VEVENT
BEGIN:VEVENT
UID:https://hbb.rivio.dev/senioren/2022/wedstrijd/30560
DTSTAMP:20260420T183944Z
SUMMARY:Someren 1 - Mierlo 2
DESCRIPTION:Baan 2\, Wedstrijdnummer 1063\, Afdeling Topklasse Midden
DTSTART:20230202T200000
DTEND:20230202T230000
LOCATION:City Resort Helmond
ATTACH;FMTTYPE=text/plain:https://hbb.rivio.dev/senioren/2022/wedstrijd/305
 60
END:VEVENT
BEGIN:VEVENT
UID:https://hbb.rivio.dev/senioren/2022/wedstrijd/30573
DTSTAMP:20260420T183944Z
SUMMARY:Mierlo 2 - Brabantia 1
DESCRIPTION:Baan 5\, Wedstrijdnummer 1072\, Afdeling Topklasse Degradatie
DTSTART:20230208T200000
DTEND:20230208T230000
LOCATION:City Resort Helmond
ATTACH;FMTTYPE=text/plain:https://hbb.rivio.dev/senioren/2022/wedstrijd/305
 73
END:VEVENT
BEGIN:VEVENT
UID:https://hbb.rivio.dev/senioren/2022/wedstrijd/30590
DTSTAMP:20260420T183944Z
SUMMARY:Mixed 2 - Mierlo 2
DESCRIPTION:Baan 13\, Wedstrijdnummer 1077\, Afdeling Topklasse Degradatie
DTSTART:20230215T200000
DTEND:20230215T230000
LOCATION:City Resort Helmond
ATTACH;FMTTYPE=text/plain:https://hbb.rivio.dev/senioren/2022/wedstrijd/305
 90
END:VEVENT
BEGIN:VEVENT
UID:https://hbb.rivio.dev/senioren/2022/wedstrijd/30921
DTSTAMP:20260420T183944Z
SUMMARY:RBC 1 - Mierlo 2
DESCRIPTION:Baan 11\, Wedstrijdnummer 2013\, Afdeling Topklasse Degradatie
DTSTART:20230308T200000
DTEND:20230308T230000
LOCATION:City Resort Helmond
ATTACH;FMTTYPE=text/plain:https://hbb.rivio.dev/senioren/2022/wedstrijd/309
 21
END:VEVENT
BEGIN:VEVENT
UID:https://hbb.rivio.dev/senioren/2022/wedstrijd/30922
DTSTAMP:20260420T183944Z
SUMMARY:Mierlo 2 - Mixed 2
DESCRIPTION:Baan 15\, Wedstrijdnummer 2018\, Afdeling Topklasse Degradatie
DTSTART:20230315T200000
DTEND:20230315T230000
LOCATION:City Resort Helmond
ATTACH;FMTTYPE=text/plain:https://hbb.rivio.dev/senioren/2022/wedstrijd/309
 22
END:VEVENT
BEGIN:VEVENT
UID:https://hbb.rivio.dev/senioren/2022/wedstrijd/30931
DTSTAMP:20260420T183944Z
SUMMARY:Mierlo 2 - Hanevoet 1
DESCRIPTION:Baan 15\, Wedstrijdnummer 2015\, Afdeling Topklasse Degradatie
DTSTART:20230330T200000
DTEND:20230330T230000
LOCATION:City Resort Helmond
ATTACH;FMTTYPE=text/plain:https://hbb.rivio.dev/senioren/2022/wedstrijd/309
 31
END:VEVENT
BEGIN:VEVENT
UID:https://hbb.rivio.dev/senioren/2022/wedstrijd/30932
DTSTAMP:20260420T183944Z
SUMMARY:Brabantia 1 - Mierlo 2
DESCRIPTION:Baan 1\, Wedstrijdnummer 2022\, Afdeling Topklasse Degradatie
DTSTART:20230405T200000
DTEND:20230405T230000
LOCATION:City Resort Helmond
ATTACH;FMTTYPE=text/plain:https://hbb.rivio.dev/senioren/2022/wedstrijd/309
 32
END:VEVENT
BEGIN:VTIMEZONE
TZID:Europe/Amsterdam
BEGIN:STANDARD
DTSTART:20220101T000000
TZNAME:CET
TZOFFSETTO:+0100
TZOFFSETFROM:+0100
END:STANDARD
BEGIN:DAYLIGHT
DTSTART:20220327T030000
TZNAME:CEST
TZOFFSETTO:+0200
TZOFFSETFROM:+0100
END:DAYLIGHT
BEGIN:STANDARD
DTSTART:20221030T020000
TZNAME:CET
TZOFFSETTO:+0100
TZOFFSETFROM:+0200
END:STANDARD
BEGIN:DAYLIGHT
DTSTART:20230326T030000
TZNAME:CEST
TZOFFSETTO:+0200
TZOFFSETFROM:+0100
END:DAYLIGHT
BEGIN:STANDARD
DTSTART:20231029T020000
TZNAME:CET
TZOFFSETTO:+0100
TZOFFSETFROM:+0200
END:STANDARD
END:VTIMEZONE
END:VCALENDAR
