BEGIN:VCALENDAR
PRODID:-//eluceo/ical//2.0/EN
VERSION:2.0
CALSCALE:GREGORIAN
BEGIN:VEVENT
UID:https://hbb.rivio.dev/jeugd/2022/wedstrijd/30684
DTSTAMP:20260420T151439Z
SUMMARY:Phoenix 1 - Brabantia 1
DESCRIPTION:Baan 1\, Wedstrijdnummer 23\, Afdeling E-klasse 
DTSTART:20221016T093000
DTEND:20221016T111500
LOCATION:City Resort Helmond
ATTACH;FMTTYPE=text/plain:https://hbb.rivio.dev/jeugd/2022/wedstrijd/30684
END:VEVENT
BEGIN:VEVENT
UID:https://hbb.rivio.dev/jeugd/2022/wedstrijd/30702
DTSTAMP:20260420T151439Z
SUMMARY:Brabantia 1 - Mixed 2
DESCRIPTION:Baan 12\, Wedstrijdnummer 41\, Afdeling E-klasse 
DTSTART:20221106T093000
DTEND:20221106T111500
LOCATION:City Resort Helmond
ATTACH;FMTTYPE=text/plain:https://hbb.rivio.dev/jeugd/2022/wedstrijd/30702
END:VEVENT
BEGIN:VEVENT
UID:https://hbb.rivio.dev/jeugd/2022/wedstrijd/30712
DTSTAMP:20260420T151439Z
SUMMARY:Mierlo 4 - Brabantia 1
DESCRIPTION:Baan 12\, Wedstrijdnummer 51\, Afdeling E-klasse 
DTSTART:20221113T093000
DTEND:20221113T111500
LOCATION:City Resort Helmond
ATTACH;FMTTYPE=text/plain:https://hbb.rivio.dev/jeugd/2022/wedstrijd/30712
END:VEVENT
BEGIN:VEVENT
UID:https://hbb.rivio.dev/jeugd/2022/wedstrijd/30750
DTSTAMP:20260420T151439Z
SUMMARY:Brabantia 1 - Gemert 1
DESCRIPTION:Baan 5\, Wedstrijdnummer 89\, Afdeling E-klasse 
DTSTART:20221218T093000
DTEND:20221218T111500
LOCATION:City Resort Helmond
ATTACH;FMTTYPE=text/plain:https://hbb.rivio.dev/jeugd/2022/wedstrijd/30750
END:VEVENT
BEGIN:VTIMEZONE
TZID:Europe/Amsterdam
BEGIN:STANDARD
DTSTART:20220101T000000
TZNAME:CET
TZOFFSETTO:+0100
TZOFFSETFROM:+0100
END:STANDARD
BEGIN:DAYLIGHT
DTSTART:20220327T030000
TZNAME:CEST
TZOFFSETTO:+0200
TZOFFSETFROM:+0100
END:DAYLIGHT
BEGIN:STANDARD
DTSTART:20221030T020000
TZNAME:CET
TZOFFSETTO:+0100
TZOFFSETFROM:+0200
END:STANDARD
END:VTIMEZONE
END:VCALENDAR
