BEGIN:VCALENDAR
PRODID:-//eluceo/ical//2.0/EN
VERSION:2.0
CALSCALE:GREGORIAN
BEGIN:VEVENT
UID:https://hbb.rivio.dev/senioren/2022/wedstrijd/30322
DTSTAMP:20260420T150737Z
SUMMARY:Never Down 1 - Gemert 4
DESCRIPTION:Baan 11\, Wedstrijdnummer 1191\, Afdeling 4e klasse I
DTSTART:20221006T200000
DTEND:20221006T230000
LOCATION:City Resort Helmond
ATTACH;FMTTYPE=text/plain:https://hbb.rivio.dev/senioren/2022/wedstrijd/303
 22
END:VEVENT
BEGIN:VEVENT
UID:https://hbb.rivio.dev/senioren/2022/wedstrijd/30350
DTSTAMP:20260420T150737Z
SUMMARY:Gemert 4 - Ganzeveer 5
DESCRIPTION:Baan 4\, Wedstrijdnummer 1196\, Afdeling 4e klasse I
DTSTART:20221019T200000
DTEND:20221019T230000
LOCATION:City Resort Helmond
ATTACH;FMTTYPE=text/plain:https://hbb.rivio.dev/senioren/2022/wedstrijd/303
 50
END:VEVENT
BEGIN:VEVENT
UID:https://hbb.rivio.dev/senioren/2022/wedstrijd/30374
DTSTAMP:20260420T150738Z
SUMMARY:Gemert 4 - Someren 5
DESCRIPTION:Baan 13\, Wedstrijdnummer 1201\, Afdeling 4e klasse I
DTSTART:20221102T200000
DTEND:20221102T230000
LOCATION:City Resort Helmond
ATTACH;FMTTYPE=text/plain:https://hbb.rivio.dev/senioren/2022/wedstrijd/303
 74
END:VEVENT
BEGIN:VEVENT
UID:https://hbb.rivio.dev/senioren/2022/wedstrijd/30408
DTSTAMP:20260420T150738Z
SUMMARY:Gemert 4 - Heeze 1
DESCRIPTION:Baan 2\, Wedstrijdnummer 1206\, Afdeling 4e klasse I
DTSTART:20221116T200000
DTEND:20221116T230000
LOCATION:City Resort Helmond
ATTACH;FMTTYPE=text/plain:https://hbb.rivio.dev/senioren/2022/wedstrijd/304
 08
END:VEVENT
BEGIN:VEVENT
UID:https://hbb.rivio.dev/senioren/2022/wedstrijd/30464
DTSTAMP:20260420T150738Z
SUMMARY:Heiakker 2 - Gemert 4
DESCRIPTION:Baan 13\, Wedstrijdnummer 1210\, Afdeling 4e klasse I
DTSTART:20221201T200000
DTEND:20221201T230000
LOCATION:City Resort Helmond
ATTACH;FMTTYPE=text/plain:https://hbb.rivio.dev/senioren/2022/wedstrijd/304
 64
END:VEVENT
BEGIN:VEVENT
UID:https://hbb.rivio.dev/senioren/2022/wedstrijd/30467
DTSTAMP:20260420T150738Z
SUMMARY:Mierlo 8 - Gemert 4
DESCRIPTION:Baan 1\, Wedstrijdnummer 1213\, Afdeling 4e klasse I
DTSTART:20221207T200000
DTEND:20221207T230000
LOCATION:City Resort Helmond
ATTACH;FMTTYPE=text/plain:https://hbb.rivio.dev/senioren/2022/wedstrijd/304
 67
END:VEVENT
BEGIN:VEVENT
UID:https://hbb.rivio.dev/senioren/2022/wedstrijd/30499
DTSTAMP:20260420T150738Z
SUMMARY:Smashing Bruang 3 - Gemert 4
DESCRIPTION:Baan 5\, Wedstrijdnummer 1216\, Afdeling 4e klasse I
DTSTART:20221221T200000
DTEND:20221221T230000
LOCATION:City Resort Helmond
ATTACH;FMTTYPE=text/plain:https://hbb.rivio.dev/senioren/2022/wedstrijd/304
 99
END:VEVENT
BEGIN:VEVENT
UID:https://hbb.rivio.dev/senioren/2022/wedstrijd/30528
DTSTAMP:20260420T150738Z
SUMMARY:Gemert 4 - Never Down 1
DESCRIPTION:Baan 4\, Wedstrijdnummer 2168\, Afdeling 4e klasse I
DTSTART:20230118T200000
DTEND:20230118T230000
LOCATION:City Resort Helmond
ATTACH;FMTTYPE=text/plain:https://hbb.rivio.dev/senioren/2022/wedstrijd/305
 28
END:VEVENT
BEGIN:VEVENT
UID:https://hbb.rivio.dev/senioren/2022/wedstrijd/30547
DTSTAMP:20260420T150738Z
SUMMARY:Ganzeveer 5 - Gemert 4
DESCRIPTION:Baan 11\, Wedstrijdnummer 2173\, Afdeling 4e klasse I
DTSTART:20230125T200000
DTEND:20230125T230000
LOCATION:City Resort Helmond
ATTACH;FMTTYPE=text/plain:https://hbb.rivio.dev/senioren/2022/wedstrijd/305
 47
END:VEVENT
BEGIN:VEVENT
UID:https://hbb.rivio.dev/senioren/2022/wedstrijd/30585
DTSTAMP:20260420T150738Z
SUMMARY:Someren 5 - Gemert 4
DESCRIPTION:Baan 14\, Wedstrijdnummer 2178\, Afdeling 4e klasse I
DTSTART:20230209T200000
DTEND:20230209T230000
LOCATION:City Resort Helmond
ATTACH;FMTTYPE=text/plain:https://hbb.rivio.dev/senioren/2022/wedstrijd/305
 85
END:VEVENT
BEGIN:VEVENT
UID:https://hbb.rivio.dev/senioren/2022/wedstrijd/30591
DTSTAMP:20260420T150738Z
SUMMARY:Heeze 1 - Gemert 4
DESCRIPTION:Baan 14\, Wedstrijdnummer 2183\, Afdeling 4e klasse I
DTSTART:20230215T200000
DTEND:20230215T230000
LOCATION:City Resort Helmond
ATTACH;FMTTYPE=text/plain:https://hbb.rivio.dev/senioren/2022/wedstrijd/305
 91
END:VEVENT
BEGIN:VEVENT
UID:https://hbb.rivio.dev/senioren/2022/wedstrijd/30618
DTSTAMP:20260420T150738Z
SUMMARY:Gemert 4 - Heiakker 2
DESCRIPTION:Baan 15\, Wedstrijdnummer 2187\, Afdeling 4e klasse I
DTSTART:20230308T200000
DTEND:20230308T230000
LOCATION:City Resort Helmond
ATTACH;FMTTYPE=text/plain:https://hbb.rivio.dev/senioren/2022/wedstrijd/306
 18
END:VEVENT
BEGIN:VEVENT
UID:https://hbb.rivio.dev/senioren/2022/wedstrijd/30637
DTSTAMP:20260420T150738Z
SUMMARY:Gemert 4 - Mierlo 8
DESCRIPTION:Baan 2\, Wedstrijdnummer 2190\, Afdeling 4e klasse I
DTSTART:20230322T200000
DTEND:20230322T230000
LOCATION:City Resort Helmond
ATTACH;FMTTYPE=text/plain:https://hbb.rivio.dev/senioren/2022/wedstrijd/306
 37
END:VEVENT
BEGIN:VEVENT
UID:https://hbb.rivio.dev/senioren/2022/wedstrijd/30651
DTSTAMP:20260420T150738Z
SUMMARY:Gemert 4 - Smashing Bruang 3
DESCRIPTION:Baan 14\, Wedstrijdnummer 2193\, Afdeling 4e klasse I
DTSTART:20230329T200000
DTEND:20230329T230000
LOCATION:City Resort Helmond
ATTACH;FMTTYPE=text/plain:https://hbb.rivio.dev/senioren/2022/wedstrijd/306
 51
END:VEVENT
BEGIN:VTIMEZONE
TZID:Europe/Amsterdam
BEGIN:STANDARD
DTSTART:20220101T000000
TZNAME:CET
TZOFFSETTO:+0100
TZOFFSETFROM:+0100
END:STANDARD
BEGIN:DAYLIGHT
DTSTART:20220327T030000
TZNAME:CEST
TZOFFSETTO:+0200
TZOFFSETFROM:+0100
END:DAYLIGHT
BEGIN:STANDARD
DTSTART:20221030T020000
TZNAME:CET
TZOFFSETTO:+0100
TZOFFSETFROM:+0200
END:STANDARD
BEGIN:DAYLIGHT
DTSTART:20230326T030000
TZNAME:CEST
TZOFFSETTO:+0200
TZOFFSETFROM:+0100
END:DAYLIGHT
BEGIN:STANDARD
DTSTART:20231029T020000
TZNAME:CET
TZOFFSETTO:+0100
TZOFFSETFROM:+0200
END:STANDARD
END:VTIMEZONE
END:VCALENDAR
