BEGIN:VCALENDAR
PRODID:-//eluceo/ical//2.0/EN
VERSION:2.0
CALSCALE:GREGORIAN
BEGIN:VEVENT
UID:https://hbb.rivio.dev/senioren/2022/wedstrijd/30305
DTSTAMP:20260420T165733Z
SUMMARY:Someren 4 - ASML 2
DESCRIPTION:Baan 14\, Wedstrijdnummer 1175\, Afdeling 3e klasse II
DTSTART:20220929T200000
DTEND:20220929T230000
LOCATION:City Resort Helmond
ATTACH;FMTTYPE=text/plain:https://hbb.rivio.dev/senioren/2022/wedstrijd/303
 05
END:VEVENT
BEGIN:VEVENT
UID:https://hbb.rivio.dev/senioren/2022/wedstrijd/30344
DTSTAMP:20260420T165733Z
SUMMARY:Gemert 2 - ASML 2
DESCRIPTION:Baan 13\, Wedstrijdnummer 1177\, Afdeling 3e klasse II
DTSTART:20221013T200000
DTEND:20221013T230000
LOCATION:City Resort Helmond
ATTACH;FMTTYPE=text/plain:https://hbb.rivio.dev/senioren/2022/wedstrijd/303
 44
END:VEVENT
BEGIN:VEVENT
UID:https://hbb.rivio.dev/senioren/2022/wedstrijd/30386
DTSTAMP:20260420T165733Z
SUMMARY:BC '85 2 - ASML 2
DESCRIPTION:Baan 15\, Wedstrijdnummer 1180\, Afdeling 3e klasse II
DTSTART:20221103T200000
DTEND:20221103T230000
LOCATION:City Resort Helmond
ATTACH;FMTTYPE=text/plain:https://hbb.rivio.dev/senioren/2022/wedstrijd/303
 86
END:VEVENT
BEGIN:VEVENT
UID:https://hbb.rivio.dev/senioren/2022/wedstrijd/30393
DTSTAMP:20260420T165733Z
SUMMARY:ASML 2 - Con Brio 1
DESCRIPTION:Baan 12\, Wedstrijdnummer 1182\, Afdeling 3e klasse II
DTSTART:20221109T200000
DTEND:20221109T230000
LOCATION:City Resort Helmond
ATTACH;FMTTYPE=text/plain:https://hbb.rivio.dev/senioren/2022/wedstrijd/303
 93
END:VEVENT
BEGIN:VEVENT
UID:https://hbb.rivio.dev/senioren/2022/wedstrijd/30435
DTSTAMP:20260420T165733Z
SUMMARY:ASML 2 - Geldrop 3
DESCRIPTION:Baan 14\, Wedstrijdnummer 1186\, Afdeling 3e klasse II
DTSTART:20221123T200000
DTEND:20221123T230000
LOCATION:City Resort Helmond
ATTACH;FMTTYPE=text/plain:https://hbb.rivio.dev/senioren/2022/wedstrijd/304
 35
END:VEVENT
BEGIN:VEVENT
UID:https://hbb.rivio.dev/senioren/2022/wedstrijd/30483
DTSTAMP:20260420T165733Z
SUMMARY:ASML 2 - Mierlo 6
DESCRIPTION:Baan 14\, Wedstrijdnummer 2146\, Afdeling 3e klasse II
DTSTART:20221214T200000
DTEND:20221214T230000
LOCATION:City Resort Helmond
ATTACH;FMTTYPE=text/plain:https://hbb.rivio.dev/senioren/2022/wedstrijd/304
 83
END:VEVENT
BEGIN:VEVENT
UID:https://hbb.rivio.dev/senioren/2022/wedstrijd/30526
DTSTAMP:20260420T165733Z
SUMMARY:ASML 2 - Someren 4
DESCRIPTION:Baan 15\, Wedstrijdnummer 2149\, Afdeling 3e klasse II
DTSTART:20230112T200000
DTEND:20230112T230000
LOCATION:City Resort Helmond
ATTACH;FMTTYPE=text/plain:https://hbb.rivio.dev/senioren/2022/wedstrijd/305
 26
END:VEVENT
BEGIN:VEVENT
UID:https://hbb.rivio.dev/senioren/2022/wedstrijd/30553
DTSTAMP:20260420T165733Z
SUMMARY:ASML 2 - Gemert 2
DESCRIPTION:Baan 2\, Wedstrijdnummer 2151\, Afdeling 3e klasse II
DTSTART:20230126T200000
DTEND:20230126T230000
LOCATION:City Resort Helmond
ATTACH;FMTTYPE=text/plain:https://hbb.rivio.dev/senioren/2022/wedstrijd/305
 53
END:VEVENT
BEGIN:VEVENT
UID:https://hbb.rivio.dev/senioren/2022/wedstrijd/30558
DTSTAMP:20260420T165733Z
SUMMARY:ASML 2 - BC '85 2
DESCRIPTION:Baan 4\, Wedstrijdnummer 2154\, Afdeling 3e klasse II
DTSTART:20230201T200000
DTEND:20230201T230000
LOCATION:City Resort Helmond
ATTACH;FMTTYPE=text/plain:https://hbb.rivio.dev/senioren/2022/wedstrijd/305
 58
END:VEVENT
BEGIN:VEVENT
UID:https://hbb.rivio.dev/senioren/2022/wedstrijd/30580
DTSTAMP:20260420T165733Z
SUMMARY:Con Brio 1 - ASML 2
DESCRIPTION:Baan 2\, Wedstrijdnummer 2156\, Afdeling 3e klasse II
DTSTART:20230209T200000
DTEND:20230209T230000
LOCATION:City Resort Helmond
ATTACH;FMTTYPE=text/plain:https://hbb.rivio.dev/senioren/2022/wedstrijd/305
 80
END:VEVENT
BEGIN:VEVENT
UID:https://hbb.rivio.dev/senioren/2022/wedstrijd/30603
DTSTAMP:20260420T165733Z
SUMMARY:Geldrop 3 - ASML 2
DESCRIPTION:Baan 3\, Wedstrijdnummer 2160\, Afdeling 3e klasse II
DTSTART:20230301T200000
DTEND:20230301T230000
LOCATION:City Resort Helmond
ATTACH;FMTTYPE=text/plain:https://hbb.rivio.dev/senioren/2022/wedstrijd/306
 03
END:VEVENT
BEGIN:VEVENT
UID:https://hbb.rivio.dev/senioren/2022/wedstrijd/30640
DTSTAMP:20260420T165733Z
SUMMARY:Mierlo 6 - ASML 2
DESCRIPTION:Baan 12\, Wedstrijdnummer 2167\, Afdeling 3e klasse II
DTSTART:20230322T200000
DTEND:20230322T230000
LOCATION:City Resort Helmond
ATTACH;FMTTYPE=text/plain:https://hbb.rivio.dev/senioren/2022/wedstrijd/306
 40
END:VEVENT
BEGIN:VTIMEZONE
TZID:Europe/Amsterdam
BEGIN:STANDARD
DTSTART:20220101T000000
TZNAME:CET
TZOFFSETTO:+0100
TZOFFSETFROM:+0100
END:STANDARD
BEGIN:DAYLIGHT
DTSTART:20220327T030000
TZNAME:CEST
TZOFFSETTO:+0200
TZOFFSETFROM:+0100
END:DAYLIGHT
BEGIN:STANDARD
DTSTART:20221030T020000
TZNAME:CET
TZOFFSETTO:+0100
TZOFFSETFROM:+0200
END:STANDARD
BEGIN:DAYLIGHT
DTSTART:20230326T030000
TZNAME:CEST
TZOFFSETTO:+0200
TZOFFSETFROM:+0100
END:DAYLIGHT
BEGIN:STANDARD
DTSTART:20231029T020000
TZNAME:CET
TZOFFSETTO:+0100
TZOFFSETFROM:+0200
END:STANDARD
END:VTIMEZONE
END:VCALENDAR
