BEGIN:VCALENDAR
PRODID:-//eluceo/ical//2.0/EN
VERSION:2.0
CALSCALE:GREGORIAN
BEGIN:VEVENT
UID:https://hbb.rivio.dev/senioren/2022/wedstrijd/30319
DTSTAMP:20260420T150910Z
SUMMARY:BCAB 1 - ASML 1
DESCRIPTION:Baan 3\, Wedstrijdnummer 1130\, Afdeling 2e klasse 
DTSTART:20221006T200000
DTEND:20221006T230000
LOCATION:City Resort Helmond
ATTACH;FMTTYPE=text/plain:https://hbb.rivio.dev/senioren/2022/wedstrijd/303
 19
END:VEVENT
BEGIN:VEVENT
UID:https://hbb.rivio.dev/senioren/2022/wedstrijd/30357
DTSTAMP:20260420T150910Z
SUMMARY:ASML 1 - VBSC 1
DESCRIPTION:Baan 1\, Wedstrijdnummer 1134\, Afdeling 2e klasse 
DTSTART:20221020T200000
DTEND:20221020T230000
LOCATION:City Resort Helmond
ATTACH;FMTTYPE=text/plain:https://hbb.rivio.dev/senioren/2022/wedstrijd/303
 57
END:VEVENT
BEGIN:VEVENT
UID:https://hbb.rivio.dev/senioren/2022/wedstrijd/30373
DTSTAMP:20260420T150910Z
SUMMARY:ASML 1 - De Valken 2
DESCRIPTION:Baan 12\, Wedstrijdnummer 1138\, Afdeling 2e klasse 
DTSTART:20221102T200000
DTEND:20221102T230000
LOCATION:City Resort Helmond
ATTACH;FMTTYPE=text/plain:https://hbb.rivio.dev/senioren/2022/wedstrijd/303
 73
END:VEVENT
BEGIN:VEVENT
UID:https://hbb.rivio.dev/senioren/2022/wedstrijd/30416
DTSTAMP:20260420T150910Z
SUMMARY:Mixed 6 - ASML 1
DESCRIPTION:Baan 15\, Wedstrijdnummer 1141\, Afdeling 2e klasse 
DTSTART:20221116T200000
DTEND:20221116T230000
LOCATION:City Resort Helmond
ATTACH;FMTTYPE=text/plain:https://hbb.rivio.dev/senioren/2022/wedstrijd/304
 16
END:VEVENT
BEGIN:VEVENT
UID:https://hbb.rivio.dev/senioren/2022/wedstrijd/30429
DTSTAMP:20260420T150910Z
SUMMARY:Ganzeveer 2 - ASML 1
DESCRIPTION:Baan 3\, Wedstrijdnummer 1143\, Afdeling 1e klasse 
DTSTART:20221123T200000
DTEND:20221123T230000
LOCATION:City Resort Helmond
ATTACH;FMTTYPE=text/plain:https://hbb.rivio.dev/senioren/2022/wedstrijd/304
 29
END:VEVENT
BEGIN:VEVENT
UID:https://hbb.rivio.dev/senioren/2022/wedstrijd/30763
DTSTAMP:20260420T150910Z
SUMMARY:De Valken 3 - ASML 1
DESCRIPTION:Baan 15\, Wedstrijdnummer 2082\, Afdeling 2e klasse 
DTSTART:20221208T200000
DTEND:20221208T230000
LOCATION:City Resort Helmond
ATTACH;FMTTYPE=text/plain:https://hbb.rivio.dev/senioren/2022/wedstrijd/307
 63
END:VEVENT
BEGIN:VEVENT
UID:https://hbb.rivio.dev/senioren/2022/wedstrijd/30764
DTSTAMP:20260420T150910Z
SUMMARY:ASML 1 - Mixed 5
DESCRIPTION:Baan 1\, Wedstrijdnummer 2085\, Afdeling 2e klasse 
DTSTART:20221214T200000
DTEND:20221214T230000
LOCATION:City Resort Helmond
ATTACH;FMTTYPE=text/plain:https://hbb.rivio.dev/senioren/2022/wedstrijd/307
 64
END:VEVENT
BEGIN:VEVENT
UID:https://hbb.rivio.dev/senioren/2022/wedstrijd/30779
DTSTAMP:20260420T150910Z
SUMMARY:BCAB 1 - ASML 1
DESCRIPTION:Baan 3\, Wedstrijdnummer 2091\, Afdeling 2e klasse 
DTSTART:20230119T200000
DTEND:20230119T230000
LOCATION:City Resort Helmond
ATTACH;FMTTYPE=text/plain:https://hbb.rivio.dev/senioren/2022/wedstrijd/307
 79
END:VEVENT
BEGIN:VEVENT
UID:https://hbb.rivio.dev/senioren/2022/wedstrijd/30794
DTSTAMP:20260420T150910Z
SUMMARY:Mierlo 4 - ASML 1
DESCRIPTION:Baan 3\, Wedstrijdnummer 2097\, Afdeling 2e klasse 
DTSTART:20230209T200000
DTEND:20230209T230000
LOCATION:City Resort Helmond
ATTACH;FMTTYPE=text/plain:https://hbb.rivio.dev/senioren/2022/wedstrijd/307
 94
END:VEVENT
BEGIN:VEVENT
UID:https://hbb.rivio.dev/senioren/2022/wedstrijd/30799
DTSTAMP:20260420T150910Z
SUMMARY:ASML 1 - Bakel 4
DESCRIPTION:Baan 4\, Wedstrijdnummer 2102\, Afdeling 2e klasse 
DTSTART:20230215T200000
DTEND:20230215T230000
LOCATION:City Resort Helmond
ATTACH;FMTTYPE=text/plain:https://hbb.rivio.dev/senioren/2022/wedstrijd/307
 99
END:VEVENT
BEGIN:VEVENT
UID:https://hbb.rivio.dev/senioren/2022/wedstrijd/30805
DTSTAMP:20260420T150910Z
SUMMARY:Mixed 6 - ASML 1
DESCRIPTION:Baan 12\, Wedstrijdnummer 2107\, Afdeling 2e klasse 
DTSTART:20230301T200000
DTEND:20230301T230000
LOCATION:City Resort Helmond
ATTACH;FMTTYPE=text/plain:https://hbb.rivio.dev/senioren/2022/wedstrijd/308
 05
END:VEVENT
BEGIN:VEVENT
UID:https://hbb.rivio.dev/senioren/2022/wedstrijd/30814
DTSTAMP:20260420T150910Z
SUMMARY:Phoenix 3 - ASML 1
DESCRIPTION:Baan 14\, Wedstrijdnummer 2108\, Afdeling 2e klasse 
DTSTART:20230309T200000
DTEND:20230309T230000
LOCATION:City Resort Helmond
ATTACH;FMTTYPE=text/plain:https://hbb.rivio.dev/senioren/2022/wedstrijd/308
 14
END:VEVENT
BEGIN:VEVENT
UID:https://hbb.rivio.dev/senioren/2022/wedstrijd/30822
DTSTAMP:20260420T150910Z
SUMMARY:ASML 1 - Ganzeveer 3
DESCRIPTION:Baan 1\, Wedstrijdnummer 2113\, Afdeling 2e klasse 
DTSTART:20230329T200000
DTEND:20230329T230000
LOCATION:City Resort Helmond
ATTACH;FMTTYPE=text/plain:https://hbb.rivio.dev/senioren/2022/wedstrijd/308
 22
END:VEVENT
BEGIN:VTIMEZONE
TZID:Europe/Amsterdam
BEGIN:STANDARD
DTSTART:20220101T000000
TZNAME:CET
TZOFFSETTO:+0100
TZOFFSETFROM:+0100
END:STANDARD
BEGIN:DAYLIGHT
DTSTART:20220327T030000
TZNAME:CEST
TZOFFSETTO:+0200
TZOFFSETFROM:+0100
END:DAYLIGHT
BEGIN:STANDARD
DTSTART:20221030T020000
TZNAME:CET
TZOFFSETTO:+0100
TZOFFSETFROM:+0200
END:STANDARD
BEGIN:DAYLIGHT
DTSTART:20230326T030000
TZNAME:CEST
TZOFFSETTO:+0200
TZOFFSETFROM:+0100
END:DAYLIGHT
BEGIN:STANDARD
DTSTART:20231029T020000
TZNAME:CET
TZOFFSETTO:+0100
TZOFFSETFROM:+0200
END:STANDARD
END:VTIMEZONE
END:VCALENDAR
