BEGIN:VCALENDAR
PRODID:-//eluceo/ical//2.0/EN
VERSION:2.0
CALSCALE:GREGORIAN
BEGIN:VEVENT
UID:https://hbb.rivio.dev/jeugd/2022/wedstrijd/30673
DTSTAMP:20260420T151714Z
SUMMARY:Phoenix 4 - Gemert 2
DESCRIPTION:Baan 1\, Wedstrijdnummer 12\, Afdeling H-klasse 
DTSTART:20221009T093000
DTEND:20221009T111500
LOCATION:City Resort Helmond
ATTACH;FMTTYPE=text/plain:https://hbb.rivio.dev/jeugd/2022/wedstrijd/30673
END:VEVENT
BEGIN:VEVENT
UID:https://hbb.rivio.dev/jeugd/2022/wedstrijd/30701
DTSTAMP:20260420T151714Z
SUMMARY:Phoenix 3 - Gemert 2
DESCRIPTION:Baan 11\, Wedstrijdnummer 31\, Afdeling H-klasse 
DTSTART:20221106T093000
DTEND:20221106T111500
LOCATION:City Resort Helmond
ATTACH;FMTTYPE=text/plain:https://hbb.rivio.dev/jeugd/2022/wedstrijd/30701
END:VEVENT
BEGIN:VEVENT
UID:https://hbb.rivio.dev/jeugd/2022/wedstrijd/30709
DTSTAMP:20260420T151714Z
SUMMARY:Gemert 2 - Someren 1
DESCRIPTION:Baan 4\, Wedstrijdnummer 48\, Afdeling H-klasse 
DTSTART:20221113T093000
DTEND:20221113T111500
LOCATION:City Resort Helmond
ATTACH;FMTTYPE=text/plain:https://hbb.rivio.dev/jeugd/2022/wedstrijd/30709
END:VEVENT
BEGIN:VEVENT
UID:https://hbb.rivio.dev/jeugd/2022/wedstrijd/30725
DTSTAMP:20260420T151714Z
SUMMARY:Gemert 2 - Phoenix 4
DESCRIPTION:Baan 15\, Wedstrijdnummer 64\, Afdeling H-klasse 
DTSTART:20221120T093000
DTEND:20221120T111500
LOCATION:City Resort Helmond
ATTACH;FMTTYPE=text/plain:https://hbb.rivio.dev/jeugd/2022/wedstrijd/30725
END:VEVENT
BEGIN:VEVENT
UID:https://hbb.rivio.dev/jeugd/2022/wedstrijd/30735
DTSTAMP:20260420T151714Z
SUMMARY:Gemert 2 - Phoenix 3
DESCRIPTION:Baan 15\, Wedstrijdnummer 74\, Afdeling H-klasse 
DTSTART:20221127T093000
DTEND:20221127T111500
LOCATION:City Resort Helmond
ATTACH;FMTTYPE=text/plain:https://hbb.rivio.dev/jeugd/2022/wedstrijd/30735
END:VEVENT
BEGIN:VEVENT
UID:https://hbb.rivio.dev/jeugd/2022/wedstrijd/30745
DTSTAMP:20260420T151714Z
SUMMARY:Someren 1 - Gemert 2
DESCRIPTION:Baan 15\, Wedstrijdnummer 84\, Afdeling H-klasse 
DTSTART:20221211T093000
DTEND:20221211T111500
LOCATION:City Resort Helmond
ATTACH;FMTTYPE=text/plain:https://hbb.rivio.dev/jeugd/2022/wedstrijd/30745
END:VEVENT
BEGIN:VTIMEZONE
TZID:Europe/Amsterdam
BEGIN:STANDARD
DTSTART:20220101T000000
TZNAME:CET
TZOFFSETTO:+0100
TZOFFSETFROM:+0100
END:STANDARD
BEGIN:DAYLIGHT
DTSTART:20220327T030000
TZNAME:CEST
TZOFFSETTO:+0200
TZOFFSETFROM:+0100
END:DAYLIGHT
BEGIN:STANDARD
DTSTART:20221030T020000
TZNAME:CET
TZOFFSETTO:+0100
TZOFFSETFROM:+0200
END:STANDARD
END:VTIMEZONE
END:VCALENDAR
