BEGIN:VCALENDAR
PRODID:-//eluceo/ical//2.0/EN
VERSION:2.0
CALSCALE:GREGORIAN
BEGIN:VEVENT
UID:https://hbb.rivio.dev/jeugd/2021/wedstrijd/28586
DTSTAMP:20260420T151729Z
SUMMARY:Mierlo 6 - Phoenix 2
DESCRIPTION:Baan 14\, Wedstrijdnummer 10\, Afdeling H-klasse 
DTSTART:20211010T093000
DTEND:20211010T111500
LOCATION:City Resort Helmond
ATTACH;FMTTYPE=text/plain:https://hbb.rivio.dev/jeugd/2021/wedstrijd/28586
END:VEVENT
BEGIN:VEVENT
UID:https://hbb.rivio.dev/jeugd/2021/wedstrijd/28593
DTSTAMP:20260420T151729Z
SUMMARY:Mixed 6 - Mierlo 6
DESCRIPTION:Baan 14\, Wedstrijdnummer 18\, Afdeling H-klasse 
DTSTART:20211017T093000
DTEND:20211017T111500
LOCATION:City Resort Helmond
ATTACH;FMTTYPE=text/plain:https://hbb.rivio.dev/jeugd/2021/wedstrijd/28593
END:VEVENT
BEGIN:VEVENT
UID:https://hbb.rivio.dev/jeugd/2021/wedstrijd/28600
DTSTAMP:20260420T151729Z
SUMMARY:Mierlo 6 - Mixed 7
DESCRIPTION:Baan 13\, Wedstrijdnummer 25\, Afdeling H-klasse 
DTSTART:20211107T093000
DTEND:20211107T111500
LOCATION:City Resort Helmond
ATTACH;FMTTYPE=text/plain:https://hbb.rivio.dev/jeugd/2021/wedstrijd/28600
END:VEVENT
BEGIN:VEVENT
UID:https://hbb.rivio.dev/jeugd/2021/wedstrijd/28612
DTSTAMP:20260420T151729Z
SUMMARY:Phoenix 2 - Mierlo 6
DESCRIPTION:Baan 14\, Wedstrijdnummer 36\, Afdeling H-klasse 
DTSTART:20211114T093000
DTEND:20211114T111500
LOCATION:City Resort Helmond
ATTACH;FMTTYPE=text/plain:https://hbb.rivio.dev/jeugd/2021/wedstrijd/28612
END:VEVENT
BEGIN:VEVENT
UID:https://hbb.rivio.dev/jeugd/2021/wedstrijd/28619
DTSTAMP:20260420T151729Z
SUMMARY:Mierlo 6 - Mixed 6
DESCRIPTION:Baan 14\, Wedstrijdnummer 44\, Afdeling H-klasse 
DTSTART:20211121T093000
DTEND:20211121T111500
LOCATION:City Resort Helmond
ATTACH;FMTTYPE=text/plain:https://hbb.rivio.dev/jeugd/2021/wedstrijd/28619
END:VEVENT
BEGIN:VEVENT
UID:https://hbb.rivio.dev/jeugd/2021/wedstrijd/28626
DTSTAMP:20260420T151729Z
SUMMARY:Mixed 7 - Mierlo 6
DESCRIPTION:Baan 13\, Wedstrijdnummer 50\, Afdeling H-klasse 
DTSTART:20211212T093000
DTEND:20211212T111500
LOCATION:City Resort Helmond
ATTACH;FMTTYPE=text/plain:https://hbb.rivio.dev/jeugd/2021/wedstrijd/28626
END:VEVENT
BEGIN:VTIMEZONE
TZID:Europe/Amsterdam
BEGIN:STANDARD
DTSTART:20210101T000000
TZNAME:CET
TZOFFSETTO:+0100
TZOFFSETFROM:+0100
END:STANDARD
BEGIN:DAYLIGHT
DTSTART:20210328T030000
TZNAME:CEST
TZOFFSETTO:+0200
TZOFFSETFROM:+0100
END:DAYLIGHT
BEGIN:STANDARD
DTSTART:20211031T020000
TZNAME:CET
TZOFFSETTO:+0100
TZOFFSETFROM:+0200
END:STANDARD
END:VTIMEZONE
END:VCALENDAR
