BEGIN:VCALENDAR
PRODID:-//eluceo/ical//2.0/EN
VERSION:2.0
CALSCALE:GREGORIAN
BEGIN:VEVENT
UID:https://hbb.rivio.dev/senioren/2021/wedstrijd/28173
DTSTAMP:20260420T151306Z
SUMMARY:Geldrop 3 - ASML 2
DESCRIPTION:Baan 13\, Wedstrijdnummer 152\, Afdeling 3e klasse I
DTSTART:20210929T200000
DTEND:20210929T230000
LOCATION:City Resort Helmond
ATTACH;FMTTYPE=text/plain:https://hbb.rivio.dev/senioren/2021/wedstrijd/281
 73
END:VEVENT
BEGIN:VEVENT
UID:https://hbb.rivio.dev/senioren/2021/wedstrijd/28206
DTSTAMP:20260420T151306Z
SUMMARY:ASML 2 - Rudra 2
DESCRIPTION:Baan 1\, Wedstrijdnummer 157\, Afdeling 3e klasse I
DTSTART:20211013T200000
DTEND:20211013T230000
LOCATION:City Resort Helmond
ATTACH;FMTTYPE=text/plain:https://hbb.rivio.dev/senioren/2021/wedstrijd/282
 06
END:VEVENT
BEGIN:VEVENT
UID:https://hbb.rivio.dev/senioren/2021/wedstrijd/28244
DTSTAMP:20260420T151307Z
SUMMARY:ASML 2 - Heiakker 1
DESCRIPTION:Baan 14\, Wedstrijdnummer 162\, Afdeling 3e klasse I
DTSTART:20211021T200000
DTEND:20211021T230000
LOCATION:City Resort Helmond
ATTACH;FMTTYPE=text/plain:https://hbb.rivio.dev/senioren/2021/wedstrijd/282
 44
END:VEVENT
BEGIN:VEVENT
UID:https://hbb.rivio.dev/senioren/2021/wedstrijd/28254
DTSTAMP:20260420T151307Z
SUMMARY:ASML 2 - Gemert 2
DESCRIPTION:Baan 14\, Wedstrijdnummer 167\, Afdeling 3e klasse I
DTSTART:20211103T200000
DTEND:20211103T230000
LOCATION:City Resort Helmond
ATTACH;FMTTYPE=text/plain:https://hbb.rivio.dev/senioren/2021/wedstrijd/282
 54
END:VEVENT
BEGIN:VEVENT
UID:https://hbb.rivio.dev/senioren/2021/wedstrijd/28317
DTSTAMP:20260420T151307Z
SUMMARY:ASML 2 - Mierlo 7
DESCRIPTION:Baan 2\, Wedstrijdnummer 2023\, Afdeling 3e klasse I
DTSTART:20211125T200000
DTEND:20211125T230000
LOCATION:City Resort Helmond
ATTACH;FMTTYPE=text/plain:https://hbb.rivio.dev/senioren/2021/wedstrijd/283
 17
END:VEVENT
BEGIN:VEVENT
UID:https://hbb.rivio.dev/senioren/2021/wedstrijd/28813
DTSTAMP:20260420T151307Z
SUMMARY:RBC 2 - ASML 2
DESCRIPTION:Baan 1\, Wedstrijdnummer 171\, Afdeling 3e klasse I
DTSTART:20220210T200000
DTEND:20220210T230000
LOCATION:City Resort Helmond
ATTACH;FMTTYPE=text/plain:https://hbb.rivio.dev/senioren/2021/wedstrijd/288
 13
END:VEVENT
BEGIN:VEVENT
UID:https://hbb.rivio.dev/senioren/2021/wedstrijd/28840
DTSTAMP:20260420T151307Z
SUMMARY:Never Down 1 - ASML 2
DESCRIPTION:Baan 12\, Wedstrijdnummer 174\, Afdeling 3e klasse I
DTSTART:20220217T200000
DTEND:20220217T230000
LOCATION:City Resort Helmond
ATTACH;FMTTYPE=text/plain:https://hbb.rivio.dev/senioren/2021/wedstrijd/288
 40
END:VEVENT
BEGIN:VEVENT
UID:https://hbb.rivio.dev/senioren/2021/wedstrijd/28874
DTSTAMP:20260420T151307Z
SUMMARY:Hanevoet 3 - ASML 2
DESCRIPTION:Baan 1\, Wedstrijdnummer 177\, Afdeling 3e klasse I
DTSTART:20220310T200000
DTEND:20220310T230000
LOCATION:City Resort Helmond
ATTACH;FMTTYPE=text/plain:https://hbb.rivio.dev/senioren/2021/wedstrijd/288
 74
END:VEVENT
BEGIN:VEVENT
UID:https://hbb.rivio.dev/senioren/2021/wedstrijd/28921
DTSTAMP:20260420T151307Z
SUMMARY:ASML 2 - Geldrop 3
DESCRIPTION:Baan 12\, Wedstrijdnummer 1152\, Afdeling 3e klasse I
DTSTART:20220330T200000
DTEND:20220330T230000
LOCATION:City Resort Helmond
ATTACH;FMTTYPE=text/plain:https://hbb.rivio.dev/senioren/2021/wedstrijd/289
 21
END:VEVENT
BEGIN:VEVENT
UID:https://hbb.rivio.dev/senioren/2021/wedstrijd/28936
DTSTAMP:20260420T151307Z
SUMMARY:Rudra 2 - ASML 2
DESCRIPTION:Baan 2\, Wedstrijdnummer 1157\, Afdeling 3e klasse I
DTSTART:20220406T200000
DTEND:20220406T230000
LOCATION:City Resort Helmond
ATTACH;FMTTYPE=text/plain:https://hbb.rivio.dev/senioren/2021/wedstrijd/289
 36
END:VEVENT
BEGIN:VEVENT
UID:https://hbb.rivio.dev/senioren/2021/wedstrijd/28970
DTSTAMP:20260420T151307Z
SUMMARY:Heiakker 1 - ASML 2
DESCRIPTION:Baan 10\, Wedstrijdnummer 1162\, Afdeling 3e klasse I
DTSTART:20220414T200000
DTEND:20220414T230000
LOCATION:City Resort Helmond
ATTACH;FMTTYPE=text/plain:https://hbb.rivio.dev/senioren/2021/wedstrijd/289
 70
END:VEVENT
BEGIN:VEVENT
UID:https://hbb.rivio.dev/senioren/2021/wedstrijd/28981
DTSTAMP:20260420T151307Z
SUMMARY:Gemert 2 - ASML 2
DESCRIPTION:Baan 11\, Wedstrijdnummer 1167\, Afdeling 3e klasse I
DTSTART:20220420T200000
DTEND:20220420T230000
LOCATION:City Resort Helmond
ATTACH;FMTTYPE=text/plain:https://hbb.rivio.dev/senioren/2021/wedstrijd/289
 81
END:VEVENT
BEGIN:VEVENT
UID:https://hbb.rivio.dev/senioren/2021/wedstrijd/29014
DTSTAMP:20260420T151307Z
SUMMARY:ASML 2 - RBC 2
DESCRIPTION:Baan 5\, Wedstrijdnummer 1171\, Afdeling 3e klasse I
DTSTART:20220602T200000
DTEND:20220602T230000
LOCATION:City Resort Helmond
ATTACH;FMTTYPE=text/plain:https://hbb.rivio.dev/senioren/2021/wedstrijd/290
 14
END:VEVENT
BEGIN:VEVENT
UID:https://hbb.rivio.dev/senioren/2021/wedstrijd/29032
DTSTAMP:20260420T151307Z
SUMMARY:ASML 2 - Never Down 1
DESCRIPTION:Baan 14\, Wedstrijdnummer 1174\, Afdeling 3e klasse I
DTSTART:20220609T200000
DTEND:20220609T230000
LOCATION:City Resort Helmond
ATTACH;FMTTYPE=text/plain:https://hbb.rivio.dev/senioren/2021/wedstrijd/290
 32
END:VEVENT
BEGIN:VEVENT
UID:https://hbb.rivio.dev/senioren/2021/wedstrijd/29044
DTSTAMP:20260420T151307Z
SUMMARY:ASML 2 - Hanevoet 3
DESCRIPTION:Baan 15\, Wedstrijdnummer 1177\, Afdeling 3e klasse I
DTSTART:20220616T200000
DTEND:20220616T230000
LOCATION:City Resort Helmond
ATTACH;FMTTYPE=text/plain:https://hbb.rivio.dev/senioren/2021/wedstrijd/290
 44
END:VEVENT
BEGIN:VTIMEZONE
TZID:Europe/Amsterdam
BEGIN:STANDARD
DTSTART:20210101T000000
TZNAME:CET
TZOFFSETTO:+0100
TZOFFSETFROM:+0100
END:STANDARD
BEGIN:DAYLIGHT
DTSTART:20210328T030000
TZNAME:CEST
TZOFFSETTO:+0200
TZOFFSETFROM:+0100
END:DAYLIGHT
BEGIN:STANDARD
DTSTART:20211031T020000
TZNAME:CET
TZOFFSETTO:+0100
TZOFFSETFROM:+0200
END:STANDARD
BEGIN:DAYLIGHT
DTSTART:20220327T030000
TZNAME:CEST
TZOFFSETTO:+0200
TZOFFSETFROM:+0100
END:DAYLIGHT
BEGIN:STANDARD
DTSTART:20221030T020000
TZNAME:CET
TZOFFSETTO:+0100
TZOFFSETFROM:+0200
END:STANDARD
END:VTIMEZONE
END:VCALENDAR
