BEGIN:VCALENDAR
PRODID:-//eluceo/ical//2.0/EN
VERSION:2.0
CALSCALE:GREGORIAN
BEGIN:VEVENT
UID:https://hbb.rivio.dev/senioren/2021/wedstrijd/28190
DTSTAMP:20260420T151434Z
SUMMARY:Ganzeveer 2 - ASML 1
DESCRIPTION:Baan 5\, Wedstrijdnummer 181\, Afdeling 3e klasse II
DTSTART:20211006T200000
DTEND:20211006T230000
LOCATION:City Resort Helmond
ATTACH;FMTTYPE=text/plain:https://hbb.rivio.dev/senioren/2021/wedstrijd/281
 90
END:VEVENT
BEGIN:VEVENT
UID:https://hbb.rivio.dev/senioren/2021/wedstrijd/28259
DTSTAMP:20260420T151434Z
SUMMARY:BCAB 2 - ASML 1
DESCRIPTION:Baan 4\, Wedstrijdnummer 186\, Afdeling 3e klasse II
DTSTART:20211104T200000
DTEND:20211104T230000
LOCATION:City Resort Helmond
ATTACH;FMTTYPE=text/plain:https://hbb.rivio.dev/senioren/2021/wedstrijd/282
 59
END:VEVENT
BEGIN:VEVENT
UID:https://hbb.rivio.dev/senioren/2021/wedstrijd/28271
DTSTAMP:20260420T151434Z
SUMMARY:ASML 1 - Mierlo 7
DESCRIPTION:Baan 11\, Wedstrijdnummer 190\, Afdeling 3e klasse II
DTSTART:20211110T200000
DTEND:20211110T230000
LOCATION:City Resort Helmond
ATTACH;FMTTYPE=text/plain:https://hbb.rivio.dev/senioren/2021/wedstrijd/282
 71
END:VEVENT
BEGIN:VEVENT
UID:https://hbb.rivio.dev/senioren/2021/wedstrijd/28306
DTSTAMP:20260420T151434Z
SUMMARY:Gemert 2 - ASML 1
DESCRIPTION:Baan 1\, Wedstrijdnummer 2020\, Afdeling 3e klasse I
DTSTART:20211124T200000
DTEND:20211124T230000
LOCATION:City Resort Helmond
ATTACH;FMTTYPE=text/plain:https://hbb.rivio.dev/senioren/2021/wedstrijd/283
 06
END:VEVENT
BEGIN:VEVENT
UID:https://hbb.rivio.dev/senioren/2021/wedstrijd/28822
DTSTAMP:20260420T151434Z
SUMMARY:ASML 1 - De Valken 4
DESCRIPTION:Baan 14\, Wedstrijdnummer 194\, Afdeling 3e klasse II
DTSTART:20220210T200000
DTEND:20220210T230000
LOCATION:City Resort Helmond
ATTACH;FMTTYPE=text/plain:https://hbb.rivio.dev/senioren/2021/wedstrijd/288
 22
END:VEVENT
BEGIN:VEVENT
UID:https://hbb.rivio.dev/senioren/2021/wedstrijd/28857
DTSTAMP:20260420T151434Z
SUMMARY:ASML 1 - Mixed 6
DESCRIPTION:Baan 4\, Wedstrijdnummer 197\, Afdeling 3e klasse II
DTSTART:20220224T200000
DTEND:20220224T230000
LOCATION:City Resort Helmond
ATTACH;FMTTYPE=text/plain:https://hbb.rivio.dev/senioren/2021/wedstrijd/288
 57
END:VEVENT
BEGIN:VEVENT
UID:https://hbb.rivio.dev/senioren/2021/wedstrijd/28882
DTSTAMP:20260420T151434Z
SUMMARY:Someren 4 - ASML 1
DESCRIPTION:Baan 15\, Wedstrijdnummer 200\, Afdeling 3e klasse II
DTSTART:20220310T200000
DTEND:20220310T230000
LOCATION:City Resort Helmond
ATTACH;FMTTYPE=text/plain:https://hbb.rivio.dev/senioren/2021/wedstrijd/288
 82
END:VEVENT
BEGIN:VEVENT
UID:https://hbb.rivio.dev/senioren/2021/wedstrijd/28897
DTSTAMP:20260420T151434Z
SUMMARY:ASML 1 - Ganzeveer 2
DESCRIPTION:Baan 5\, Wedstrijdnummer 1181\, Afdeling 3e klasse II
DTSTART:20220323T200000
DTEND:20220323T230000
LOCATION:City Resort Helmond
ATTACH;FMTTYPE=text/plain:https://hbb.rivio.dev/senioren/2021/wedstrijd/288
 97
END:VEVENT
BEGIN:VEVENT
UID:https://hbb.rivio.dev/senioren/2021/wedstrijd/28965
DTSTAMP:20260420T151434Z
SUMMARY:ASML 1 - BCAB 2
DESCRIPTION:Baan 1\, Wedstrijdnummer 1186\, Afdeling 3e klasse II
DTSTART:20220414T200000
DTEND:20220414T230000
LOCATION:City Resort Helmond
ATTACH;FMTTYPE=text/plain:https://hbb.rivio.dev/senioren/2021/wedstrijd/289
 65
END:VEVENT
BEGIN:VEVENT
UID:https://hbb.rivio.dev/senioren/2021/wedstrijd/28993
DTSTAMP:20260420T151434Z
SUMMARY:Mierlo 7 - ASML 1
DESCRIPTION:Baan 5\, Wedstrijdnummer 1190\, Afdeling 3e klasse II
DTSTART:20220519T200000
DTEND:20220519T230000
LOCATION:City Resort Helmond
ATTACH;FMTTYPE=text/plain:https://hbb.rivio.dev/senioren/2021/wedstrijd/289
 93
END:VEVENT
BEGIN:VEVENT
UID:https://hbb.rivio.dev/senioren/2021/wedstrijd/29012
DTSTAMP:20260420T151434Z
SUMMARY:De Valken 4 - ASML 1
DESCRIPTION:Baan 3\, Wedstrijdnummer 1194\, Afdeling 3e klasse II
DTSTART:20220602T200000
DTEND:20220602T230000
LOCATION:City Resort Helmond
ATTACH;FMTTYPE=text/plain:https://hbb.rivio.dev/senioren/2021/wedstrijd/290
 12
END:VEVENT
BEGIN:VEVENT
UID:https://hbb.rivio.dev/senioren/2021/wedstrijd/29027
DTSTAMP:20260420T151434Z
SUMMARY:Mixed 6 - ASML 1
DESCRIPTION:Baan 2\, Wedstrijdnummer 1197\, Afdeling 3e klasse II
DTSTART:20220609T200000
DTEND:20220609T230000
LOCATION:City Resort Helmond
ATTACH;FMTTYPE=text/plain:https://hbb.rivio.dev/senioren/2021/wedstrijd/290
 27
END:VEVENT
BEGIN:VEVENT
UID:https://hbb.rivio.dev/senioren/2021/wedstrijd/29050
DTSTAMP:20260420T151434Z
SUMMARY:ASML 1 - Someren 4
DESCRIPTION:Baan 2\, Wedstrijdnummer 1200\, Afdeling 3e klasse II
DTSTART:20220623T200000
DTEND:20220623T230000
LOCATION:City Resort Helmond
ATTACH;FMTTYPE=text/plain:https://hbb.rivio.dev/senioren/2021/wedstrijd/290
 50
END:VEVENT
BEGIN:VTIMEZONE
TZID:Europe/Amsterdam
BEGIN:STANDARD
DTSTART:20210101T000000
TZNAME:CET
TZOFFSETTO:+0100
TZOFFSETFROM:+0100
END:STANDARD
BEGIN:DAYLIGHT
DTSTART:20210328T030000
TZNAME:CEST
TZOFFSETTO:+0200
TZOFFSETFROM:+0100
END:DAYLIGHT
BEGIN:STANDARD
DTSTART:20211031T020000
TZNAME:CET
TZOFFSETTO:+0100
TZOFFSETFROM:+0200
END:STANDARD
BEGIN:DAYLIGHT
DTSTART:20220327T030000
TZNAME:CEST
TZOFFSETTO:+0200
TZOFFSETFROM:+0100
END:DAYLIGHT
BEGIN:STANDARD
DTSTART:20221030T020000
TZNAME:CET
TZOFFSETTO:+0100
TZOFFSETFROM:+0200
END:STANDARD
END:VTIMEZONE
END:VCALENDAR
