BEGIN:VCALENDAR
PRODID:-//eluceo/ical//2.0/EN
VERSION:2.0
CALSCALE:GREGORIAN
BEGIN:VEVENT
UID:https://hbb.rivio.dev/jeugd/2021/wedstrijd/28584
DTSTAMP:20260420T151932Z
SUMMARY:RBC 1 - Gemert 2
DESCRIPTION:Baan 12\, Wedstrijdnummer 8\, Afdeling G-klasse 
DTSTART:20211010T093000
DTEND:20211010T111500
LOCATION:City Resort Helmond
ATTACH;FMTTYPE=text/plain:https://hbb.rivio.dev/jeugd/2021/wedstrijd/28584
END:VEVENT
BEGIN:VEVENT
UID:https://hbb.rivio.dev/jeugd/2021/wedstrijd/28591
DTSTAMP:20260420T151932Z
SUMMARY:RBC 1 - Mixed 5
DESCRIPTION:Baan 12\, Wedstrijdnummer 16\, Afdeling G-klasse 
DTSTART:20211017T093000
DTEND:20211017T111500
LOCATION:City Resort Helmond
ATTACH;FMTTYPE=text/plain:https://hbb.rivio.dev/jeugd/2021/wedstrijd/28591
END:VEVENT
BEGIN:VEVENT
UID:https://hbb.rivio.dev/jeugd/2021/wedstrijd/28609
DTSTAMP:20260420T151932Z
SUMMARY:Mixed 4 - RBC 1
DESCRIPTION:Baan 11\, Wedstrijdnummer 33\, Afdeling G-klasse 
DTSTART:20211114T093000
DTEND:20211114T111500
LOCATION:City Resort Helmond
ATTACH;FMTTYPE=text/plain:https://hbb.rivio.dev/jeugd/2021/wedstrijd/28609
END:VEVENT
BEGIN:VEVENT
UID:https://hbb.rivio.dev/jeugd/2021/wedstrijd/28623
DTSTAMP:20260420T151932Z
SUMMARY:Con Brio 1 - RBC 1
DESCRIPTION:Baan 5\, Wedstrijdnummer 47\, Afdeling G-klasse 
DTSTART:20211212T093000
DTEND:20211212T111500
LOCATION:City Resort Helmond
ATTACH;FMTTYPE=text/plain:https://hbb.rivio.dev/jeugd/2021/wedstrijd/28623
END:VEVENT
BEGIN:VTIMEZONE
TZID:Europe/Amsterdam
BEGIN:STANDARD
DTSTART:20210101T000000
TZNAME:CET
TZOFFSETTO:+0100
TZOFFSETFROM:+0100
END:STANDARD
BEGIN:DAYLIGHT
DTSTART:20210328T030000
TZNAME:CEST
TZOFFSETTO:+0200
TZOFFSETFROM:+0100
END:DAYLIGHT
BEGIN:STANDARD
DTSTART:20211031T020000
TZNAME:CET
TZOFFSETTO:+0100
TZOFFSETFROM:+0200
END:STANDARD
END:VTIMEZONE
END:VCALENDAR
