BEGIN:VCALENDAR
PRODID:-//eluceo/ical//2.0/EN
VERSION:2.0
CALSCALE:GREGORIAN
BEGIN:VEVENT
UID:https://hbb.rivio.dev/jeugd/2021/wedstrijd/28590
DTSTAMP:20260420T221005Z
SUMMARY:Gemert 2 - Con Brio 1
DESCRIPTION:Baan 11\, Wedstrijdnummer 15\, Afdeling G-klasse 
DTSTART:20211017T093000
DTEND:20211017T111500
LOCATION:City Resort Helmond
ATTACH;FMTTYPE=text/plain:https://hbb.rivio.dev/jeugd/2021/wedstrijd/28590
END:VEVENT
BEGIN:VEVENT
UID:https://hbb.rivio.dev/jeugd/2021/wedstrijd/28598
DTSTAMP:20260420T221005Z
SUMMARY:Con Brio 1 - Mixed 4
DESCRIPTION:Baan 11\, Wedstrijdnummer 23\, Afdeling G-klasse 
DTSTART:20211107T093000
DTEND:20211107T111500
LOCATION:City Resort Helmond
ATTACH;FMTTYPE=text/plain:https://hbb.rivio.dev/jeugd/2021/wedstrijd/28598
END:VEVENT
BEGIN:VEVENT
UID:https://hbb.rivio.dev/jeugd/2021/wedstrijd/28610
DTSTAMP:20260420T221005Z
SUMMARY:Mixed 5 - Con Brio 1
DESCRIPTION:Baan 12\, Wedstrijdnummer 34\, Afdeling G-klasse 
DTSTART:20211114T093000
DTEND:20211114T111500
LOCATION:City Resort Helmond
ATTACH;FMTTYPE=text/plain:https://hbb.rivio.dev/jeugd/2021/wedstrijd/28610
END:VEVENT
BEGIN:VEVENT
UID:https://hbb.rivio.dev/jeugd/2021/wedstrijd/28623
DTSTAMP:20260420T221005Z
SUMMARY:Con Brio 1 - RBC 1
DESCRIPTION:Baan 5\, Wedstrijdnummer 47\, Afdeling G-klasse 
DTSTART:20211212T093000
DTEND:20211212T111500
LOCATION:City Resort Helmond
ATTACH;FMTTYPE=text/plain:https://hbb.rivio.dev/jeugd/2021/wedstrijd/28623
END:VEVENT
BEGIN:VTIMEZONE
TZID:Europe/Amsterdam
BEGIN:STANDARD
DTSTART:20210101T000000
TZNAME:CET
TZOFFSETTO:+0100
TZOFFSETFROM:+0100
END:STANDARD
BEGIN:DAYLIGHT
DTSTART:20210328T030000
TZNAME:CEST
TZOFFSETTO:+0200
TZOFFSETFROM:+0100
END:DAYLIGHT
BEGIN:STANDARD
DTSTART:20211031T020000
TZNAME:CET
TZOFFSETTO:+0100
TZOFFSETFROM:+0200
END:STANDARD
END:VTIMEZONE
END:VCALENDAR
