BEGIN:VCALENDAR
PRODID:-//eluceo/ical//2.0/EN
VERSION:2.0
CALSCALE:GREGORIAN
BEGIN:VEVENT
UID:https://hbb.rivio.dev/jeugd/2021/wedstrijd/28579
DTSTAMP:20260420T133916Z
SUMMARY:Mierlo 3 - Mixed 2
DESCRIPTION:Baan 3\, Wedstrijdnummer 3\, Afdeling CD-klasse 
DTSTART:20211010T093000
DTEND:20211010T111500
LOCATION:City Resort Helmond
ATTACH;FMTTYPE=text/plain:https://hbb.rivio.dev/jeugd/2021/wedstrijd/28579
END:VEVENT
BEGIN:VEVENT
UID:https://hbb.rivio.dev/jeugd/2021/wedstrijd/28597
DTSTAMP:20260420T133916Z
SUMMARY:Gemert 1 - Mierlo 3
DESCRIPTION:Baan 5\, Wedstrijdnummer 19\, Afdeling CD-klasse 
DTSTART:20211107T093000
DTEND:20211107T111500
LOCATION:City Resort Helmond
ATTACH;FMTTYPE=text/plain:https://hbb.rivio.dev/jeugd/2021/wedstrijd/28597
END:VEVENT
BEGIN:VEVENT
UID:https://hbb.rivio.dev/jeugd/2021/wedstrijd/28605
DTSTAMP:20260420T133916Z
SUMMARY:Mierlo 3 - Phoenix 1
DESCRIPTION:Baan 3\, Wedstrijdnummer 29\, Afdeling CD-klasse 
DTSTART:20211114T093000
DTEND:20211114T111500
LOCATION:City Resort Helmond
ATTACH;FMTTYPE=text/plain:https://hbb.rivio.dev/jeugd/2021/wedstrijd/28605
END:VEVENT
BEGIN:VEVENT
UID:https://hbb.rivio.dev/jeugd/2021/wedstrijd/28615
DTSTAMP:20260420T133916Z
SUMMARY:De Valken 1 - Mierlo 3
DESCRIPTION:Baan 5\, Wedstrijdnummer 39\, Afdeling CD-klasse 
DTSTART:20211121T093000
DTEND:20211121T111500
LOCATION:City Resort Helmond
ATTACH;FMTTYPE=text/plain:https://hbb.rivio.dev/jeugd/2021/wedstrijd/28615
END:VEVENT
BEGIN:VTIMEZONE
TZID:Europe/Amsterdam
BEGIN:STANDARD
DTSTART:20210101T000000
TZNAME:CET
TZOFFSETTO:+0100
TZOFFSETFROM:+0100
END:STANDARD
BEGIN:DAYLIGHT
DTSTART:20210328T030000
TZNAME:CEST
TZOFFSETTO:+0200
TZOFFSETFROM:+0100
END:DAYLIGHT
BEGIN:STANDARD
DTSTART:20211031T020000
TZNAME:CET
TZOFFSETTO:+0100
TZOFFSETFROM:+0200
END:STANDARD
END:VTIMEZONE
END:VCALENDAR
