BEGIN:VCALENDAR
PRODID:-//eluceo/ical//2.0/EN
VERSION:2.0
CALSCALE:GREGORIAN
BEGIN:VEVENT
UID:https://hbb.rivio.dev/senioren/2021/wedstrijd/28168
DTSTAMP:20260420T234656Z
SUMMARY:Mierlo 9 - Smashing Bruang 3
DESCRIPTION:Baan 3\, Wedstrijdnummer 202\, Afdeling 4e klasse D
DTSTART:20210929T200000
DTEND:20210929T230000
LOCATION:City Resort Helmond
ATTACH;FMTTYPE=text/plain:https://hbb.rivio.dev/senioren/2021/wedstrijd/281
 68
END:VEVENT
BEGIN:VEVENT
UID:https://hbb.rivio.dev/senioren/2021/wedstrijd/28215
DTSTAMP:20260420T234656Z
SUMMARY:BC '85 2 - Smashing Bruang 3
DESCRIPTION:Baan 15\, Wedstrijdnummer 205\, Afdeling 4e klasse K
DTSTART:20211013T200000
DTEND:20211013T230000
LOCATION:City Resort Helmond
ATTACH;FMTTYPE=text/plain:https://hbb.rivio.dev/senioren/2021/wedstrijd/282
 15
END:VEVENT
BEGIN:VEVENT
UID:https://hbb.rivio.dev/senioren/2021/wedstrijd/28276
DTSTAMP:20260420T234656Z
SUMMARY:Smashing Bruang 3 - Con Brio 4
DESCRIPTION:Baan 1\, Wedstrijdnummer 208\, Afdeling 4e klasse K
DTSTART:20211111T200000
DTEND:20211111T230000
LOCATION:City Resort Helmond
ATTACH;FMTTYPE=text/plain:https://hbb.rivio.dev/senioren/2021/wedstrijd/282
 76
END:VEVENT
BEGIN:VEVENT
UID:https://hbb.rivio.dev/senioren/2021/wedstrijd/28299
DTSTAMP:20260420T234656Z
SUMMARY:Smashing Bruang 3 - Someren 6
DESCRIPTION:Baan 4\, Wedstrijdnummer 210\, Afdeling 4e klasse K
DTSTART:20211118T200000
DTEND:20211118T230000
LOCATION:City Resort Helmond
ATTACH;FMTTYPE=text/plain:https://hbb.rivio.dev/senioren/2021/wedstrijd/282
 99
END:VEVENT
BEGIN:VEVENT
UID:https://hbb.rivio.dev/senioren/2021/wedstrijd/28312
DTSTAMP:20260420T234656Z
SUMMARY:Smashing Bruang 3 - Phoenix 4
DESCRIPTION:Baan 12\, Wedstrijdnummer 2027\, Afdeling 4e klasse K
DTSTART:20211124T200000
DTEND:20211124T230000
LOCATION:City Resort Helmond
ATTACH;FMTTYPE=text/plain:https://hbb.rivio.dev/senioren/2021/wedstrijd/283
 12
END:VEVENT
BEGIN:VEVENT
UID:https://hbb.rivio.dev/senioren/2021/wedstrijd/28827
DTSTAMP:20260420T234656Z
SUMMARY:Smashing Bruang 3 - Mierlo 9
DESCRIPTION:Baan 4\, Wedstrijdnummer 1202\, Afdeling 4e klasse K
DTSTART:20220216T200000
DTEND:20220216T230000
LOCATION:City Resort Helmond
ATTACH;FMTTYPE=text/plain:https://hbb.rivio.dev/senioren/2021/wedstrijd/288
 27
END:VEVENT
BEGIN:VEVENT
UID:https://hbb.rivio.dev/senioren/2021/wedstrijd/28902
DTSTAMP:20260420T234656Z
SUMMARY:Con Brio 4 - Smashing Bruang 3
DESCRIPTION:Baan 15\, Wedstrijdnummer 1208\, Afdeling 4e klasse K
DTSTART:20220323T200000
DTEND:20220323T230000
LOCATION:City Resort Helmond
ATTACH;FMTTYPE=text/plain:https://hbb.rivio.dev/senioren/2021/wedstrijd/289
 02
END:VEVENT
BEGIN:VEVENT
UID:https://hbb.rivio.dev/senioren/2021/wedstrijd/28916
DTSTAMP:20260420T234656Z
SUMMARY:Smashing Bruang 3 - BC '85 2
DESCRIPTION:Baan 3\, Wedstrijdnummer 1205\, Afdeling 4e klasse K
DTSTART:20220330T200000
DTEND:20220330T230000
LOCATION:City Resort Helmond
ATTACH;FMTTYPE=text/plain:https://hbb.rivio.dev/senioren/2021/wedstrijd/289
 16
END:VEVENT
BEGIN:VEVENT
UID:https://hbb.rivio.dev/senioren/2021/wedstrijd/28952
DTSTAMP:20260420T234656Z
SUMMARY:Someren 6 - Smashing Bruang 3
DESCRIPTION:Baan 13\, Wedstrijdnummer 1210\, Afdeling 4e klasse D
DTSTART:20220407T200000
DTEND:20220407T230000
LOCATION:City Resort Helmond
ATTACH;FMTTYPE=text/plain:https://hbb.rivio.dev/senioren/2021/wedstrijd/289
 52
END:VEVENT
BEGIN:VEVENT
UID:https://hbb.rivio.dev/senioren/2021/wedstrijd/29059
DTSTAMP:20260420T234656Z
SUMMARY:Smashing Bruang 3 - Phoenix 4
DESCRIPTION:Baan 2\, Wedstrijdnummer 221\, Afdeling 4e klasse K
DTSTART:20220421T200000
DTEND:20220421T230000
LOCATION:City Resort Helmond
ATTACH;FMTTYPE=text/plain:https://hbb.rivio.dev/senioren/2021/wedstrijd/290
 59
END:VEVENT
BEGIN:VEVENT
UID:https://hbb.rivio.dev/senioren/2021/wedstrijd/29102
DTSTAMP:20260420T234656Z
SUMMARY:Mierlo 8 - Smashing Bruang 3
DESCRIPTION:Baan 1\, Wedstrijdnummer 222\, Afdeling 4e klasse K
DTSTART:20220519T200000
DTEND:20220519T230000
LOCATION:City Resort Helmond
ATTACH;FMTTYPE=text/plain:https://hbb.rivio.dev/senioren/2021/wedstrijd/291
 02
END:VEVENT
BEGIN:VEVENT
UID:https://hbb.rivio.dev/senioren/2021/wedstrijd/29103
DTSTAMP:20260420T234656Z
SUMMARY:Smashing Bruang 3 - BC '85 2
DESCRIPTION:Baan 2\, Wedstrijdnummer 224\, Afdeling 4e klasse K
DTSTART:20220525T200000
DTEND:20220525T230000
LOCATION:City Resort Helmond
ATTACH;FMTTYPE=text/plain:https://hbb.rivio.dev/senioren/2021/wedstrijd/291
 03
END:VEVENT
BEGIN:VEVENT
UID:https://hbb.rivio.dev/senioren/2021/wedstrijd/29104
DTSTAMP:20260420T234656Z
SUMMARY:Smashing Bruang 3 - Con Brio 4
DESCRIPTION:Baan 13\, Wedstrijdnummer 227\, Afdeling 4e klasse K
DTSTART:20220601T200000
DTEND:20220601T230000
LOCATION:City Resort Helmond
ATTACH;FMTTYPE=text/plain:https://hbb.rivio.dev/senioren/2021/wedstrijd/291
 04
END:VEVENT
BEGIN:VEVENT
UID:https://hbb.rivio.dev/senioren/2021/wedstrijd/29105
DTSTAMP:20260420T234656Z
SUMMARY:Heeze 1 - Smashing Bruang 3
DESCRIPTION:Baan 15\, Wedstrijdnummer 231\, Afdeling 4e klasse K
DTSTART:20220622T200000
DTEND:20220622T230000
LOCATION:City Resort Helmond
ATTACH;FMTTYPE=text/plain:https://hbb.rivio.dev/senioren/2021/wedstrijd/291
 05
END:VEVENT
BEGIN:VTIMEZONE
TZID:Europe/Amsterdam
BEGIN:STANDARD
DTSTART:20210101T000000
TZNAME:CET
TZOFFSETTO:+0100
TZOFFSETFROM:+0100
END:STANDARD
BEGIN:DAYLIGHT
DTSTART:20210328T030000
TZNAME:CEST
TZOFFSETTO:+0200
TZOFFSETFROM:+0100
END:DAYLIGHT
BEGIN:STANDARD
DTSTART:20211031T020000
TZNAME:CET
TZOFFSETTO:+0100
TZOFFSETFROM:+0200
END:STANDARD
BEGIN:DAYLIGHT
DTSTART:20220327T030000
TZNAME:CEST
TZOFFSETTO:+0200
TZOFFSETFROM:+0100
END:DAYLIGHT
BEGIN:STANDARD
DTSTART:20221030T020000
TZNAME:CET
TZOFFSETTO:+0100
TZOFFSETFROM:+0200
END:STANDARD
END:VTIMEZONE
END:VCALENDAR
