BEGIN:VCALENDAR
PRODID:-//eluceo/ical//2.0/EN
VERSION:2.0
CALSCALE:GREGORIAN
BEGIN:VEVENT
UID:https://hbb.rivio.dev/senioren/2021/wedstrijd/28178
DTSTAMP:20260420T134152Z
SUMMARY:Hanevoet 2 - Smashing Bruang 2
DESCRIPTION:Baan 3\, Wedstrijdnummer 72\, Afdeling 1e klasse 
DTSTART:20210930T200000
DTEND:20210930T230000
LOCATION:City Resort Helmond
ATTACH;FMTTYPE=text/plain:https://hbb.rivio.dev/senioren/2021/wedstrijd/281
 78
END:VEVENT
BEGIN:VEVENT
UID:https://hbb.rivio.dev/senioren/2021/wedstrijd/28240
DTSTAMP:20260420T134152Z
SUMMARY:Bakel 2 - Smashing Bruang 2
DESCRIPTION:Baan 5\, Wedstrijdnummer 77\, Afdeling 1e klasse 
DTSTART:20211021T200000
DTEND:20211021T230000
LOCATION:City Resort Helmond
ATTACH;FMTTYPE=text/plain:https://hbb.rivio.dev/senioren/2021/wedstrijd/282
 40
END:VEVENT
BEGIN:VEVENT
UID:https://hbb.rivio.dev/senioren/2021/wedstrijd/28274
DTSTAMP:20260420T134152Z
SUMMARY:Smashing Bruang 2 - Mierlo 5
DESCRIPTION:Baan 14\, Wedstrijdnummer 81\, Afdeling 1e klasse 
DTSTART:20211110T200000
DTEND:20211110T230000
LOCATION:City Resort Helmond
ATTACH;FMTTYPE=text/plain:https://hbb.rivio.dev/senioren/2021/wedstrijd/282
 74
END:VEVENT
BEGIN:VEVENT
UID:https://hbb.rivio.dev/senioren/2021/wedstrijd/28300
DTSTAMP:20260420T134152Z
SUMMARY:Mixed 4 - Smashing Bruang 2
DESCRIPTION:Baan 5\, Wedstrijdnummer 2011\, Afdeling 1e klasse 
DTSTART:20211118T200000
DTEND:20211118T230000
LOCATION:City Resort Helmond
ATTACH;FMTTYPE=text/plain:https://hbb.rivio.dev/senioren/2021/wedstrijd/283
 00
END:VEVENT
BEGIN:VEVENT
UID:https://hbb.rivio.dev/senioren/2021/wedstrijd/28805
DTSTAMP:20260420T134152Z
SUMMARY:Smashing Bruang 2 - De Valken 2
DESCRIPTION:Baan 4\, Wedstrijdnummer 85\, Afdeling 1e klasse 
DTSTART:20220209T200000
DTEND:20220209T230000
LOCATION:City Resort Helmond
ATTACH;FMTTYPE=text/plain:https://hbb.rivio.dev/senioren/2021/wedstrijd/288
 05
END:VEVENT
BEGIN:VEVENT
UID:https://hbb.rivio.dev/senioren/2021/wedstrijd/28837
DTSTAMP:20260420T134152Z
SUMMARY:Smashing Bruang 2 - BC '85 1
DESCRIPTION:Baan 4\, Wedstrijdnummer 88\, Afdeling 1e klasse 
DTSTART:20220217T200000
DTEND:20220217T230000
LOCATION:City Resort Helmond
ATTACH;FMTTYPE=text/plain:https://hbb.rivio.dev/senioren/2021/wedstrijd/288
 37
END:VEVENT
BEGIN:VEVENT
UID:https://hbb.rivio.dev/senioren/2021/wedstrijd/28862
DTSTAMP:20260420T134152Z
SUMMARY:Mixed 4 - Smashing Bruang 2
DESCRIPTION:Baan 14\, Wedstrijdnummer 91\, Afdeling 1e klasse 
DTSTART:20220224T200000
DTEND:20220224T230000
LOCATION:City Resort Helmond
ATTACH;FMTTYPE=text/plain:https://hbb.rivio.dev/senioren/2021/wedstrijd/288
 62
END:VEVENT
BEGIN:VEVENT
UID:https://hbb.rivio.dev/senioren/2021/wedstrijd/28886
DTSTAMP:20260420T134152Z
SUMMARY:Smashing Bruang 2 - Hanevoet 2
DESCRIPTION:Baan 4\, Wedstrijdnummer 1072\, Afdeling 1e klasse 
DTSTART:20220317T200000
DTEND:20220317T230000
LOCATION:City Resort Helmond
ATTACH;FMTTYPE=text/plain:https://hbb.rivio.dev/senioren/2021/wedstrijd/288
 86
END:VEVENT
BEGIN:VEVENT
UID:https://hbb.rivio.dev/senioren/2021/wedstrijd/28947
DTSTAMP:20260420T134152Z
SUMMARY:Smashing Bruang 2 - Bakel 2
DESCRIPTION:Baan 3\, Wedstrijdnummer 1077\, Afdeling 1e klasse 
DTSTART:20220407T200000
DTEND:20220407T230000
LOCATION:City Resort Helmond
ATTACH;FMTTYPE=text/plain:https://hbb.rivio.dev/senioren/2021/wedstrijd/289
 47
END:VEVENT
BEGIN:VEVENT
UID:https://hbb.rivio.dev/senioren/2021/wedstrijd/28968
DTSTAMP:20260420T134152Z
SUMMARY:Mierlo 5 - Smashing Bruang 2
DESCRIPTION:Baan 4\, Wedstrijdnummer 1081\, Afdeling 1e klasse 
DTSTART:20220414T200000
DTEND:20220414T230000
LOCATION:City Resort Helmond
ATTACH;FMTTYPE=text/plain:https://hbb.rivio.dev/senioren/2021/wedstrijd/289
 68
END:VEVENT
BEGIN:VEVENT
UID:https://hbb.rivio.dev/senioren/2021/wedstrijd/29002
DTSTAMP:20260420T134152Z
SUMMARY:De Valken 2 - Smashing Bruang 2
DESCRIPTION:Baan 11\, Wedstrijdnummer 1085\, Afdeling 1e klasse 
DTSTART:20220525T200000
DTEND:20220525T230000
LOCATION:City Resort Helmond
ATTACH;FMTTYPE=text/plain:https://hbb.rivio.dev/senioren/2021/wedstrijd/290
 02
END:VEVENT
BEGIN:VEVENT
UID:https://hbb.rivio.dev/senioren/2021/wedstrijd/29009
DTSTAMP:20260420T134152Z
SUMMARY:BC '85 1 - Smashing Bruang 2
DESCRIPTION:Baan 3\, Wedstrijdnummer 1088\, Afdeling 1e klasse 
DTSTART:20220601T200000
DTEND:20220601T230000
LOCATION:City Resort Helmond
ATTACH;FMTTYPE=text/plain:https://hbb.rivio.dev/senioren/2021/wedstrijd/290
 09
END:VEVENT
BEGIN:VEVENT
UID:https://hbb.rivio.dev/senioren/2021/wedstrijd/29043
DTSTAMP:20260420T134152Z
SUMMARY:Smashing Bruang 2 - Mixed 4
DESCRIPTION:Baan 14\, Wedstrijdnummer 1091\, Afdeling 1e klasse 
DTSTART:20220616T200000
DTEND:20220616T230000
LOCATION:City Resort Helmond
ATTACH;FMTTYPE=text/plain:https://hbb.rivio.dev/senioren/2021/wedstrijd/290
 43
END:VEVENT
BEGIN:VTIMEZONE
TZID:Europe/Amsterdam
BEGIN:STANDARD
DTSTART:20210101T000000
TZNAME:CET
TZOFFSETTO:+0100
TZOFFSETFROM:+0100
END:STANDARD
BEGIN:DAYLIGHT
DTSTART:20210328T030000
TZNAME:CEST
TZOFFSETTO:+0200
TZOFFSETFROM:+0100
END:DAYLIGHT
BEGIN:STANDARD
DTSTART:20211031T020000
TZNAME:CET
TZOFFSETTO:+0100
TZOFFSETFROM:+0200
END:STANDARD
BEGIN:DAYLIGHT
DTSTART:20220327T030000
TZNAME:CEST
TZOFFSETTO:+0200
TZOFFSETFROM:+0100
END:DAYLIGHT
BEGIN:STANDARD
DTSTART:20221030T020000
TZNAME:CET
TZOFFSETTO:+0100
TZOFFSETFROM:+0200
END:STANDARD
END:VTIMEZONE
END:VCALENDAR
