BEGIN:VCALENDAR
PRODID:-//eluceo/ical//2.0/EN
VERSION:2.0
CALSCALE:GREGORIAN
BEGIN:VEVENT
UID:https://hbb.rivio.dev/senioren/2021/wedstrijd/28186
DTSTAMP:20260420T134032Z
SUMMARY:Mierlo 3 - Smashing Bruang 1
DESCRIPTION:Baan 1\, Wedstrijdnummer 24\, Afdeling Hoofdklasse 
DTSTART:20211006T200000
DTEND:20211006T230000
LOCATION:City Resort Helmond
ATTACH;FMTTYPE=text/plain:https://hbb.rivio.dev/senioren/2021/wedstrijd/281
 86
END:VEVENT
BEGIN:VEVENT
UID:https://hbb.rivio.dev/senioren/2021/wedstrijd/28209
DTSTAMP:20260420T134032Z
SUMMARY:De Valken 1 - Smashing Bruang 1
DESCRIPTION:Baan 4\, Wedstrijdnummer 27\, Afdeling Hoofdklasse 
DTSTART:20211013T200000
DTEND:20211013T230000
LOCATION:City Resort Helmond
ATTACH;FMTTYPE=text/plain:https://hbb.rivio.dev/senioren/2021/wedstrijd/282
 09
END:VEVENT
BEGIN:VEVENT
UID:https://hbb.rivio.dev/senioren/2021/wedstrijd/28267
DTSTAMP:20260420T134032Z
SUMMARY:Smashing Bruang 1 - Mixed 2
DESCRIPTION:Baan 2\, Wedstrijdnummer 35\, Afdeling Hoofdklasse 
DTSTART:20211110T200000
DTEND:20211110T230000
LOCATION:City Resort Helmond
ATTACH;FMTTYPE=text/plain:https://hbb.rivio.dev/senioren/2021/wedstrijd/282
 67
END:VEVENT
BEGIN:VEVENT
UID:https://hbb.rivio.dev/senioren/2021/wedstrijd/28292
DTSTAMP:20260420T134032Z
SUMMARY:Mixed 2 - Smashing Bruang 1
DESCRIPTION:Baan 12\, Wedstrijdnummer 2007\, Afdeling Hoofdklasse 
DTSTART:20211117T200000
DTEND:20211117T230000
LOCATION:City Resort Helmond
ATTACH;FMTTYPE=text/plain:https://hbb.rivio.dev/senioren/2021/wedstrijd/282
 92
END:VEVENT
BEGIN:VEVENT
UID:https://hbb.rivio.dev/senioren/2021/wedstrijd/28816
DTSTAMP:20260420T134032Z
SUMMARY:Smashing Bruang 1 - Hanevoet 1
DESCRIPTION:Baan 4\, Wedstrijdnummer 40\, Afdeling Hoofdklasse 
DTSTART:20220210T200000
DTEND:20220210T230000
LOCATION:City Resort Helmond
ATTACH;FMTTYPE=text/plain:https://hbb.rivio.dev/senioren/2021/wedstrijd/288
 16
END:VEVENT
BEGIN:VEVENT
UID:https://hbb.rivio.dev/senioren/2021/wedstrijd/28854
DTSTAMP:20260420T134032Z
SUMMARY:Smashing Bruang 1 - Someren 1
DESCRIPTION:Baan 1\, Wedstrijdnummer 45\, Afdeling Hoofdklasse 
DTSTART:20220224T200000
DTEND:20220224T230000
LOCATION:City Resort Helmond
ATTACH;FMTTYPE=text/plain:https://hbb.rivio.dev/senioren/2021/wedstrijd/288
 54
END:VEVENT
BEGIN:VEVENT
UID:https://hbb.rivio.dev/senioren/2021/wedstrijd/28868
DTSTAMP:20260420T134032Z
SUMMARY:Phoenix 1 - Smashing Bruang 1
DESCRIPTION:Baan 5\, Wedstrijdnummer 49\, Afdeling Hoofdklasse 
DTSTART:20220309T200000
DTEND:20220309T230000
LOCATION:City Resort Helmond
ATTACH;FMTTYPE=text/plain:https://hbb.rivio.dev/senioren/2021/wedstrijd/288
 68
END:VEVENT
BEGIN:VEVENT
UID:https://hbb.rivio.dev/senioren/2021/wedstrijd/28923
DTSTAMP:20260420T134032Z
SUMMARY:Smashing Bruang 1 - Mierlo 3
DESCRIPTION:Baan 14\, Wedstrijdnummer 1024\, Afdeling Hoofdklasse 
DTSTART:20220330T200000
DTEND:20220330T230000
LOCATION:City Resort Helmond
ATTACH;FMTTYPE=text/plain:https://hbb.rivio.dev/senioren/2021/wedstrijd/289
 23
END:VEVENT
BEGIN:VEVENT
UID:https://hbb.rivio.dev/senioren/2021/wedstrijd/28939
DTSTAMP:20260420T134032Z
SUMMARY:Smashing Bruang 1 - De Valken 1
DESCRIPTION:Baan 5\, Wedstrijdnummer 1027\, Afdeling Hoofdklasse 
DTSTART:20220406T200000
DTEND:20220406T230000
LOCATION:City Resort Helmond
ATTACH;FMTTYPE=text/plain:https://hbb.rivio.dev/senioren/2021/wedstrijd/289
 39
END:VEVENT
BEGIN:VEVENT
UID:https://hbb.rivio.dev/senioren/2021/wedstrijd/28982
DTSTAMP:20260420T134032Z
SUMMARY:Mixed 2 - Smashing Bruang 1
DESCRIPTION:Baan 15\, Wedstrijdnummer 1035\, Afdeling Hoofdklasse 
DTSTART:20220420T200000
DTEND:20220420T230000
LOCATION:City Resort Helmond
ATTACH;FMTTYPE=text/plain:https://hbb.rivio.dev/senioren/2021/wedstrijd/289
 82
END:VEVENT
BEGIN:VEVENT
UID:https://hbb.rivio.dev/senioren/2021/wedstrijd/29016
DTSTAMP:20260420T134032Z
SUMMARY:Hanevoet 1 - Smashing Bruang 1
DESCRIPTION:Baan 12\, Wedstrijdnummer 1040\, Afdeling Hoofdklasse 
DTSTART:20220602T200000
DTEND:20220602T230000
LOCATION:City Resort Helmond
ATTACH;FMTTYPE=text/plain:https://hbb.rivio.dev/senioren/2021/wedstrijd/290
 16
END:VEVENT
BEGIN:VEVENT
UID:https://hbb.rivio.dev/senioren/2021/wedstrijd/29030
DTSTAMP:20260420T134032Z
SUMMARY:Someren 1 - Smashing Bruang 1
DESCRIPTION:Baan 12\, Wedstrijdnummer 1045\, Afdeling Hoofdklasse 
DTSTART:20220609T200000
DTEND:20220609T230000
LOCATION:City Resort Helmond
ATTACH;FMTTYPE=text/plain:https://hbb.rivio.dev/senioren/2021/wedstrijd/290
 30
END:VEVENT
BEGIN:VEVENT
UID:https://hbb.rivio.dev/senioren/2021/wedstrijd/29048
DTSTAMP:20260420T134032Z
SUMMARY:Smashing Bruang 1 - Phoenix 1
DESCRIPTION:Baan 14\, Wedstrijdnummer 1049\, Afdeling Hoofdklasse 
DTSTART:20220622T200000
DTEND:20220622T230000
LOCATION:City Resort Helmond
ATTACH;FMTTYPE=text/plain:https://hbb.rivio.dev/senioren/2021/wedstrijd/290
 48
END:VEVENT
BEGIN:VTIMEZONE
TZID:Europe/Amsterdam
BEGIN:STANDARD
DTSTART:20210101T000000
TZNAME:CET
TZOFFSETTO:+0100
TZOFFSETFROM:+0100
END:STANDARD
BEGIN:DAYLIGHT
DTSTART:20210328T030000
TZNAME:CEST
TZOFFSETTO:+0200
TZOFFSETFROM:+0100
END:DAYLIGHT
BEGIN:STANDARD
DTSTART:20211031T020000
TZNAME:CET
TZOFFSETTO:+0100
TZOFFSETFROM:+0200
END:STANDARD
BEGIN:DAYLIGHT
DTSTART:20220327T030000
TZNAME:CEST
TZOFFSETTO:+0200
TZOFFSETFROM:+0100
END:DAYLIGHT
BEGIN:STANDARD
DTSTART:20221030T020000
TZNAME:CET
TZOFFSETTO:+0100
TZOFFSETFROM:+0200
END:STANDARD
END:VTIMEZONE
END:VCALENDAR
