BEGIN:VCALENDAR
PRODID:-//eluceo/ical//2.0/EN
VERSION:2.0
CALSCALE:GREGORIAN
BEGIN:VEVENT
UID:https://hbb.rivio.dev/senioren/2021/wedstrijd/28198
DTSTAMP:20260420T163301Z
SUMMARY:Brabantia 2 - RBC 1
DESCRIPTION:Baan 3\, Wedstrijdnummer 50\, Afdeling Overgangsklasse 
DTSTART:20211007T200000
DTEND:20211007T230000
LOCATION:City Resort Helmond
ATTACH;FMTTYPE=text/plain:https://hbb.rivio.dev/senioren/2021/wedstrijd/281
 98
END:VEVENT
BEGIN:VEVENT
UID:https://hbb.rivio.dev/senioren/2021/wedstrijd/28236
DTSTAMP:20260420T163301Z
SUMMARY:RBC 1 - Bakel 1
DESCRIPTION:Baan 1\, Wedstrijdnummer 53\, Afdeling Overgangsklasse 
DTSTART:20211021T200000
DTEND:20211021T230000
LOCATION:City Resort Helmond
ATTACH;FMTTYPE=text/plain:https://hbb.rivio.dev/senioren/2021/wedstrijd/282
 36
END:VEVENT
BEGIN:VEVENT
UID:https://hbb.rivio.dev/senioren/2021/wedstrijd/28261
DTSTAMP:20260420T163301Z
SUMMARY:RBC 1 - Mixed 3
DESCRIPTION:Baan 11\, Wedstrijdnummer 57\, Afdeling Overgangsklasse 
DTSTART:20211104T200000
DTEND:20211104T230000
LOCATION:City Resort Helmond
ATTACH;FMTTYPE=text/plain:https://hbb.rivio.dev/senioren/2021/wedstrijd/282
 61
END:VEVENT
BEGIN:VEVENT
UID:https://hbb.rivio.dev/senioren/2021/wedstrijd/28285
DTSTAMP:20260420T163301Z
SUMMARY:RBC 1 - Eindhoven 1
DESCRIPTION:Baan 15\, Wedstrijdnummer 61\, Afdeling Overgangsklasse 
DTSTART:20211111T200000
DTEND:20211111T230000
LOCATION:City Resort Helmond
ATTACH;FMTTYPE=text/plain:https://hbb.rivio.dev/senioren/2021/wedstrijd/282
 85
END:VEVENT
BEGIN:VEVENT
UID:https://hbb.rivio.dev/senioren/2021/wedstrijd/28849
DTSTAMP:20260420T163301Z
SUMMARY:Phoenix 2 - RBC 1
DESCRIPTION:Baan 11\, Wedstrijdnummer 67\, Afdeling Overgangsklasse 
DTSTART:20220223T200000
DTEND:20220223T230000
LOCATION:City Resort Helmond
ATTACH;FMTTYPE=text/plain:https://hbb.rivio.dev/senioren/2021/wedstrijd/288
 49
END:VEVENT
BEGIN:VEVENT
UID:https://hbb.rivio.dev/senioren/2021/wedstrijd/28883
DTSTAMP:20260420T163301Z
SUMMARY:Mierlo 4 - RBC 1
DESCRIPTION:Baan 1\, Wedstrijdnummer 69\, Afdeling Overgangsklasse 
DTSTART:20220317T200000
DTEND:20220317T230000
LOCATION:City Resort Helmond
ATTACH;FMTTYPE=text/plain:https://hbb.rivio.dev/senioren/2021/wedstrijd/288
 83
END:VEVENT
BEGIN:VEVENT
UID:https://hbb.rivio.dev/senioren/2021/wedstrijd/28906
DTSTAMP:20260420T163301Z
SUMMARY:RBC 1 - Brabantia 2
DESCRIPTION:Baan 4\, Wedstrijdnummer 1050\, Afdeling Overgangsklasse 
DTSTART:20220324T200000
DTEND:20220324T230000
LOCATION:City Resort Helmond
ATTACH;FMTTYPE=text/plain:https://hbb.rivio.dev/senioren/2021/wedstrijd/289
 06
END:VEVENT
BEGIN:VEVENT
UID:https://hbb.rivio.dev/senioren/2021/wedstrijd/28932
DTSTAMP:20260420T163301Z
SUMMARY:Bakel 1 - RBC 1
DESCRIPTION:Baan 13\, Wedstrijdnummer 1053\, Afdeling Overgangsklasse 
DTSTART:20220331T200000
DTEND:20220331T230000
LOCATION:City Resort Helmond
ATTACH;FMTTYPE=text/plain:https://hbb.rivio.dev/senioren/2021/wedstrijd/289
 32
END:VEVENT
BEGIN:VEVENT
UID:https://hbb.rivio.dev/senioren/2021/wedstrijd/28964
DTSTAMP:20260420T163301Z
SUMMARY:Mixed 3 - RBC 1
DESCRIPTION:Baan 15\, Wedstrijdnummer 1057\, Afdeling Overgangsklasse 
DTSTART:20220413T200000
DTEND:20220413T230000
LOCATION:City Resort Helmond
ATTACH;FMTTYPE=text/plain:https://hbb.rivio.dev/senioren/2021/wedstrijd/289
 64
END:VEVENT
BEGIN:VEVENT
UID:https://hbb.rivio.dev/senioren/2021/wedstrijd/28996
DTSTAMP:20260420T163301Z
SUMMARY:Eindhoven 1 - RBC 1
DESCRIPTION:Baan 13\, Wedstrijdnummer 1061\, Afdeling Overgangsklasse 
DTSTART:20220519T200000
DTEND:20220519T230000
LOCATION:City Resort Helmond
ATTACH;FMTTYPE=text/plain:https://hbb.rivio.dev/senioren/2021/wedstrijd/289
 96
END:VEVENT
BEGIN:VEVENT
UID:https://hbb.rivio.dev/senioren/2021/wedstrijd/29010
DTSTAMP:20260420T163301Z
SUMMARY:RBC 1 - Phoenix 2
DESCRIPTION:Baan 14\, Wedstrijdnummer 1067\, Afdeling Overgangsklasse 
DTSTART:20220601T200000
DTEND:20220601T230000
LOCATION:City Resort Helmond
ATTACH;FMTTYPE=text/plain:https://hbb.rivio.dev/senioren/2021/wedstrijd/290
 10
END:VEVENT
BEGIN:VEVENT
UID:https://hbb.rivio.dev/senioren/2021/wedstrijd/29051
DTSTAMP:20260420T163301Z
SUMMARY:RBC 1 - Mierlo 4
DESCRIPTION:Baan 3\, Wedstrijdnummer 1069\, Afdeling Overgangsklasse 
DTSTART:20220623T200000
DTEND:20220623T230000
LOCATION:City Resort Helmond
ATTACH;FMTTYPE=text/plain:https://hbb.rivio.dev/senioren/2021/wedstrijd/290
 51
END:VEVENT
BEGIN:VTIMEZONE
TZID:Europe/Amsterdam
BEGIN:STANDARD
DTSTART:20210101T000000
TZNAME:CET
TZOFFSETTO:+0100
TZOFFSETFROM:+0100
END:STANDARD
BEGIN:DAYLIGHT
DTSTART:20210328T030000
TZNAME:CEST
TZOFFSETTO:+0200
TZOFFSETFROM:+0100
END:DAYLIGHT
BEGIN:STANDARD
DTSTART:20211031T020000
TZNAME:CET
TZOFFSETTO:+0100
TZOFFSETFROM:+0200
END:STANDARD
BEGIN:DAYLIGHT
DTSTART:20220327T030000
TZNAME:CEST
TZOFFSETTO:+0200
TZOFFSETFROM:+0100
END:DAYLIGHT
BEGIN:STANDARD
DTSTART:20221030T020000
TZNAME:CET
TZOFFSETTO:+0100
TZOFFSETFROM:+0200
END:STANDARD
END:VTIMEZONE
END:VCALENDAR
