BEGIN:VCALENDAR
PRODID:-//eluceo/ical//2.0/EN
VERSION:2.0
CALSCALE:GREGORIAN
BEGIN:VEVENT
UID:https://hbb.rivio.dev/senioren/2021/wedstrijd/28189
DTSTAMP:20260420T150324Z
SUMMARY:De Valken 4 - Mixed 6
DESCRIPTION:Baan 4\, Wedstrijdnummer 180\, Afdeling 3e klasse II
DTSTART:20211006T200000
DTEND:20211006T230000
LOCATION:City Resort Helmond
ATTACH;FMTTYPE=text/plain:https://hbb.rivio.dev/senioren/2021/wedstrijd/281
 89
END:VEVENT
BEGIN:VEVENT
UID:https://hbb.rivio.dev/senioren/2021/wedstrijd/28225
DTSTAMP:20260420T150324Z
SUMMARY:De Valken 4 - Someren 4
DESCRIPTION:Baan 15\, Wedstrijdnummer 184\, Afdeling 3e klasse II
DTSTART:20211014T200000
DTEND:20211014T230000
LOCATION:City Resort Helmond
ATTACH;FMTTYPE=text/plain:https://hbb.rivio.dev/senioren/2021/wedstrijd/282
 25
END:VEVENT
BEGIN:VEVENT
UID:https://hbb.rivio.dev/senioren/2021/wedstrijd/28247
DTSTAMP:20260420T150324Z
SUMMARY:De Valken 4 - Ganzeveer 2
DESCRIPTION:Baan 2\, Wedstrijdnummer 188\, Afdeling 3e klasse II
DTSTART:20211103T200000
DTEND:20211103T230000
LOCATION:City Resort Helmond
ATTACH;FMTTYPE=text/plain:https://hbb.rivio.dev/senioren/2021/wedstrijd/282
 47
END:VEVENT
BEGIN:VEVENT
UID:https://hbb.rivio.dev/senioren/2021/wedstrijd/28308
DTSTAMP:20260420T150324Z
SUMMARY:Rudra 2 - De Valken 4
DESCRIPTION:Baan 3\, Wedstrijdnummer 2024\, Afdeling 3e klasse I
DTSTART:20211124T200000
DTEND:20211124T230000
LOCATION:City Resort Helmond
ATTACH;FMTTYPE=text/plain:https://hbb.rivio.dev/senioren/2021/wedstrijd/283
 08
END:VEVENT
BEGIN:VEVENT
UID:https://hbb.rivio.dev/senioren/2021/wedstrijd/28822
DTSTAMP:20260420T150324Z
SUMMARY:ASML 1 - De Valken 4
DESCRIPTION:Baan 14\, Wedstrijdnummer 194\, Afdeling 3e klasse II
DTSTART:20220210T200000
DTEND:20220210T230000
LOCATION:City Resort Helmond
ATTACH;FMTTYPE=text/plain:https://hbb.rivio.dev/senioren/2021/wedstrijd/288
 22
END:VEVENT
BEGIN:VEVENT
UID:https://hbb.rivio.dev/senioren/2021/wedstrijd/28847
DTSTAMP:20260420T150324Z
SUMMARY:Mierlo 7 - De Valken 4
DESCRIPTION:Baan 4\, Wedstrijdnummer 196\, Afdeling 3e klasse II
DTSTART:20220223T200000
DTEND:20220223T230000
LOCATION:City Resort Helmond
ATTACH;FMTTYPE=text/plain:https://hbb.rivio.dev/senioren/2021/wedstrijd/288
 47
END:VEVENT
BEGIN:VEVENT
UID:https://hbb.rivio.dev/senioren/2021/wedstrijd/28881
DTSTAMP:20260420T150324Z
SUMMARY:BCAB 2 - De Valken 4
DESCRIPTION:Baan 14\, Wedstrijdnummer 198\, Afdeling 3e klasse II
DTSTART:20220310T200000
DTEND:20220310T230000
LOCATION:City Resort Helmond
ATTACH;FMTTYPE=text/plain:https://hbb.rivio.dev/senioren/2021/wedstrijd/288
 81
END:VEVENT
BEGIN:VEVENT
UID:https://hbb.rivio.dev/senioren/2021/wedstrijd/28896
DTSTAMP:20260420T150324Z
SUMMARY:Mixed 6 - De Valken 4
DESCRIPTION:Baan 4\, Wedstrijdnummer 1180\, Afdeling 3e klasse II
DTSTART:20220323T200000
DTEND:20220323T230000
LOCATION:City Resort Helmond
ATTACH;FMTTYPE=text/plain:https://hbb.rivio.dev/senioren/2021/wedstrijd/288
 96
END:VEVENT
BEGIN:VEVENT
UID:https://hbb.rivio.dev/senioren/2021/wedstrijd/28950
DTSTAMP:20260420T150324Z
SUMMARY:Someren 4 - De Valken 4
DESCRIPTION:Baan 11\, Wedstrijdnummer 1184\, Afdeling 3e klasse II
DTSTART:20220407T200000
DTEND:20220407T230000
LOCATION:City Resort Helmond
ATTACH;FMTTYPE=text/plain:https://hbb.rivio.dev/senioren/2021/wedstrijd/289
 50
END:VEVENT
BEGIN:VEVENT
UID:https://hbb.rivio.dev/senioren/2021/wedstrijd/28962
DTSTAMP:20260420T150324Z
SUMMARY:Ganzeveer 2 - De Valken 4
DESCRIPTION:Baan 13\, Wedstrijdnummer 1188\, Afdeling 3e klasse II
DTSTART:20220413T200000
DTEND:20220413T230000
LOCATION:City Resort Helmond
ATTACH;FMTTYPE=text/plain:https://hbb.rivio.dev/senioren/2021/wedstrijd/289
 62
END:VEVENT
BEGIN:VEVENT
UID:https://hbb.rivio.dev/senioren/2021/wedstrijd/29012
DTSTAMP:20260420T150324Z
SUMMARY:De Valken 4 - ASML 1
DESCRIPTION:Baan 3\, Wedstrijdnummer 1194\, Afdeling 3e klasse II
DTSTART:20220602T200000
DTEND:20220602T230000
LOCATION:City Resort Helmond
ATTACH;FMTTYPE=text/plain:https://hbb.rivio.dev/senioren/2021/wedstrijd/290
 12
END:VEVENT
BEGIN:VEVENT
UID:https://hbb.rivio.dev/senioren/2021/wedstrijd/29021
DTSTAMP:20260420T150324Z
SUMMARY:De Valken 4 - Mierlo 7
DESCRIPTION:Baan 4\, Wedstrijdnummer 1196\, Afdeling 3e klasse II
DTSTART:20220608T200000
DTEND:20220608T230000
LOCATION:City Resort Helmond
ATTACH;FMTTYPE=text/plain:https://hbb.rivio.dev/senioren/2021/wedstrijd/290
 21
END:VEVENT
BEGIN:VEVENT
UID:https://hbb.rivio.dev/senioren/2021/wedstrijd/29049
DTSTAMP:20260420T150324Z
SUMMARY:De Valken 4 - BCAB 2
DESCRIPTION:Baan 1\, Wedstrijdnummer 1198\, Afdeling 3e klasse II
DTSTART:20220623T200000
DTEND:20220623T230000
LOCATION:City Resort Helmond
ATTACH;FMTTYPE=text/plain:https://hbb.rivio.dev/senioren/2021/wedstrijd/290
 49
END:VEVENT
BEGIN:VTIMEZONE
TZID:Europe/Amsterdam
BEGIN:STANDARD
DTSTART:20210101T000000
TZNAME:CET
TZOFFSETTO:+0100
TZOFFSETFROM:+0100
END:STANDARD
BEGIN:DAYLIGHT
DTSTART:20210328T030000
TZNAME:CEST
TZOFFSETTO:+0200
TZOFFSETFROM:+0100
END:DAYLIGHT
BEGIN:STANDARD
DTSTART:20211031T020000
TZNAME:CET
TZOFFSETTO:+0100
TZOFFSETFROM:+0200
END:STANDARD
BEGIN:DAYLIGHT
DTSTART:20220327T030000
TZNAME:CEST
TZOFFSETTO:+0200
TZOFFSETFROM:+0100
END:DAYLIGHT
BEGIN:STANDARD
DTSTART:20221030T020000
TZNAME:CET
TZOFFSETTO:+0100
TZOFFSETFROM:+0200
END:STANDARD
END:VTIMEZONE
END:VCALENDAR
