BEGIN:VCALENDAR
PRODID:-//eluceo/ical//2.0/EN
VERSION:2.0
CALSCALE:GREGORIAN
BEGIN:VEVENT
UID:https://hbb.rivio.dev/senioren/2021/wedstrijd/28196
DTSTAMP:20260420T151847Z
SUMMARY:De Valken 3 - Mixed 5
DESCRIPTION:Baan 1\, Wedstrijdnummer 93\, Afdeling 2e klasse D
DTSTART:20211007T200000
DTEND:20211007T230000
LOCATION:City Resort Helmond
ATTACH;FMTTYPE=text/plain:https://hbb.rivio.dev/senioren/2021/wedstrijd/281
 96
END:VEVENT
BEGIN:VEVENT
UID:https://hbb.rivio.dev/senioren/2021/wedstrijd/28211
DTSTAMP:20260420T151847Z
SUMMARY:De Valken 3 - Geldrop 2
DESCRIPTION:Baan 11\, Wedstrijdnummer 97\, Afdeling 2e klasse D
DTSTART:20211013T200000
DTEND:20211013T230000
LOCATION:City Resort Helmond
ATTACH;FMTTYPE=text/plain:https://hbb.rivio.dev/senioren/2021/wedstrijd/282
 11
END:VEVENT
BEGIN:VEVENT
UID:https://hbb.rivio.dev/senioren/2021/wedstrijd/28258
DTSTAMP:20260420T151847Z
SUMMARY:Someren 2 - De Valken 3
DESCRIPTION:Baan 3\, Wedstrijdnummer 100\, Afdeling 2e klasse K
DTSTART:20211104T200000
DTEND:20211104T230000
LOCATION:City Resort Helmond
ATTACH;FMTTYPE=text/plain:https://hbb.rivio.dev/senioren/2021/wedstrijd/282
 58
END:VEVENT
BEGIN:VEVENT
UID:https://hbb.rivio.dev/senioren/2021/wedstrijd/28269
DTSTAMP:20260420T151847Z
SUMMARY:Mierlo 6 - De Valken 3
DESCRIPTION:Baan 4\, Wedstrijdnummer 102\, Afdeling 2e klasse D
DTSTART:20211110T200000
DTEND:20211110T230000
LOCATION:City Resort Helmond
ATTACH;FMTTYPE=text/plain:https://hbb.rivio.dev/senioren/2021/wedstrijd/282
 69
END:VEVENT
BEGIN:VEVENT
UID:https://hbb.rivio.dev/senioren/2021/wedstrijd/28310
DTSTAMP:20260420T151847Z
SUMMARY:De Valken 3 - Phoenix 3
DESCRIPTION:Baan 5\, Wedstrijdnummer 2018\, Afdeling 2e klasse D
DTSTART:20211124T200000
DTEND:20211124T230000
LOCATION:City Resort Helmond
ATTACH;FMTTYPE=text/plain:https://hbb.rivio.dev/senioren/2021/wedstrijd/283
 10
END:VEVENT
BEGIN:VEVENT
UID:https://hbb.rivio.dev/senioren/2021/wedstrijd/28810
DTSTAMP:20260420T151847Z
SUMMARY:Con Brio 3 - De Valken 3
DESCRIPTION:Baan 12\, Wedstrijdnummer 104\, Afdeling 2e klasse D
DTSTART:20220209T200000
DTEND:20220209T230000
LOCATION:City Resort Helmond
ATTACH;FMTTYPE=text/plain:https://hbb.rivio.dev/senioren/2021/wedstrijd/288
 10
END:VEVENT
BEGIN:VEVENT
UID:https://hbb.rivio.dev/senioren/2021/wedstrijd/28856
DTSTAMP:20260420T151847Z
SUMMARY:Mixed 5 - De Valken 3
DESCRIPTION:Baan 3\, Wedstrijdnummer 1093\, Afdeling 2e klasse K
DTSTART:20220224T200000
DTEND:20220224T230000
LOCATION:City Resort Helmond
ATTACH;FMTTYPE=text/plain:https://hbb.rivio.dev/senioren/2021/wedstrijd/288
 56
END:VEVENT
BEGIN:VEVENT
UID:https://hbb.rivio.dev/senioren/2021/wedstrijd/28870
DTSTAMP:20260420T151847Z
SUMMARY:Geldrop 2 - De Valken 3
DESCRIPTION:Baan 12\, Wedstrijdnummer 1097\, Afdeling 2e klasse K
DTSTART:20220309T200000
DTEND:20220309T230000
LOCATION:City Resort Helmond
ATTACH;FMTTYPE=text/plain:https://hbb.rivio.dev/senioren/2021/wedstrijd/288
 70
END:VEVENT
BEGIN:VEVENT
UID:https://hbb.rivio.dev/senioren/2021/wedstrijd/28904
DTSTAMP:20260420T151847Z
SUMMARY:De Valken 3 - Someren 2
DESCRIPTION:Baan 2\, Wedstrijdnummer 1100\, Afdeling 2e klasse D
DTSTART:20220324T200000
DTEND:20220324T230000
LOCATION:City Resort Helmond
ATTACH;FMTTYPE=text/plain:https://hbb.rivio.dev/senioren/2021/wedstrijd/289
 04
END:VEVENT
BEGIN:VEVENT
UID:https://hbb.rivio.dev/senioren/2021/wedstrijd/28941
DTSTAMP:20260420T151847Z
SUMMARY:De Valken 3 - Mierlo 6
DESCRIPTION:Baan 12\, Wedstrijdnummer 1102\, Afdeling 2e klasse D
DTSTART:20220406T200000
DTEND:20220406T230000
LOCATION:City Resort Helmond
ATTACH;FMTTYPE=text/plain:https://hbb.rivio.dev/senioren/2021/wedstrijd/289
 41
END:VEVENT
BEGIN:VEVENT
UID:https://hbb.rivio.dev/senioren/2021/wedstrijd/28961
DTSTAMP:20260420T151847Z
SUMMARY:De Valken 3 - Con Brio 3
DESCRIPTION:Baan 12\, Wedstrijdnummer 1104\, Afdeling 2e klasse D
DTSTART:20220413T200000
DTEND:20220413T230000
LOCATION:City Resort Helmond
ATTACH;FMTTYPE=text/plain:https://hbb.rivio.dev/senioren/2021/wedstrijd/289
 61
END:VEVENT
BEGIN:VEVENT
UID:https://hbb.rivio.dev/senioren/2021/wedstrijd/29055
DTSTAMP:20260420T151847Z
SUMMARY:De Valken 3 - Gemert 1
DESCRIPTION:Baan 12\, Wedstrijdnummer 137\, Afdeling 2e klasse D
DTSTART:20220420T200000
DTEND:20220420T230000
LOCATION:City Resort Helmond
ATTACH;FMTTYPE=text/plain:https://hbb.rivio.dev/senioren/2021/wedstrijd/290
 55
END:VEVENT
BEGIN:VEVENT
UID:https://hbb.rivio.dev/senioren/2021/wedstrijd/29062
DTSTAMP:20260420T151847Z
SUMMARY:Mierlo 6 - De Valken 3
DESCRIPTION:Baan 2\, Wedstrijdnummer 140\, Afdeling 2e klasse D
DTSTART:20220518T200000
DTEND:20220518T230000
LOCATION:City Resort Helmond
ATTACH;FMTTYPE=text/plain:https://hbb.rivio.dev/senioren/2021/wedstrijd/290
 62
END:VEVENT
BEGIN:VEVENT
UID:https://hbb.rivio.dev/senioren/2021/wedstrijd/29077
DTSTAMP:20260420T151847Z
SUMMARY:De Valken 3 - Someren 3
DESCRIPTION:Baan 15\, Wedstrijdnummer 143\, Afdeling 2e klasse D
DTSTART:20220602T200000
DTEND:20220602T230000
LOCATION:City Resort Helmond
ATTACH;FMTTYPE=text/plain:https://hbb.rivio.dev/senioren/2021/wedstrijd/290
 77
END:VEVENT
BEGIN:VEVENT
UID:https://hbb.rivio.dev/senioren/2021/wedstrijd/29088
DTSTAMP:20260420T151847Z
SUMMARY:Con Brio 3 - De Valken 3
DESCRIPTION:Baan 5\, Wedstrijdnummer 146\, Afdeling 2e klasse D
DTSTART:20220616T200000
DTEND:20220616T230000
LOCATION:City Resort Helmond
ATTACH;FMTTYPE=text/plain:https://hbb.rivio.dev/senioren/2021/wedstrijd/290
 88
END:VEVENT
BEGIN:VEVENT
UID:https://hbb.rivio.dev/senioren/2021/wedstrijd/29094
DTSTAMP:20260420T151847Z
SUMMARY:De Valken 3 - Phoenix 3
DESCRIPTION:Baan 4\, Wedstrijdnummer 149\, Afdeling 2e klasse D
DTSTART:20220623T200000
DTEND:20220623T230000
LOCATION:City Resort Helmond
ATTACH;FMTTYPE=text/plain:https://hbb.rivio.dev/senioren/2021/wedstrijd/290
 94
END:VEVENT
BEGIN:VTIMEZONE
TZID:Europe/Amsterdam
BEGIN:STANDARD
DTSTART:20210101T000000
TZNAME:CET
TZOFFSETTO:+0100
TZOFFSETFROM:+0100
END:STANDARD
BEGIN:DAYLIGHT
DTSTART:20210328T030000
TZNAME:CEST
TZOFFSETTO:+0200
TZOFFSETFROM:+0100
END:DAYLIGHT
BEGIN:STANDARD
DTSTART:20211031T020000
TZNAME:CET
TZOFFSETTO:+0100
TZOFFSETFROM:+0200
END:STANDARD
BEGIN:DAYLIGHT
DTSTART:20220327T030000
TZNAME:CEST
TZOFFSETTO:+0200
TZOFFSETFROM:+0100
END:DAYLIGHT
BEGIN:STANDARD
DTSTART:20221030T020000
TZNAME:CET
TZOFFSETTO:+0100
TZOFFSETFROM:+0200
END:STANDARD
END:VTIMEZONE
END:VCALENDAR
