BEGIN:VCALENDAR
PRODID:-//eluceo/ical//2.0/EN
VERSION:2.0
CALSCALE:GREGORIAN
BEGIN:VEVENT
UID:https://hbb.rivio.dev/senioren/2021/wedstrijd/28209
DTSTAMP:20260420T190438Z
SUMMARY:De Valken 1 - Smashing Bruang 1
DESCRIPTION:Baan 4\, Wedstrijdnummer 27\, Afdeling Hoofdklasse 
DTSTART:20211013T200000
DTEND:20211013T230000
LOCATION:City Resort Helmond
ATTACH;FMTTYPE=text/plain:https://hbb.rivio.dev/senioren/2021/wedstrijd/282
 09
END:VEVENT
BEGIN:VEVENT
UID:https://hbb.rivio.dev/senioren/2021/wedstrijd/28234
DTSTAMP:20260420T190438Z
SUMMARY:De Valken 1 - Mixed 2
DESCRIPTION:Baan 14\, Wedstrijdnummer 32\, Afdeling Hoofdklasse 
DTSTART:20211020T200000
DTEND:20211020T230000
LOCATION:City Resort Helmond
ATTACH;FMTTYPE=text/plain:https://hbb.rivio.dev/senioren/2021/wedstrijd/282
 34
END:VEVENT
BEGIN:VEVENT
UID:https://hbb.rivio.dev/senioren/2021/wedstrijd/28283
DTSTAMP:20260420T190438Z
SUMMARY:De Valken 1 - Hanevoet 1
DESCRIPTION:Baan 13\, Wedstrijdnummer 37\, Afdeling Hoofdklasse 
DTSTART:20211111T200000
DTEND:20211111T230000
LOCATION:City Resort Helmond
ATTACH;FMTTYPE=text/plain:https://hbb.rivio.dev/senioren/2021/wedstrijd/282
 83
END:VEVENT
BEGIN:VEVENT
UID:https://hbb.rivio.dev/senioren/2021/wedstrijd/28291
DTSTAMP:20260420T190438Z
SUMMARY:De Valken 1 - Phoenix 1
DESCRIPTION:Baan 11\, Wedstrijdnummer 2004\, Afdeling Hoofdklasse 
DTSTART:20211117T200000
DTEND:20211117T230000
LOCATION:City Resort Helmond
ATTACH;FMTTYPE=text/plain:https://hbb.rivio.dev/senioren/2021/wedstrijd/282
 91
END:VEVENT
BEGIN:VEVENT
UID:https://hbb.rivio.dev/senioren/2021/wedstrijd/28817
DTSTAMP:20260420T190438Z
SUMMARY:Someren 1 - De Valken 1
DESCRIPTION:Baan 5\, Wedstrijdnummer 41\, Afdeling Hoofdklasse 
DTSTART:20220210T200000
DTEND:20220210T230000
LOCATION:City Resort Helmond
ATTACH;FMTTYPE=text/plain:https://hbb.rivio.dev/senioren/2021/wedstrijd/288
 17
END:VEVENT
BEGIN:VEVENT
UID:https://hbb.rivio.dev/senioren/2021/wedstrijd/28844
DTSTAMP:20260420T190438Z
SUMMARY:Phoenix 1 - De Valken 1
DESCRIPTION:Baan 1\, Wedstrijdnummer 44\, Afdeling Hoofdklasse 
DTSTART:20220223T200000
DTEND:20220223T230000
LOCATION:City Resort Helmond
ATTACH;FMTTYPE=text/plain:https://hbb.rivio.dev/senioren/2021/wedstrijd/288
 44
END:VEVENT
BEGIN:VEVENT
UID:https://hbb.rivio.dev/senioren/2021/wedstrijd/28869
DTSTAMP:20260420T190438Z
SUMMARY:Mierlo 3 - De Valken 1
DESCRIPTION:Baan 11\, Wedstrijdnummer 47\, Afdeling Hoofdklasse 
DTSTART:20220309T200000
DTEND:20220309T230000
LOCATION:City Resort Helmond
ATTACH;FMTTYPE=text/plain:https://hbb.rivio.dev/senioren/2021/wedstrijd/288
 69
END:VEVENT
BEGIN:VEVENT
UID:https://hbb.rivio.dev/senioren/2021/wedstrijd/28939
DTSTAMP:20260420T190438Z
SUMMARY:Smashing Bruang 1 - De Valken 1
DESCRIPTION:Baan 5\, Wedstrijdnummer 1027\, Afdeling Hoofdklasse 
DTSTART:20220406T200000
DTEND:20220406T230000
LOCATION:City Resort Helmond
ATTACH;FMTTYPE=text/plain:https://hbb.rivio.dev/senioren/2021/wedstrijd/289
 39
END:VEVENT
BEGIN:VEVENT
UID:https://hbb.rivio.dev/senioren/2021/wedstrijd/28960
DTSTAMP:20260420T190438Z
SUMMARY:Mixed 2 - De Valken 1
DESCRIPTION:Baan 11\, Wedstrijdnummer 1032\, Afdeling Hoofdklasse 
DTSTART:20220413T200000
DTEND:20220413T230000
LOCATION:City Resort Helmond
ATTACH;FMTTYPE=text/plain:https://hbb.rivio.dev/senioren/2021/wedstrijd/289
 60
END:VEVENT
BEGIN:VEVENT
UID:https://hbb.rivio.dev/senioren/2021/wedstrijd/28989
DTSTAMP:20260420T190438Z
SUMMARY:Hanevoet 1 - De Valken 1
DESCRIPTION:Baan 15\, Wedstrijdnummer 1037\, Afdeling Hoofdklasse 
DTSTART:20220421T200000
DTEND:20220421T230000
LOCATION:City Resort Helmond
ATTACH;FMTTYPE=text/plain:https://hbb.rivio.dev/senioren/2021/wedstrijd/289
 89
END:VEVENT
BEGIN:VEVENT
UID:https://hbb.rivio.dev/senioren/2021/wedstrijd/29017
DTSTAMP:20260420T190438Z
SUMMARY:De Valken 1 - Someren 1
DESCRIPTION:Baan 13\, Wedstrijdnummer 1041\, Afdeling Hoofdklasse 
DTSTART:20220602T200000
DTEND:20220602T230000
LOCATION:City Resort Helmond
ATTACH;FMTTYPE=text/plain:https://hbb.rivio.dev/senioren/2021/wedstrijd/290
 17
END:VEVENT
BEGIN:VEVENT
UID:https://hbb.rivio.dev/senioren/2021/wedstrijd/29020
DTSTAMP:20260420T190438Z
SUMMARY:De Valken 1 - Phoenix 1
DESCRIPTION:Baan 2\, Wedstrijdnummer 1044\, Afdeling Hoofdklasse 
DTSTART:20220608T200000
DTEND:20220608T230000
LOCATION:City Resort Helmond
ATTACH;FMTTYPE=text/plain:https://hbb.rivio.dev/senioren/2021/wedstrijd/290
 20
END:VEVENT
BEGIN:VEVENT
UID:https://hbb.rivio.dev/senioren/2021/wedstrijd/29047
DTSTAMP:20260420T190438Z
SUMMARY:De Valken 1 - Mierlo 3
DESCRIPTION:Baan 13\, Wedstrijdnummer 1047\, Afdeling Hoofdklasse 
DTSTART:20220622T200000
DTEND:20220622T230000
LOCATION:City Resort Helmond
ATTACH;FMTTYPE=text/plain:https://hbb.rivio.dev/senioren/2021/wedstrijd/290
 47
END:VEVENT
BEGIN:VTIMEZONE
TZID:Europe/Amsterdam
BEGIN:STANDARD
DTSTART:20210101T000000
TZNAME:CET
TZOFFSETTO:+0100
TZOFFSETFROM:+0100
END:STANDARD
BEGIN:DAYLIGHT
DTSTART:20210328T030000
TZNAME:CEST
TZOFFSETTO:+0200
TZOFFSETFROM:+0100
END:DAYLIGHT
BEGIN:STANDARD
DTSTART:20211031T020000
TZNAME:CET
TZOFFSETTO:+0100
TZOFFSETFROM:+0200
END:STANDARD
BEGIN:DAYLIGHT
DTSTART:20220327T030000
TZNAME:CEST
TZOFFSETTO:+0200
TZOFFSETFROM:+0100
END:DAYLIGHT
BEGIN:STANDARD
DTSTART:20221030T020000
TZNAME:CET
TZOFFSETTO:+0100
TZOFFSETFROM:+0200
END:STANDARD
END:VTIMEZONE
END:VCALENDAR
