BEGIN:VCALENDAR
PRODID:-//eluceo/ical//2.0/EN
VERSION:2.0
CALSCALE:GREGORIAN
BEGIN:VEVENT
UID:https://hbb.rivio.dev/senioren/2021/wedstrijd/28182
DTSTAMP:20260420T151336Z
SUMMARY:Someren 5 - Heeze 1
DESCRIPTION:Baan 12\, Wedstrijdnummer 212\, Afdeling 4e klasse D
DTSTART:20210930T200000
DTEND:20210930T230000
LOCATION:City Resort Helmond
ATTACH;FMTTYPE=text/plain:https://hbb.rivio.dev/senioren/2021/wedstrijd/281
 82
END:VEVENT
BEGIN:VEVENT
UID:https://hbb.rivio.dev/senioren/2021/wedstrijd/28232
DTSTAMP:20260420T151337Z
SUMMARY:Ganzeveer 3 - Heeze 1
DESCRIPTION:Baan 12\, Wedstrijdnummer 215\, Afdeling 4e klasse D
DTSTART:20211020T200000
DTEND:20211020T230000
LOCATION:City Resort Helmond
ATTACH;FMTTYPE=text/plain:https://hbb.rivio.dev/senioren/2021/wedstrijd/282
 32
END:VEVENT
BEGIN:VEVENT
UID:https://hbb.rivio.dev/senioren/2021/wedstrijd/28281
DTSTAMP:20260420T151337Z
SUMMARY:Heeze 1 - Mierlo 8
DESCRIPTION:Baan 11\, Wedstrijdnummer 218\, Afdeling 4e klasse K
DTSTART:20211111T200000
DTEND:20211111T230000
LOCATION:City Resort Helmond
ATTACH;FMTTYPE=text/plain:https://hbb.rivio.dev/senioren/2021/wedstrijd/282
 81
END:VEVENT
BEGIN:VEVENT
UID:https://hbb.rivio.dev/senioren/2021/wedstrijd/28315
DTSTAMP:20260420T151337Z
SUMMARY:Con Brio 4 - Heeze 1
DESCRIPTION:Baan 15\, Wedstrijdnummer 2031\, Afdeling 4e klasse K
DTSTART:20211124T200000
DTEND:20211124T230000
LOCATION:City Resort Helmond
ATTACH;FMTTYPE=text/plain:https://hbb.rivio.dev/senioren/2021/wedstrijd/283
 15
END:VEVENT
BEGIN:VEVENT
UID:https://hbb.rivio.dev/senioren/2021/wedstrijd/28814
DTSTAMP:20260420T151337Z
SUMMARY:Heeze 1 - Phoenix 4
DESCRIPTION:Baan 2\, Wedstrijdnummer 220\, Afdeling 4e klasse K
DTSTART:20220210T200000
DTEND:20220210T230000
LOCATION:City Resort Helmond
ATTACH;FMTTYPE=text/plain:https://hbb.rivio.dev/senioren/2021/wedstrijd/288
 14
END:VEVENT
BEGIN:VEVENT
UID:https://hbb.rivio.dev/senioren/2021/wedstrijd/28841
DTSTAMP:20260420T151337Z
SUMMARY:Heeze 1 - Someren 5
DESCRIPTION:Baan 13\, Wedstrijdnummer 1212\, Afdeling 4e klasse K
DTSTART:20220217T200000
DTEND:20220217T230000
LOCATION:City Resort Helmond
ATTACH;FMTTYPE=text/plain:https://hbb.rivio.dev/senioren/2021/wedstrijd/288
 41
END:VEVENT
BEGIN:VEVENT
UID:https://hbb.rivio.dev/senioren/2021/wedstrijd/28890
DTSTAMP:20260420T151337Z
SUMMARY:Heeze 1 - Ganzeveer 3
DESCRIPTION:Baan 13\, Wedstrijdnummer 1215\, Afdeling 4e klasse K
DTSTART:20220317T200000
DTEND:20220317T230000
LOCATION:City Resort Helmond
ATTACH;FMTTYPE=text/plain:https://hbb.rivio.dev/senioren/2021/wedstrijd/288
 90
END:VEVENT
BEGIN:VEVENT
UID:https://hbb.rivio.dev/senioren/2021/wedstrijd/28926
DTSTAMP:20260420T151337Z
SUMMARY:Mierlo 8 - Heeze 1
DESCRIPTION:Baan 2\, Wedstrijdnummer 1218\, Afdeling 4e klasse K
DTSTART:20220331T200000
DTEND:20220331T230000
LOCATION:City Resort Helmond
ATTACH;FMTTYPE=text/plain:https://hbb.rivio.dev/senioren/2021/wedstrijd/289
 26
END:VEVENT
BEGIN:VEVENT
UID:https://hbb.rivio.dev/senioren/2021/wedstrijd/28958
DTSTAMP:20260420T151337Z
SUMMARY:Phoenix 4 - Heeze 1
DESCRIPTION:Baan 4\, Wedstrijdnummer 1220\, Afdeling 4e klasse D
DTSTART:20220413T200000
DTEND:20220413T230000
LOCATION:City Resort Helmond
ATTACH;FMTTYPE=text/plain:https://hbb.rivio.dev/senioren/2021/wedstrijd/289
 58
END:VEVENT
BEGIN:VEVENT
UID:https://hbb.rivio.dev/senioren/2021/wedstrijd/29068
DTSTAMP:20260420T151337Z
SUMMARY:Con Brio 4 - Heeze 1
DESCRIPTION:Baan 2\, Wedstrijdnummer 223\, Afdeling 4e klasse K
DTSTART:20220519T200000
DTEND:20220519T230000
LOCATION:City Resort Helmond
ATTACH;FMTTYPE=text/plain:https://hbb.rivio.dev/senioren/2021/wedstrijd/290
 68
END:VEVENT
BEGIN:VEVENT
UID:https://hbb.rivio.dev/senioren/2021/wedstrijd/29081
DTSTAMP:20260420T151337Z
SUMMARY:BC '85 2 - Heeze 1
DESCRIPTION:Baan 3\, Wedstrijdnummer 226\, Afdeling 4e klasse K
DTSTART:20220609T200000
DTEND:20220609T230000
LOCATION:City Resort Helmond
ATTACH;FMTTYPE=text/plain:https://hbb.rivio.dev/senioren/2021/wedstrijd/290
 81
END:VEVENT
BEGIN:VEVENT
UID:https://hbb.rivio.dev/senioren/2021/wedstrijd/29083
DTSTAMP:20260420T151337Z
SUMMARY:Heeze 1 - Mierlo 8
DESCRIPTION:Baan 5\, Wedstrijdnummer 229\, Afdeling 4e klasse K
DTSTART:20220615T200000
DTEND:20220615T230000
LOCATION:City Resort Helmond
ATTACH;FMTTYPE=text/plain:https://hbb.rivio.dev/senioren/2021/wedstrijd/290
 83
END:VEVENT
BEGIN:VEVENT
UID:https://hbb.rivio.dev/senioren/2021/wedstrijd/29105
DTSTAMP:20260420T151337Z
SUMMARY:Heeze 1 - Smashing Bruang 3
DESCRIPTION:Baan 15\, Wedstrijdnummer 231\, Afdeling 4e klasse K
DTSTART:20220622T200000
DTEND:20220622T230000
LOCATION:City Resort Helmond
ATTACH;FMTTYPE=text/plain:https://hbb.rivio.dev/senioren/2021/wedstrijd/291
 05
END:VEVENT
BEGIN:VTIMEZONE
TZID:Europe/Amsterdam
BEGIN:STANDARD
DTSTART:20210101T000000
TZNAME:CET
TZOFFSETTO:+0100
TZOFFSETFROM:+0100
END:STANDARD
BEGIN:DAYLIGHT
DTSTART:20210328T030000
TZNAME:CEST
TZOFFSETTO:+0200
TZOFFSETFROM:+0100
END:DAYLIGHT
BEGIN:STANDARD
DTSTART:20211031T020000
TZNAME:CET
TZOFFSETTO:+0100
TZOFFSETFROM:+0200
END:STANDARD
BEGIN:DAYLIGHT
DTSTART:20220327T030000
TZNAME:CEST
TZOFFSETTO:+0200
TZOFFSETFROM:+0100
END:DAYLIGHT
BEGIN:STANDARD
DTSTART:20221030T020000
TZNAME:CET
TZOFFSETTO:+0100
TZOFFSETFROM:+0200
END:STANDARD
END:VTIMEZONE
END:VCALENDAR
