BEGIN:VCALENDAR
PRODID:-//eluceo/ical//2.0/EN
VERSION:2.0
CALSCALE:GREGORIAN
BEGIN:VEVENT
UID:https://hbb.rivio.dev/senioren/2021/wedstrijd/28181
DTSTAMP:20260420T203325Z
SUMMARY:Heiakker 1 - Never Down 1
DESCRIPTION:Baan 11\, Wedstrijdnummer 155\, Afdeling 3e klasse I
DTSTART:20210930T200000
DTEND:20210930T230000
LOCATION:City Resort Helmond
ATTACH;FMTTYPE=text/plain:https://hbb.rivio.dev/senioren/2021/wedstrijd/281
 81
END:VEVENT
BEGIN:VEVENT
UID:https://hbb.rivio.dev/senioren/2021/wedstrijd/28218
DTSTAMP:20260420T203325Z
SUMMARY:Hanevoet 3 - Heiakker 1
DESCRIPTION:Baan 3\, Wedstrijdnummer 159\, Afdeling 3e klasse I
DTSTART:20211014T200000
DTEND:20211014T230000
LOCATION:City Resort Helmond
ATTACH;FMTTYPE=text/plain:https://hbb.rivio.dev/senioren/2021/wedstrijd/282
 18
END:VEVENT
BEGIN:VEVENT
UID:https://hbb.rivio.dev/senioren/2021/wedstrijd/28244
DTSTAMP:20260420T203325Z
SUMMARY:ASML 2 - Heiakker 1
DESCRIPTION:Baan 14\, Wedstrijdnummer 162\, Afdeling 3e klasse I
DTSTART:20211021T200000
DTEND:20211021T230000
LOCATION:City Resort Helmond
ATTACH;FMTTYPE=text/plain:https://hbb.rivio.dev/senioren/2021/wedstrijd/282
 44
END:VEVENT
BEGIN:VEVENT
UID:https://hbb.rivio.dev/senioren/2021/wedstrijd/28253
DTSTAMP:20260420T203325Z
SUMMARY:Rudra 2 - Heiakker 1
DESCRIPTION:Baan 13\, Wedstrijdnummer 165\, Afdeling 3e klasse I
DTSTART:20211103T200000
DTEND:20211103T230000
LOCATION:City Resort Helmond
ATTACH;FMTTYPE=text/plain:https://hbb.rivio.dev/senioren/2021/wedstrijd/282
 53
END:VEVENT
BEGIN:VEVENT
UID:https://hbb.rivio.dev/senioren/2021/wedstrijd/28295
DTSTAMP:20260420T203325Z
SUMMARY:Geldrop 3 - Heiakker 1
DESCRIPTION:Baan 15\, Wedstrijdnummer 168\, Afdeling 3e klasse I
DTSTART:20211117T200000
DTEND:20211117T230000
LOCATION:City Resort Helmond
ATTACH;FMTTYPE=text/plain:https://hbb.rivio.dev/senioren/2021/wedstrijd/282
 95
END:VEVENT
BEGIN:VEVENT
UID:https://hbb.rivio.dev/senioren/2021/wedstrijd/28319
DTSTAMP:20260420T203325Z
SUMMARY:Heiakker 1 - Someren 4
DESCRIPTION:Baan 4\, Wedstrijdnummer 2026\, Afdeling 3e klasse I
DTSTART:20211125T200000
DTEND:20211125T230000
LOCATION:City Resort Helmond
ATTACH;FMTTYPE=text/plain:https://hbb.rivio.dev/senioren/2021/wedstrijd/283
 19
END:VEVENT
BEGIN:VEVENT
UID:https://hbb.rivio.dev/senioren/2021/wedstrijd/28839
DTSTAMP:20260420T203325Z
SUMMARY:Heiakker 1 - Gemert 2
DESCRIPTION:Baan 11\, Wedstrijdnummer 173\, Afdeling 3e klasse I
DTSTART:20220217T200000
DTEND:20220217T230000
LOCATION:City Resort Helmond
ATTACH;FMTTYPE=text/plain:https://hbb.rivio.dev/senioren/2021/wedstrijd/288
 39
END:VEVENT
BEGIN:VEVENT
UID:https://hbb.rivio.dev/senioren/2021/wedstrijd/28875
DTSTAMP:20260420T203325Z
SUMMARY:Heiakker 1 - RBC 2
DESCRIPTION:Baan 2\, Wedstrijdnummer 178\, Afdeling 3e klasse I
DTSTART:20220310T200000
DTEND:20220310T230000
LOCATION:City Resort Helmond
ATTACH;FMTTYPE=text/plain:https://hbb.rivio.dev/senioren/2021/wedstrijd/288
 75
END:VEVENT
BEGIN:VEVENT
UID:https://hbb.rivio.dev/senioren/2021/wedstrijd/28888
DTSTAMP:20260420T203325Z
SUMMARY:Never Down 1 - Heiakker 1
DESCRIPTION:Baan 11\, Wedstrijdnummer 1155\, Afdeling 3e klasse I
DTSTART:20220317T200000
DTEND:20220317T230000
LOCATION:City Resort Helmond
ATTACH;FMTTYPE=text/plain:https://hbb.rivio.dev/senioren/2021/wedstrijd/288
 88
END:VEVENT
BEGIN:VEVENT
UID:https://hbb.rivio.dev/senioren/2021/wedstrijd/28946
DTSTAMP:20260420T203325Z
SUMMARY:Heiakker 1 - Hanevoet 3
DESCRIPTION:Baan 2\, Wedstrijdnummer 1159\, Afdeling 3e klasse I
DTSTART:20220407T200000
DTEND:20220407T230000
LOCATION:City Resort Helmond
ATTACH;FMTTYPE=text/plain:https://hbb.rivio.dev/senioren/2021/wedstrijd/289
 46
END:VEVENT
BEGIN:VEVENT
UID:https://hbb.rivio.dev/senioren/2021/wedstrijd/28970
DTSTAMP:20260420T203325Z
SUMMARY:Heiakker 1 - ASML 2
DESCRIPTION:Baan 10\, Wedstrijdnummer 1162\, Afdeling 3e klasse I
DTSTART:20220414T200000
DTEND:20220414T230000
LOCATION:City Resort Helmond
ATTACH;FMTTYPE=text/plain:https://hbb.rivio.dev/senioren/2021/wedstrijd/289
 70
END:VEVENT
BEGIN:VEVENT
UID:https://hbb.rivio.dev/senioren/2021/wedstrijd/28986
DTSTAMP:20260420T203325Z
SUMMARY:Heiakker 1 - Rudra 2
DESCRIPTION:Baan 12\, Wedstrijdnummer 1165\, Afdeling 3e klasse I
DTSTART:20220421T200000
DTEND:20220421T230000
LOCATION:City Resort Helmond
ATTACH;FMTTYPE=text/plain:https://hbb.rivio.dev/senioren/2021/wedstrijd/289
 86
END:VEVENT
BEGIN:VEVENT
UID:https://hbb.rivio.dev/senioren/2021/wedstrijd/29000
DTSTAMP:20260420T203325Z
SUMMARY:Heiakker 1 - Geldrop 3
DESCRIPTION:Baan 4\, Wedstrijdnummer 1168\, Afdeling 3e klasse I
DTSTART:20220525T200000
DTEND:20220525T230000
LOCATION:City Resort Helmond
ATTACH;FMTTYPE=text/plain:https://hbb.rivio.dev/senioren/2021/wedstrijd/290
 00
END:VEVENT
BEGIN:VEVENT
UID:https://hbb.rivio.dev/senioren/2021/wedstrijd/29008
DTSTAMP:20260420T203325Z
SUMMARY:Gemert 2 - Heiakker 1
DESCRIPTION:Baan 2\, Wedstrijdnummer 1173\, Afdeling 3e klasse I
DTSTART:20220601T200000
DTEND:20220601T230000
LOCATION:City Resort Helmond
ATTACH;FMTTYPE=text/plain:https://hbb.rivio.dev/senioren/2021/wedstrijd/290
 08
END:VEVENT
BEGIN:VEVENT
UID:https://hbb.rivio.dev/senioren/2021/wedstrijd/29052
DTSTAMP:20260420T203325Z
SUMMARY:RBC 2 - Heiakker 1
DESCRIPTION:Baan 13\, Wedstrijdnummer 1178\, Afdeling 3e klasse I
DTSTART:20220623T200000
DTEND:20220623T230000
LOCATION:City Resort Helmond
ATTACH;FMTTYPE=text/plain:https://hbb.rivio.dev/senioren/2021/wedstrijd/290
 52
END:VEVENT
BEGIN:VTIMEZONE
TZID:Europe/Amsterdam
BEGIN:STANDARD
DTSTART:20210101T000000
TZNAME:CET
TZOFFSETTO:+0100
TZOFFSETFROM:+0100
END:STANDARD
BEGIN:DAYLIGHT
DTSTART:20210328T030000
TZNAME:CEST
TZOFFSETTO:+0200
TZOFFSETFROM:+0100
END:DAYLIGHT
BEGIN:STANDARD
DTSTART:20211031T020000
TZNAME:CET
TZOFFSETTO:+0100
TZOFFSETFROM:+0200
END:STANDARD
BEGIN:DAYLIGHT
DTSTART:20220327T030000
TZNAME:CEST
TZOFFSETTO:+0200
TZOFFSETFROM:+0100
END:DAYLIGHT
BEGIN:STANDARD
DTSTART:20221030T020000
TZNAME:CET
TZOFFSETTO:+0100
TZOFFSETFROM:+0200
END:STANDARD
END:VTIMEZONE
END:VCALENDAR
