BEGIN:VCALENDAR
PRODID:-//eluceo/ical//2.0/EN
VERSION:2.0
CALSCALE:GREGORIAN
BEGIN:VEVENT
UID:https://hbb.rivio.dev/senioren/2021/wedstrijd/28181
DTSTAMP:20260420T133540Z
SUMMARY:Heiakker 1 - Never Down 1
DESCRIPTION:Baan 11\, Wedstrijdnummer 155\, Afdeling 3e klasse I
DTSTART:20210930T200000
DTEND:20210930T230000
LOCATION:City Resort Helmond
ATTACH;FMTTYPE=text/plain:https://hbb.rivio.dev/senioren/2021/wedstrijd/281
 81
END:VEVENT
BEGIN:VEVENT
UID:https://hbb.rivio.dev/senioren/2021/wedstrijd/28207
DTSTAMP:20260420T133540Z
SUMMARY:Gemert 2 - Never Down 1
DESCRIPTION:Baan 2\, Wedstrijdnummer 158\, Afdeling 3e klasse I
DTSTART:20211013T200000
DTEND:20211013T230000
LOCATION:City Resort Helmond
ATTACH;FMTTYPE=text/plain:https://hbb.rivio.dev/senioren/2021/wedstrijd/282
 07
END:VEVENT
BEGIN:VEVENT
UID:https://hbb.rivio.dev/senioren/2021/wedstrijd/28243
DTSTAMP:20260420T133540Z
SUMMARY:RBC 2 - Never Down 1
DESCRIPTION:Baan 13\, Wedstrijdnummer 161\, Afdeling 3e klasse I
DTSTART:20211021T200000
DTEND:20211021T230000
LOCATION:City Resort Helmond
ATTACH;FMTTYPE=text/plain:https://hbb.rivio.dev/senioren/2021/wedstrijd/282
 43
END:VEVENT
BEGIN:VEVENT
UID:https://hbb.rivio.dev/senioren/2021/wedstrijd/28278
DTSTAMP:20260420T133540Z
SUMMARY:Never Down 1 - Geldrop 3
DESCRIPTION:Baan 3\, Wedstrijdnummer 164\, Afdeling 3e klasse I
DTSTART:20211111T200000
DTEND:20211111T230000
LOCATION:City Resort Helmond
ATTACH;FMTTYPE=text/plain:https://hbb.rivio.dev/senioren/2021/wedstrijd/282
 78
END:VEVENT
BEGIN:VEVENT
UID:https://hbb.rivio.dev/senioren/2021/wedstrijd/28297
DTSTAMP:20260420T133540Z
SUMMARY:Never Down 1 - Hanevoet 3
DESCRIPTION:Baan 2\, Wedstrijdnummer 169\, Afdeling 3e klasse I
DTSTART:20211118T200000
DTEND:20211118T230000
LOCATION:City Resort Helmond
ATTACH;FMTTYPE=text/plain:https://hbb.rivio.dev/senioren/2021/wedstrijd/282
 97
END:VEVENT
BEGIN:VEVENT
UID:https://hbb.rivio.dev/senioren/2021/wedstrijd/28318
DTSTAMP:20260420T133540Z
SUMMARY:Never Down 1 - RBC 2
DESCRIPTION:Baan 3\, Wedstrijdnummer 2025\, Afdeling 3e klasse I
DTSTART:20211125T200000
DTEND:20211125T230000
LOCATION:City Resort Helmond
ATTACH;FMTTYPE=text/plain:https://hbb.rivio.dev/senioren/2021/wedstrijd/283
 18
END:VEVENT
BEGIN:VEVENT
UID:https://hbb.rivio.dev/senioren/2021/wedstrijd/28840
DTSTAMP:20260420T133540Z
SUMMARY:Never Down 1 - ASML 2
DESCRIPTION:Baan 12\, Wedstrijdnummer 174\, Afdeling 3e klasse I
DTSTART:20220217T200000
DTEND:20220217T230000
LOCATION:City Resort Helmond
ATTACH;FMTTYPE=text/plain:https://hbb.rivio.dev/senioren/2021/wedstrijd/288
 40
END:VEVENT
BEGIN:VEVENT
UID:https://hbb.rivio.dev/senioren/2021/wedstrijd/28888
DTSTAMP:20260420T133540Z
SUMMARY:Never Down 1 - Heiakker 1
DESCRIPTION:Baan 11\, Wedstrijdnummer 1155\, Afdeling 3e klasse I
DTSTART:20220317T200000
DTEND:20220317T230000
LOCATION:City Resort Helmond
ATTACH;FMTTYPE=text/plain:https://hbb.rivio.dev/senioren/2021/wedstrijd/288
 88
END:VEVENT
BEGIN:VEVENT
UID:https://hbb.rivio.dev/senioren/2021/wedstrijd/28908
DTSTAMP:20260420T133540Z
SUMMARY:Never Down 1 - Rudra 2
DESCRIPTION:Baan 10\, Wedstrijdnummer 179\, Afdeling 3e klasse I
DTSTART:20220324T200000
DTEND:20220324T230000
LOCATION:City Resort Helmond
ATTACH;FMTTYPE=text/plain:https://hbb.rivio.dev/senioren/2021/wedstrijd/289
 08
END:VEVENT
BEGIN:VEVENT
UID:https://hbb.rivio.dev/senioren/2021/wedstrijd/28925
DTSTAMP:20260420T133540Z
SUMMARY:Never Down 1 - Gemert 2
DESCRIPTION:Baan 1\, Wedstrijdnummer 1158\, Afdeling 3e klasse I
DTSTART:20220331T200000
DTEND:20220331T230000
LOCATION:City Resort Helmond
ATTACH;FMTTYPE=text/plain:https://hbb.rivio.dev/senioren/2021/wedstrijd/289
 25
END:VEVENT
BEGIN:VEVENT
UID:https://hbb.rivio.dev/senioren/2021/wedstrijd/28969
DTSTAMP:20260420T133540Z
SUMMARY:Never Down 1 - RBC 2
DESCRIPTION:Baan 5\, Wedstrijdnummer 1161\, Afdeling 3e klasse I
DTSTART:20220414T200000
DTEND:20220414T230000
LOCATION:City Resort Helmond
ATTACH;FMTTYPE=text/plain:https://hbb.rivio.dev/senioren/2021/wedstrijd/289
 69
END:VEVENT
BEGIN:VEVENT
UID:https://hbb.rivio.dev/senioren/2021/wedstrijd/28980
DTSTAMP:20260420T133540Z
SUMMARY:Geldrop 3 - Never Down 1
DESCRIPTION:Baan 5\, Wedstrijdnummer 1164\, Afdeling 3e klasse I
DTSTART:20220420T200000
DTEND:20220420T230000
LOCATION:City Resort Helmond
ATTACH;FMTTYPE=text/plain:https://hbb.rivio.dev/senioren/2021/wedstrijd/289
 80
END:VEVENT
BEGIN:VEVENT
UID:https://hbb.rivio.dev/senioren/2021/wedstrijd/29001
DTSTAMP:20260420T133540Z
SUMMARY:Hanevoet 3 - Never Down 1
DESCRIPTION:Baan 5\, Wedstrijdnummer 1169\, Afdeling 3e klasse I
DTSTART:20220525T200000
DTEND:20220525T230000
LOCATION:City Resort Helmond
ATTACH;FMTTYPE=text/plain:https://hbb.rivio.dev/senioren/2021/wedstrijd/290
 01
END:VEVENT
BEGIN:VEVENT
UID:https://hbb.rivio.dev/senioren/2021/wedstrijd/29032
DTSTAMP:20260420T133540Z
SUMMARY:ASML 2 - Never Down 1
DESCRIPTION:Baan 14\, Wedstrijdnummer 1174\, Afdeling 3e klasse I
DTSTART:20220609T200000
DTEND:20220609T230000
LOCATION:City Resort Helmond
ATTACH;FMTTYPE=text/plain:https://hbb.rivio.dev/senioren/2021/wedstrijd/290
 32
END:VEVENT
BEGIN:VEVENT
UID:https://hbb.rivio.dev/senioren/2021/wedstrijd/29039
DTSTAMP:20260420T133540Z
SUMMARY:Rudra 2 - Never Down 1
DESCRIPTION:Baan 15\, Wedstrijdnummer 1179\, Afdeling 3e klasse I
DTSTART:20220615T200000
DTEND:20220615T230000
LOCATION:City Resort Helmond
ATTACH;FMTTYPE=text/plain:https://hbb.rivio.dev/senioren/2021/wedstrijd/290
 39
END:VEVENT
BEGIN:VTIMEZONE
TZID:Europe/Amsterdam
BEGIN:STANDARD
DTSTART:20210101T000000
TZNAME:CET
TZOFFSETTO:+0100
TZOFFSETFROM:+0100
END:STANDARD
BEGIN:DAYLIGHT
DTSTART:20210328T030000
TZNAME:CEST
TZOFFSETTO:+0200
TZOFFSETFROM:+0100
END:DAYLIGHT
BEGIN:STANDARD
DTSTART:20211031T020000
TZNAME:CET
TZOFFSETTO:+0100
TZOFFSETFROM:+0200
END:STANDARD
BEGIN:DAYLIGHT
DTSTART:20220327T030000
TZNAME:CEST
TZOFFSETTO:+0200
TZOFFSETFROM:+0100
END:DAYLIGHT
BEGIN:STANDARD
DTSTART:20221030T020000
TZNAME:CET
TZOFFSETTO:+0100
TZOFFSETFROM:+0200
END:STANDARD
END:VTIMEZONE
END:VCALENDAR
