BEGIN:VCALENDAR
PRODID:-//eluceo/ical//2.0/EN
VERSION:2.0
CALSCALE:GREGORIAN
BEGIN:VEVENT
UID:https://hbb.rivio.dev/senioren/2021/wedstrijd/28176
DTSTAMP:20260420T234414Z
SUMMARY:Bakel 3 - Rudra 1
DESCRIPTION:Baan 1\, Wedstrijdnummer 107\, Afdeling 2e klasse K
DTSTART:20210930T200000
DTEND:20210930T230000
LOCATION:City Resort Helmond
ATTACH;FMTTYPE=text/plain:https://hbb.rivio.dev/senioren/2021/wedstrijd/281
 76
END:VEVENT
BEGIN:VEVENT
UID:https://hbb.rivio.dev/senioren/2021/wedstrijd/28200
DTSTAMP:20260420T234414Z
SUMMARY:Someren 3 - Bakel 3
DESCRIPTION:Baan 5\, Wedstrijdnummer 110\, Afdeling 2e klasse D
DTSTART:20211007T200000
DTEND:20211007T230000
LOCATION:City Resort Helmond
ATTACH;FMTTYPE=text/plain:https://hbb.rivio.dev/senioren/2021/wedstrijd/282
 00
END:VEVENT
BEGIN:VEVENT
UID:https://hbb.rivio.dev/senioren/2021/wedstrijd/28238
DTSTAMP:20260420T234414Z
SUMMARY:Bakel 3 - Phoenix 3
DESCRIPTION:Baan 3\, Wedstrijdnummer 113\, Afdeling 2e klasse K
DTSTART:20211021T200000
DTEND:20211021T230000
LOCATION:City Resort Helmond
ATTACH;FMTTYPE=text/plain:https://hbb.rivio.dev/senioren/2021/wedstrijd/282
 38
END:VEVENT
BEGIN:VEVENT
UID:https://hbb.rivio.dev/senioren/2021/wedstrijd/28263
DTSTAMP:20260420T234414Z
SUMMARY:Gemert 1 - Bakel 3
DESCRIPTION:Baan 13\, Wedstrijdnummer 116\, Afdeling 2e klasse D
DTSTART:20211104T200000
DTEND:20211104T230000
LOCATION:City Resort Helmond
ATTACH;FMTTYPE=text/plain:https://hbb.rivio.dev/senioren/2021/wedstrijd/282
 63
END:VEVENT
BEGIN:VEVENT
UID:https://hbb.rivio.dev/senioren/2021/wedstrijd/28298
DTSTAMP:20260420T234414Z
SUMMARY:Bakel 3 - Geldrop 1
DESCRIPTION:Baan 3\, Wedstrijdnummer 119\, Afdeling 2e klasse K
DTSTART:20211118T200000
DTEND:20211118T230000
LOCATION:City Resort Helmond
ATTACH;FMTTYPE=text/plain:https://hbb.rivio.dev/senioren/2021/wedstrijd/282
 98
END:VEVENT
BEGIN:VEVENT
UID:https://hbb.rivio.dev/senioren/2021/wedstrijd/28320
DTSTAMP:20260420T234414Z
SUMMARY:Con Brio 3 - Bakel 3
DESCRIPTION:Baan 5\, Wedstrijdnummer 2016\, Afdeling 2e klasse D
DTSTART:20211125T200000
DTEND:20211125T230000
LOCATION:City Resort Helmond
ATTACH;FMTTYPE=text/plain:https://hbb.rivio.dev/senioren/2021/wedstrijd/283
 20
END:VEVENT
BEGIN:VEVENT
UID:https://hbb.rivio.dev/senioren/2021/wedstrijd/28825
DTSTAMP:20260420T234414Z
SUMMARY:Rudra 1 - Bakel 3
DESCRIPTION:Baan 2\, Wedstrijdnummer 1107\, Afdeling 2e klasse K
DTSTART:20220216T200000
DTEND:20220216T230000
LOCATION:City Resort Helmond
ATTACH;FMTTYPE=text/plain:https://hbb.rivio.dev/senioren/2021/wedstrijd/288
 25
END:VEVENT
BEGIN:VEVENT
UID:https://hbb.rivio.dev/senioren/2021/wedstrijd/28859
DTSTAMP:20260420T234414Z
SUMMARY:Bakel 3 - Someren 3
DESCRIPTION:Baan 11\, Wedstrijdnummer 1110\, Afdeling 2e klasse K
DTSTART:20220224T200000
DTEND:20220224T230000
LOCATION:City Resort Helmond
ATTACH;FMTTYPE=text/plain:https://hbb.rivio.dev/senioren/2021/wedstrijd/288
 59
END:VEVENT
BEGIN:VEVENT
UID:https://hbb.rivio.dev/senioren/2021/wedstrijd/28907
DTSTAMP:20260420T234414Z
SUMMARY:Bakel 3 - Gemert 1
DESCRIPTION:Baan 5\, Wedstrijdnummer 1116\, Afdeling 2e klasse K
DTSTART:20220324T200000
DTEND:20220324T230000
LOCATION:City Resort Helmond
ATTACH;FMTTYPE=text/plain:https://hbb.rivio.dev/senioren/2021/wedstrijd/289
 07
END:VEVENT
BEGIN:VEVENT
UID:https://hbb.rivio.dev/senioren/2021/wedstrijd/28914
DTSTAMP:20260420T234414Z
SUMMARY:Phoenix 3 - Bakel 3
DESCRIPTION:Baan 1\, Wedstrijdnummer 1113\, Afdeling 2e klasse D
DTSTART:20220330T200000
DTEND:20220330T230000
LOCATION:City Resort Helmond
ATTACH;FMTTYPE=text/plain:https://hbb.rivio.dev/senioren/2021/wedstrijd/289
 14
END:VEVENT
BEGIN:VEVENT
UID:https://hbb.rivio.dev/senioren/2021/wedstrijd/28943
DTSTAMP:20260420T234414Z
SUMMARY:Geldrop 1 - Bakel 3
DESCRIPTION:Baan 14\, Wedstrijdnummer 1119\, Afdeling 2e klasse K
DTSTART:20220406T200000
DTEND:20220406T230000
LOCATION:City Resort Helmond
ATTACH;FMTTYPE=text/plain:https://hbb.rivio.dev/senioren/2021/wedstrijd/289
 43
END:VEVENT
BEGIN:VEVENT
UID:https://hbb.rivio.dev/senioren/2021/wedstrijd/29058
DTSTAMP:20260420T234414Z
SUMMARY:Someren 2 - Bakel 3
DESCRIPTION:Baan 1\, Wedstrijdnummer 124\, Afdeling 2e klasse K
DTSTART:20220421T200000
DTEND:20220421T230000
LOCATION:City Resort Helmond
ATTACH;FMTTYPE=text/plain:https://hbb.rivio.dev/senioren/2021/wedstrijd/290
 58
END:VEVENT
BEGIN:VEVENT
UID:https://hbb.rivio.dev/senioren/2021/wedstrijd/29066
DTSTAMP:20260420T234414Z
SUMMARY:Rudra 1 - Bakel 3
DESCRIPTION:Baan 13\, Wedstrijdnummer 126\, Afdeling 2e klasse K
DTSTART:20220518T200000
DTEND:20220518T230000
LOCATION:City Resort Helmond
ATTACH;FMTTYPE=text/plain:https://hbb.rivio.dev/senioren/2021/wedstrijd/290
 66
END:VEVENT
BEGIN:VEVENT
UID:https://hbb.rivio.dev/senioren/2021/wedstrijd/29073
DTSTAMP:20260420T234414Z
SUMMARY:Geldrop 2 - Bakel 3
DESCRIPTION:Baan 5\, Wedstrijdnummer 128\, Afdeling 2e klasse K
DTSTART:20220601T200000
DTEND:20220601T230000
LOCATION:City Resort Helmond
ATTACH;FMTTYPE=text/plain:https://hbb.rivio.dev/senioren/2021/wedstrijd/290
 73
END:VEVENT
BEGIN:VEVENT
UID:https://hbb.rivio.dev/senioren/2021/wedstrijd/29086
DTSTAMP:20260420T234414Z
SUMMARY:Bakel 3 - Geldrop 1
DESCRIPTION:Baan 2\, Wedstrijdnummer 132\, Afdeling 2e klasse K
DTSTART:20220616T200000
DTEND:20220616T230000
LOCATION:City Resort Helmond
ATTACH;FMTTYPE=text/plain:https://hbb.rivio.dev/senioren/2021/wedstrijd/290
 86
END:VEVENT
BEGIN:VEVENT
UID:https://hbb.rivio.dev/senioren/2021/wedstrijd/29093
DTSTAMP:20260420T234414Z
SUMMARY:Bakel 3 - Mixed 5
DESCRIPTION:Baan 12\, Wedstrijdnummer 136\, Afdeling 2e klasse K
DTSTART:20220622T200000
DTEND:20220622T230000
LOCATION:City Resort Helmond
ATTACH;FMTTYPE=text/plain:https://hbb.rivio.dev/senioren/2021/wedstrijd/290
 93
END:VEVENT
BEGIN:VTIMEZONE
TZID:Europe/Amsterdam
BEGIN:STANDARD
DTSTART:20210101T000000
TZNAME:CET
TZOFFSETTO:+0100
TZOFFSETFROM:+0100
END:STANDARD
BEGIN:DAYLIGHT
DTSTART:20210328T030000
TZNAME:CEST
TZOFFSETTO:+0200
TZOFFSETFROM:+0100
END:DAYLIGHT
BEGIN:STANDARD
DTSTART:20211031T020000
TZNAME:CET
TZOFFSETTO:+0100
TZOFFSETFROM:+0200
END:STANDARD
BEGIN:DAYLIGHT
DTSTART:20220327T030000
TZNAME:CEST
TZOFFSETTO:+0200
TZOFFSETFROM:+0100
END:DAYLIGHT
BEGIN:STANDARD
DTSTART:20221030T020000
TZNAME:CET
TZOFFSETTO:+0100
TZOFFSETFROM:+0200
END:STANDARD
END:VTIMEZONE
END:VCALENDAR
