BEGIN:VCALENDAR
PRODID:-//eluceo/ical//2.0/EN
VERSION:2.0
CALSCALE:GREGORIAN
BEGIN:VEVENT
UID:https://hbb.rivio.dev/senioren/2021/wedstrijd/28202
DTSTAMP:20260420T120855Z
SUMMARY:Con Brio 2 - Brabantia 1
DESCRIPTION:Baan 12\, Wedstrijdnummer 4\, Afdeling Topklasse 
DTSTART:20211007T200000
DTEND:20211007T230000
LOCATION:City Resort Helmond
ATTACH;FMTTYPE=text/plain:https://hbb.rivio.dev/senioren/2021/wedstrijd/282
 02
END:VEVENT
BEGIN:VEVENT
UID:https://hbb.rivio.dev/senioren/2021/wedstrijd/28227
DTSTAMP:20260420T120855Z
SUMMARY:Brabantia 1 - Mierlo 2
DESCRIPTION:Baan 2\, Wedstrijdnummer 7\, Afdeling Topklasse 
DTSTART:20211020T200000
DTEND:20211020T230000
LOCATION:City Resort Helmond
ATTACH;FMTTYPE=text/plain:https://hbb.rivio.dev/senioren/2021/wedstrijd/282
 27
END:VEVENT
BEGIN:VEVENT
UID:https://hbb.rivio.dev/senioren/2021/wedstrijd/28250
DTSTAMP:20260420T120855Z
SUMMARY:Mixed 1 - Brabantia 1
DESCRIPTION:Baan 5\, Wedstrijdnummer 10\, Afdeling Topklasse 
DTSTART:20211103T200000
DTEND:20211103T230000
LOCATION:City Resort Helmond
ATTACH;FMTTYPE=text/plain:https://hbb.rivio.dev/senioren/2021/wedstrijd/282
 50
END:VEVENT
BEGIN:VEVENT
UID:https://hbb.rivio.dev/senioren/2021/wedstrijd/28290
DTSTAMP:20260420T120855Z
SUMMARY:Mierlo 1 - Brabantia 1
DESCRIPTION:Baan 5\, Wedstrijdnummer 2003\, Afdeling Topklasse 
DTSTART:20211117T200000
DTEND:20211117T230000
LOCATION:City Resort Helmond
ATTACH;FMTTYPE=text/plain:https://hbb.rivio.dev/senioren/2021/wedstrijd/282
 90
END:VEVENT
BEGIN:VEVENT
UID:https://hbb.rivio.dev/senioren/2021/wedstrijd/28802
DTSTAMP:20260420T120855Z
SUMMARY:Brabantia 1 - Ganzeveer 1
DESCRIPTION:Baan 1\, Wedstrijdnummer 13\, Afdeling Topklasse 
DTSTART:20220209T200000
DTEND:20220209T230000
LOCATION:City Resort Helmond
ATTACH;FMTTYPE=text/plain:https://hbb.rivio.dev/senioren/2021/wedstrijd/288
 02
END:VEVENT
BEGIN:VEVENT
UID:https://hbb.rivio.dev/senioren/2021/wedstrijd/28828
DTSTAMP:20260420T120855Z
SUMMARY:Mierlo 1 - Brabantia 1
DESCRIPTION:Baan 5\, Wedstrijdnummer 16\, Afdeling Topklasse 
DTSTART:20220216T200000
DTEND:20220216T230000
LOCATION:City Resort Helmond
ATTACH;FMTTYPE=text/plain:https://hbb.rivio.dev/senioren/2021/wedstrijd/288
 28
END:VEVENT
BEGIN:VEVENT
UID:https://hbb.rivio.dev/senioren/2021/wedstrijd/28853
DTSTAMP:20260420T120855Z
SUMMARY:Brabantia 1 - Con Brio 1
DESCRIPTION:Baan 15\, Wedstrijdnummer 19\, Afdeling Topklasse 
DTSTART:20220223T200000
DTEND:20220223T230000
LOCATION:City Resort Helmond
ATTACH;FMTTYPE=text/plain:https://hbb.rivio.dev/senioren/2021/wedstrijd/288
 53
END:VEVENT
BEGIN:VEVENT
UID:https://hbb.rivio.dev/senioren/2021/wedstrijd/28910
DTSTAMP:20260420T120855Z
SUMMARY:Brabantia 1 - Con Brio 2
DESCRIPTION:Baan 12\, Wedstrijdnummer 1004\, Afdeling Topklasse 
DTSTART:20220324T200000
DTEND:20220324T230000
LOCATION:City Resort Helmond
ATTACH;FMTTYPE=text/plain:https://hbb.rivio.dev/senioren/2021/wedstrijd/289
 10
END:VEVENT
BEGIN:VEVENT
UID:https://hbb.rivio.dev/senioren/2021/wedstrijd/28953
DTSTAMP:20260420T120855Z
SUMMARY:Mierlo 2 - Brabantia 1
DESCRIPTION:Baan 14\, Wedstrijdnummer 1007\, Afdeling Topklasse 
DTSTART:20220407T200000
DTEND:20220407T230000
LOCATION:City Resort Helmond
ATTACH;FMTTYPE=text/plain:https://hbb.rivio.dev/senioren/2021/wedstrijd/289
 53
END:VEVENT
BEGIN:VEVENT
UID:https://hbb.rivio.dev/senioren/2021/wedstrijd/28977
DTSTAMP:20260420T120855Z
SUMMARY:Brabantia 1 - Mixed 1
DESCRIPTION:Baan 2\, Wedstrijdnummer 1010\, Afdeling Topklasse 
DTSTART:20220420T200000
DTEND:20220420T230000
LOCATION:City Resort Helmond
ATTACH;FMTTYPE=text/plain:https://hbb.rivio.dev/senioren/2021/wedstrijd/289
 77
END:VEVENT
BEGIN:VEVENT
UID:https://hbb.rivio.dev/senioren/2021/wedstrijd/28992
DTSTAMP:20260420T120855Z
SUMMARY:Ganzeveer 1 - Brabantia 1
DESCRIPTION:Baan 15\, Wedstrijdnummer 1013\, Afdeling Topklasse 
DTSTART:20220518T200000
DTEND:20220518T230000
LOCATION:City Resort Helmond
ATTACH;FMTTYPE=text/plain:https://hbb.rivio.dev/senioren/2021/wedstrijd/289
 92
END:VEVENT
BEGIN:VEVENT
UID:https://hbb.rivio.dev/senioren/2021/wedstrijd/29023
DTSTAMP:20260420T120855Z
SUMMARY:Brabantia 1 - Mierlo 1
DESCRIPTION:Baan 13\, Wedstrijdnummer 1016\, Afdeling Topklasse 
DTSTART:20220608T200000
DTEND:20220608T230000
LOCATION:City Resort Helmond
ATTACH;FMTTYPE=text/plain:https://hbb.rivio.dev/senioren/2021/wedstrijd/290
 23
END:VEVENT
BEGIN:VEVENT
UID:https://hbb.rivio.dev/senioren/2021/wedstrijd/29034
DTSTAMP:20260420T120855Z
SUMMARY:Con Brio 1 - Brabantia 1
DESCRIPTION:Baan 1\, Wedstrijdnummer 1019\, Afdeling Topklasse 
DTSTART:20220615T200000
DTEND:20220615T230000
LOCATION:City Resort Helmond
ATTACH;FMTTYPE=text/plain:https://hbb.rivio.dev/senioren/2021/wedstrijd/290
 34
END:VEVENT
BEGIN:VTIMEZONE
TZID:Europe/Amsterdam
BEGIN:STANDARD
DTSTART:20210101T000000
TZNAME:CET
TZOFFSETTO:+0100
TZOFFSETFROM:+0100
END:STANDARD
BEGIN:DAYLIGHT
DTSTART:20210328T030000
TZNAME:CEST
TZOFFSETTO:+0200
TZOFFSETFROM:+0100
END:DAYLIGHT
BEGIN:STANDARD
DTSTART:20211031T020000
TZNAME:CET
TZOFFSETTO:+0100
TZOFFSETFROM:+0200
END:STANDARD
BEGIN:DAYLIGHT
DTSTART:20220327T030000
TZNAME:CEST
TZOFFSETTO:+0200
TZOFFSETFROM:+0100
END:DAYLIGHT
BEGIN:STANDARD
DTSTART:20221030T020000
TZNAME:CET
TZOFFSETTO:+0100
TZOFFSETFROM:+0200
END:STANDARD
END:VTIMEZONE
END:VCALENDAR
