BEGIN:VCALENDAR
PRODID:-//eluceo/ical//2.0/EN
VERSION:2.0
CALSCALE:GREGORIAN
BEGIN:VEVENT
UID:https://hbb.rivio.dev/senioren/2021/wedstrijd/28189
DTSTAMP:20260420T184656Z
SUMMARY:De Valken 4 - Mixed 6
DESCRIPTION:Baan 4\, Wedstrijdnummer 180\, Afdeling 3e klasse II
DTSTART:20211006T200000
DTEND:20211006T230000
LOCATION:City Resort Helmond
ATTACH;FMTTYPE=text/plain:https://hbb.rivio.dev/senioren/2021/wedstrijd/281
 89
END:VEVENT
BEGIN:VEVENT
UID:https://hbb.rivio.dev/senioren/2021/wedstrijd/28224
DTSTAMP:20260420T184656Z
SUMMARY:Mixed 6 - BCAB 2
DESCRIPTION:Baan 14\, Wedstrijdnummer 183\, Afdeling 3e klasse II
DTSTART:20211014T200000
DTEND:20211014T230000
LOCATION:City Resort Helmond
ATTACH;FMTTYPE=text/plain:https://hbb.rivio.dev/senioren/2021/wedstrijd/282
 24
END:VEVENT
BEGIN:VEVENT
UID:https://hbb.rivio.dev/senioren/2021/wedstrijd/28260
DTSTAMP:20260420T184656Z
SUMMARY:Mixed 6 - Someren 4
DESCRIPTION:Baan 5\, Wedstrijdnummer 187\, Afdeling 3e klasse II
DTSTART:20211104T200000
DTEND:20211104T230000
LOCATION:City Resort Helmond
ATTACH;FMTTYPE=text/plain:https://hbb.rivio.dev/senioren/2021/wedstrijd/282
 60
END:VEVENT
BEGIN:VEVENT
UID:https://hbb.rivio.dev/senioren/2021/wedstrijd/28270
DTSTAMP:20260420T184656Z
SUMMARY:Mixed 6 - Ganzeveer 2
DESCRIPTION:Baan 5\, Wedstrijdnummer 191\, Afdeling 3e klasse II
DTSTART:20211110T200000
DTEND:20211110T230000
LOCATION:City Resort Helmond
ATTACH;FMTTYPE=text/plain:https://hbb.rivio.dev/senioren/2021/wedstrijd/282
 70
END:VEVENT
BEGIN:VEVENT
UID:https://hbb.rivio.dev/senioren/2021/wedstrijd/28316
DTSTAMP:20260420T184656Z
SUMMARY:Hanevoet 3 - Mixed 6
DESCRIPTION:Baan 1\, Wedstrijdnummer 2022\, Afdeling 3e klasse I
DTSTART:20211125T200000
DTEND:20211125T230000
LOCATION:City Resort Helmond
ATTACH;FMTTYPE=text/plain:https://hbb.rivio.dev/senioren/2021/wedstrijd/283
 16
END:VEVENT
BEGIN:VEVENT
UID:https://hbb.rivio.dev/senioren/2021/wedstrijd/28857
DTSTAMP:20260420T184656Z
SUMMARY:ASML 1 - Mixed 6
DESCRIPTION:Baan 4\, Wedstrijdnummer 197\, Afdeling 3e klasse II
DTSTART:20220224T200000
DTEND:20220224T230000
LOCATION:City Resort Helmond
ATTACH;FMTTYPE=text/plain:https://hbb.rivio.dev/senioren/2021/wedstrijd/288
 57
END:VEVENT
BEGIN:VEVENT
UID:https://hbb.rivio.dev/senioren/2021/wedstrijd/28871
DTSTAMP:20260420T184656Z
SUMMARY:Mierlo 7 - Mixed 6
DESCRIPTION:Baan 13\, Wedstrijdnummer 199\, Afdeling 3e klasse II
DTSTART:20220309T200000
DTEND:20220309T230000
LOCATION:City Resort Helmond
ATTACH;FMTTYPE=text/plain:https://hbb.rivio.dev/senioren/2021/wedstrijd/288
 71
END:VEVENT
BEGIN:VEVENT
UID:https://hbb.rivio.dev/senioren/2021/wedstrijd/28896
DTSTAMP:20260420T184656Z
SUMMARY:Mixed 6 - De Valken 4
DESCRIPTION:Baan 4\, Wedstrijdnummer 1180\, Afdeling 3e klasse II
DTSTART:20220323T200000
DTEND:20220323T230000
LOCATION:City Resort Helmond
ATTACH;FMTTYPE=text/plain:https://hbb.rivio.dev/senioren/2021/wedstrijd/288
 96
END:VEVENT
BEGIN:VEVENT
UID:https://hbb.rivio.dev/senioren/2021/wedstrijd/28928
DTSTAMP:20260420T184656Z
SUMMARY:BCAB 2 - Mixed 6
DESCRIPTION:Baan 4\, Wedstrijdnummer 1183\, Afdeling 3e klasse II
DTSTART:20220331T200000
DTEND:20220331T230000
LOCATION:City Resort Helmond
ATTACH;FMTTYPE=text/plain:https://hbb.rivio.dev/senioren/2021/wedstrijd/289
 28
END:VEVENT
BEGIN:VEVENT
UID:https://hbb.rivio.dev/senioren/2021/wedstrijd/28966
DTSTAMP:20260420T184656Z
SUMMARY:Someren 4 - Mixed 6
DESCRIPTION:Baan 2\, Wedstrijdnummer 1187\, Afdeling 3e klasse II
DTSTART:20220414T200000
DTEND:20220414T230000
LOCATION:City Resort Helmond
ATTACH;FMTTYPE=text/plain:https://hbb.rivio.dev/senioren/2021/wedstrijd/289
 66
END:VEVENT
BEGIN:VEVENT
UID:https://hbb.rivio.dev/senioren/2021/wedstrijd/28991
DTSTAMP:20260420T184656Z
SUMMARY:Ganzeveer 2 - Mixed 6
DESCRIPTION:Baan 11\, Wedstrijdnummer 1191\, Afdeling 3e klasse II
DTSTART:20220518T200000
DTEND:20220518T230000
LOCATION:City Resort Helmond
ATTACH;FMTTYPE=text/plain:https://hbb.rivio.dev/senioren/2021/wedstrijd/289
 91
END:VEVENT
BEGIN:VEVENT
UID:https://hbb.rivio.dev/senioren/2021/wedstrijd/29027
DTSTAMP:20260420T184656Z
SUMMARY:Mixed 6 - ASML 1
DESCRIPTION:Baan 2\, Wedstrijdnummer 1197\, Afdeling 3e klasse II
DTSTART:20220609T200000
DTEND:20220609T230000
LOCATION:City Resort Helmond
ATTACH;FMTTYPE=text/plain:https://hbb.rivio.dev/senioren/2021/wedstrijd/290
 27
END:VEVENT
BEGIN:VEVENT
UID:https://hbb.rivio.dev/senioren/2021/wedstrijd/29037
DTSTAMP:20260420T184656Z
SUMMARY:Mixed 6 - Mierlo 7
DESCRIPTION:Baan 12\, Wedstrijdnummer 1199\, Afdeling 3e klasse II
DTSTART:20220615T200000
DTEND:20220615T230000
LOCATION:City Resort Helmond
ATTACH;FMTTYPE=text/plain:https://hbb.rivio.dev/senioren/2021/wedstrijd/290
 37
END:VEVENT
BEGIN:VTIMEZONE
TZID:Europe/Amsterdam
BEGIN:STANDARD
DTSTART:20210101T000000
TZNAME:CET
TZOFFSETTO:+0100
TZOFFSETFROM:+0100
END:STANDARD
BEGIN:DAYLIGHT
DTSTART:20210328T030000
TZNAME:CEST
TZOFFSETTO:+0200
TZOFFSETFROM:+0100
END:DAYLIGHT
BEGIN:STANDARD
DTSTART:20211031T020000
TZNAME:CET
TZOFFSETTO:+0100
TZOFFSETFROM:+0200
END:STANDARD
BEGIN:DAYLIGHT
DTSTART:20220327T030000
TZNAME:CEST
TZOFFSETTO:+0200
TZOFFSETFROM:+0100
END:DAYLIGHT
BEGIN:STANDARD
DTSTART:20221030T020000
TZNAME:CET
TZOFFSETTO:+0100
TZOFFSETFROM:+0200
END:STANDARD
END:VTIMEZONE
END:VCALENDAR
