BEGIN:VCALENDAR
PRODID:-//eluceo/ical//2.0/EN
VERSION:2.0
CALSCALE:GREGORIAN
BEGIN:VEVENT
UID:https://hbb.rivio.dev/senioren/2021/wedstrijd/28196
DTSTAMP:20260420T184746Z
SUMMARY:De Valken 3 - Mixed 5
DESCRIPTION:Baan 1\, Wedstrijdnummer 93\, Afdeling 2e klasse D
DTSTART:20211007T200000
DTEND:20211007T230000
LOCATION:City Resort Helmond
ATTACH;FMTTYPE=text/plain:https://hbb.rivio.dev/senioren/2021/wedstrijd/281
 96
END:VEVENT
BEGIN:VEVENT
UID:https://hbb.rivio.dev/senioren/2021/wedstrijd/28222
DTSTAMP:20260420T184746Z
SUMMARY:Mixed 5 - Con Brio 3
DESCRIPTION:Baan 12\, Wedstrijdnummer 95\, Afdeling 2e klasse K
DTSTART:20211014T200000
DTEND:20211014T230000
LOCATION:City Resort Helmond
ATTACH;FMTTYPE=text/plain:https://hbb.rivio.dev/senioren/2021/wedstrijd/282
 22
END:VEVENT
BEGIN:VEVENT
UID:https://hbb.rivio.dev/senioren/2021/wedstrijd/28235
DTSTAMP:20260420T184746Z
SUMMARY:Mixed 5 - Geldrop 2
DESCRIPTION:Baan 15\, Wedstrijdnummer 99\, Afdeling 2e klasse K
DTSTART:20211020T200000
DTEND:20211020T230000
LOCATION:City Resort Helmond
ATTACH;FMTTYPE=text/plain:https://hbb.rivio.dev/senioren/2021/wedstrijd/282
 35
END:VEVENT
BEGIN:VEVENT
UID:https://hbb.rivio.dev/senioren/2021/wedstrijd/28284
DTSTAMP:20260420T184746Z
SUMMARY:Mixed 5 - Someren 2
DESCRIPTION:Baan 14\, Wedstrijdnummer 103\, Afdeling 2e klasse K
DTSTART:20211111T200000
DTEND:20211111T230000
LOCATION:City Resort Helmond
ATTACH;FMTTYPE=text/plain:https://hbb.rivio.dev/senioren/2021/wedstrijd/282
 84
END:VEVENT
BEGIN:VEVENT
UID:https://hbb.rivio.dev/senioren/2021/wedstrijd/28309
DTSTAMP:20260420T184746Z
SUMMARY:Mixed 5 - Geldrop 1
DESCRIPTION:Baan 4\, Wedstrijdnummer 2015\, Afdeling 2e klasse K
DTSTART:20211124T200000
DTEND:20211124T230000
LOCATION:City Resort Helmond
ATTACH;FMTTYPE=text/plain:https://hbb.rivio.dev/senioren/2021/wedstrijd/283
 09
END:VEVENT
BEGIN:VEVENT
UID:https://hbb.rivio.dev/senioren/2021/wedstrijd/28819
DTSTAMP:20260420T184746Z
SUMMARY:Mierlo 6 - Mixed 5
DESCRIPTION:Baan 11\, Wedstrijdnummer 106\, Afdeling 2e klasse D
DTSTART:20220210T200000
DTEND:20220210T230000
LOCATION:City Resort Helmond
ATTACH;FMTTYPE=text/plain:https://hbb.rivio.dev/senioren/2021/wedstrijd/288
 19
END:VEVENT
BEGIN:VEVENT
UID:https://hbb.rivio.dev/senioren/2021/wedstrijd/28856
DTSTAMP:20260420T184746Z
SUMMARY:Mixed 5 - De Valken 3
DESCRIPTION:Baan 3\, Wedstrijdnummer 1093\, Afdeling 2e klasse K
DTSTART:20220224T200000
DTEND:20220224T230000
LOCATION:City Resort Helmond
ATTACH;FMTTYPE=text/plain:https://hbb.rivio.dev/senioren/2021/wedstrijd/288
 56
END:VEVENT
BEGIN:VEVENT
UID:https://hbb.rivio.dev/senioren/2021/wedstrijd/28879
DTSTAMP:20260420T184746Z
SUMMARY:Con Brio 3 - Mixed 5
DESCRIPTION:Baan 12\, Wedstrijdnummer 1095\, Afdeling 2e klasse D
DTSTART:20220310T200000
DTEND:20220310T230000
LOCATION:City Resort Helmond
ATTACH;FMTTYPE=text/plain:https://hbb.rivio.dev/senioren/2021/wedstrijd/288
 79
END:VEVENT
BEGIN:VEVENT
UID:https://hbb.rivio.dev/senioren/2021/wedstrijd/28895
DTSTAMP:20260420T184746Z
SUMMARY:Geldrop 2 - Mixed 5
DESCRIPTION:Baan 3\, Wedstrijdnummer 1099\, Afdeling 2e klasse K
DTSTART:20220323T200000
DTEND:20220323T230000
LOCATION:City Resort Helmond
ATTACH;FMTTYPE=text/plain:https://hbb.rivio.dev/senioren/2021/wedstrijd/288
 95
END:VEVENT
BEGIN:VEVENT
UID:https://hbb.rivio.dev/senioren/2021/wedstrijd/28927
DTSTAMP:20260420T184746Z
SUMMARY:Someren 2 - Mixed 5
DESCRIPTION:Baan 3\, Wedstrijdnummer 1103\, Afdeling 2e klasse K
DTSTART:20220331T200000
DTEND:20220331T230000
LOCATION:City Resort Helmond
ATTACH;FMTTYPE=text/plain:https://hbb.rivio.dev/senioren/2021/wedstrijd/289
 27
END:VEVENT
BEGIN:VEVENT
UID:https://hbb.rivio.dev/senioren/2021/wedstrijd/28975
DTSTAMP:20260420T184746Z
SUMMARY:Mixed 5 - Mierlo 6
DESCRIPTION:Baan 15\, Wedstrijdnummer 1106\, Afdeling 2e klasse K
DTSTART:20220414T200000
DTEND:20220414T230000
LOCATION:City Resort Helmond
ATTACH;FMTTYPE=text/plain:https://hbb.rivio.dev/senioren/2021/wedstrijd/289
 75
END:VEVENT
BEGIN:VEVENT
UID:https://hbb.rivio.dev/senioren/2021/wedstrijd/29061
DTSTAMP:20260420T184746Z
SUMMARY:Geldrop 1 - Mixed 5
DESCRIPTION:Baan 4\, Wedstrijdnummer 123\, Afdeling 2e klasse K
DTSTART:20220421T200000
DTEND:20220421T230000
LOCATION:City Resort Helmond
ATTACH;FMTTYPE=text/plain:https://hbb.rivio.dev/senioren/2021/wedstrijd/290
 61
END:VEVENT
BEGIN:VEVENT
UID:https://hbb.rivio.dev/senioren/2021/wedstrijd/29067
DTSTAMP:20260420T184746Z
SUMMARY:Mixed 5 - Geldrop 2
DESCRIPTION:Baan 14\, Wedstrijdnummer 125\, Afdeling 2e klasse K
DTSTART:20220518T200000
DTEND:20220518T230000
LOCATION:City Resort Helmond
ATTACH;FMTTYPE=text/plain:https://hbb.rivio.dev/senioren/2021/wedstrijd/290
 67
END:VEVENT
BEGIN:VEVENT
UID:https://hbb.rivio.dev/senioren/2021/wedstrijd/29074
DTSTAMP:20260420T184746Z
SUMMARY:Mixed 5 - Someren 2
DESCRIPTION:Baan 11\, Wedstrijdnummer 129\, Afdeling 2e klasse K
DTSTART:20220601T200000
DTEND:20220601T230000
LOCATION:City Resort Helmond
ATTACH;FMTTYPE=text/plain:https://hbb.rivio.dev/senioren/2021/wedstrijd/290
 74
END:VEVENT
BEGIN:VEVENT
UID:https://hbb.rivio.dev/senioren/2021/wedstrijd/29087
DTSTAMP:20260420T184746Z
SUMMARY:Mixed 5 - Rudra 1
DESCRIPTION:Baan 3\, Wedstrijdnummer 133\, Afdeling 2e klasse K
DTSTART:20220616T200000
DTEND:20220616T230000
LOCATION:City Resort Helmond
ATTACH;FMTTYPE=text/plain:https://hbb.rivio.dev/senioren/2021/wedstrijd/290
 87
END:VEVENT
BEGIN:VEVENT
UID:https://hbb.rivio.dev/senioren/2021/wedstrijd/29093
DTSTAMP:20260420T184746Z
SUMMARY:Bakel 3 - Mixed 5
DESCRIPTION:Baan 12\, Wedstrijdnummer 136\, Afdeling 2e klasse K
DTSTART:20220622T200000
DTEND:20220622T230000
LOCATION:City Resort Helmond
ATTACH;FMTTYPE=text/plain:https://hbb.rivio.dev/senioren/2021/wedstrijd/290
 93
END:VEVENT
BEGIN:VTIMEZONE
TZID:Europe/Amsterdam
BEGIN:STANDARD
DTSTART:20210101T000000
TZNAME:CET
TZOFFSETTO:+0100
TZOFFSETFROM:+0100
END:STANDARD
BEGIN:DAYLIGHT
DTSTART:20210328T030000
TZNAME:CEST
TZOFFSETTO:+0200
TZOFFSETFROM:+0100
END:DAYLIGHT
BEGIN:STANDARD
DTSTART:20211031T020000
TZNAME:CET
TZOFFSETTO:+0100
TZOFFSETFROM:+0200
END:STANDARD
BEGIN:DAYLIGHT
DTSTART:20220327T030000
TZNAME:CEST
TZOFFSETTO:+0200
TZOFFSETFROM:+0100
END:DAYLIGHT
BEGIN:STANDARD
DTSTART:20221030T020000
TZNAME:CET
TZOFFSETTO:+0100
TZOFFSETFROM:+0200
END:STANDARD
END:VTIMEZONE
END:VCALENDAR
