BEGIN:VCALENDAR
PRODID:-//eluceo/ical//2.0/EN
VERSION:2.0
CALSCALE:GREGORIAN
BEGIN:VEVENT
UID:https://hbb.rivio.dev/senioren/2021/wedstrijd/28179
DTSTAMP:20260420T133806Z
SUMMARY:Mierlo 5 - Mixed 4
DESCRIPTION:Baan 4\, Wedstrijdnummer 73\, Afdeling 1e klasse 
DTSTART:20210930T200000
DTEND:20210930T230000
LOCATION:City Resort Helmond
ATTACH;FMTTYPE=text/plain:https://hbb.rivio.dev/senioren/2021/wedstrijd/281
 79
END:VEVENT
BEGIN:VEVENT
UID:https://hbb.rivio.dev/senioren/2021/wedstrijd/28205
DTSTAMP:20260420T133806Z
SUMMARY:De Valken 2 - Mixed 4
DESCRIPTION:Baan 15\, Wedstrijdnummer 75\, Afdeling 1e klasse 
DTSTART:20211007T200000
DTEND:20211007T230000
LOCATION:City Resort Helmond
ATTACH;FMTTYPE=text/plain:https://hbb.rivio.dev/senioren/2021/wedstrijd/282
 05
END:VEVENT
BEGIN:VEVENT
UID:https://hbb.rivio.dev/senioren/2021/wedstrijd/28241
DTSTAMP:20260420T133806Z
SUMMARY:BC '85 1 - Mixed 4
DESCRIPTION:Baan 11\, Wedstrijdnummer 78\, Afdeling 1e klasse 
DTSTART:20211021T200000
DTEND:20211021T230000
LOCATION:City Resort Helmond
ATTACH;FMTTYPE=text/plain:https://hbb.rivio.dev/senioren/2021/wedstrijd/282
 41
END:VEVENT
BEGIN:VEVENT
UID:https://hbb.rivio.dev/senioren/2021/wedstrijd/28277
DTSTAMP:20260420T133806Z
SUMMARY:Mixed 4 - Bakel 2
DESCRIPTION:Baan 2\, Wedstrijdnummer 80\, Afdeling 1e klasse 
DTSTART:20211111T200000
DTEND:20211111T230000
LOCATION:City Resort Helmond
ATTACH;FMTTYPE=text/plain:https://hbb.rivio.dev/senioren/2021/wedstrijd/282
 77
END:VEVENT
BEGIN:VEVENT
UID:https://hbb.rivio.dev/senioren/2021/wedstrijd/28300
DTSTAMP:20260420T133806Z
SUMMARY:Mixed 4 - Smashing Bruang 2
DESCRIPTION:Baan 5\, Wedstrijdnummer 2011\, Afdeling 1e klasse 
DTSTART:20211118T200000
DTEND:20211118T230000
LOCATION:City Resort Helmond
ATTACH;FMTTYPE=text/plain:https://hbb.rivio.dev/senioren/2021/wedstrijd/283
 00
END:VEVENT
BEGIN:VEVENT
UID:https://hbb.rivio.dev/senioren/2021/wedstrijd/28325
DTSTAMP:20260420T133806Z
SUMMARY:Mixed 4 - Hanevoet 2
DESCRIPTION:Baan 15\, Wedstrijdnummer 84\, Afdeling 1e klasse 
DTSTART:20211125T200000
DTEND:20211125T230000
LOCATION:City Resort Helmond
ATTACH;FMTTYPE=text/plain:https://hbb.rivio.dev/senioren/2021/wedstrijd/283
 25
END:VEVENT
BEGIN:VEVENT
UID:https://hbb.rivio.dev/senioren/2021/wedstrijd/28862
DTSTAMP:20260420T133806Z
SUMMARY:Mixed 4 - Smashing Bruang 2
DESCRIPTION:Baan 14\, Wedstrijdnummer 91\, Afdeling 1e klasse 
DTSTART:20220224T200000
DTEND:20220224T230000
LOCATION:City Resort Helmond
ATTACH;FMTTYPE=text/plain:https://hbb.rivio.dev/senioren/2021/wedstrijd/288
 62
END:VEVENT
BEGIN:VEVENT
UID:https://hbb.rivio.dev/senioren/2021/wedstrijd/28887
DTSTAMP:20260420T133806Z
SUMMARY:Mixed 4 - Mierlo 5
DESCRIPTION:Baan 5\, Wedstrijdnummer 1073\, Afdeling 1e klasse 
DTSTART:20220317T200000
DTEND:20220317T230000
LOCATION:City Resort Helmond
ATTACH;FMTTYPE=text/plain:https://hbb.rivio.dev/senioren/2021/wedstrijd/288
 87
END:VEVENT
BEGIN:VEVENT
UID:https://hbb.rivio.dev/senioren/2021/wedstrijd/28930
DTSTAMP:20260420T133806Z
SUMMARY:Mixed 4 - De Valken 2
DESCRIPTION:Baan 11\, Wedstrijdnummer 1075\, Afdeling 1e klasse 
DTSTART:20220331T200000
DTEND:20220331T230000
LOCATION:City Resort Helmond
ATTACH;FMTTYPE=text/plain:https://hbb.rivio.dev/senioren/2021/wedstrijd/289
 30
END:VEVENT
BEGIN:VEVENT
UID:https://hbb.rivio.dev/senioren/2021/wedstrijd/28948
DTSTAMP:20260420T133806Z
SUMMARY:Mixed 4 - BC '85 1
DESCRIPTION:Baan 4\, Wedstrijdnummer 1078\, Afdeling 1e klasse 
DTSTART:20220407T200000
DTEND:20220407T230000
LOCATION:City Resort Helmond
ATTACH;FMTTYPE=text/plain:https://hbb.rivio.dev/senioren/2021/wedstrijd/289
 48
END:VEVENT
BEGIN:VEVENT
UID:https://hbb.rivio.dev/senioren/2021/wedstrijd/28967
DTSTAMP:20260420T133806Z
SUMMARY:Bakel 2 - Mixed 4
DESCRIPTION:Baan 3\, Wedstrijdnummer 1080\, Afdeling 1e klasse 
DTSTART:20220414T200000
DTEND:20220414T230000
LOCATION:City Resort Helmond
ATTACH;FMTTYPE=text/plain:https://hbb.rivio.dev/senioren/2021/wedstrijd/289
 67
END:VEVENT
BEGIN:VEVENT
UID:https://hbb.rivio.dev/senioren/2021/wedstrijd/29003
DTSTAMP:20260420T133806Z
SUMMARY:Hanevoet 2 - Mixed 4
DESCRIPTION:Baan 12\, Wedstrijdnummer 1084\, Afdeling 1e klasse 
DTSTART:20220525T200000
DTEND:20220525T230000
LOCATION:City Resort Helmond
ATTACH;FMTTYPE=text/plain:https://hbb.rivio.dev/senioren/2021/wedstrijd/290
 03
END:VEVENT
BEGIN:VEVENT
UID:https://hbb.rivio.dev/senioren/2021/wedstrijd/29043
DTSTAMP:20260420T133806Z
SUMMARY:Smashing Bruang 2 - Mixed 4
DESCRIPTION:Baan 14\, Wedstrijdnummer 1091\, Afdeling 1e klasse 
DTSTART:20220616T200000
DTEND:20220616T230000
LOCATION:City Resort Helmond
ATTACH;FMTTYPE=text/plain:https://hbb.rivio.dev/senioren/2021/wedstrijd/290
 43
END:VEVENT
BEGIN:VTIMEZONE
TZID:Europe/Amsterdam
BEGIN:STANDARD
DTSTART:20210101T000000
TZNAME:CET
TZOFFSETTO:+0100
TZOFFSETFROM:+0100
END:STANDARD
BEGIN:DAYLIGHT
DTSTART:20210328T030000
TZNAME:CEST
TZOFFSETTO:+0200
TZOFFSETFROM:+0100
END:DAYLIGHT
BEGIN:STANDARD
DTSTART:20211031T020000
TZNAME:CET
TZOFFSETTO:+0100
TZOFFSETFROM:+0200
END:STANDARD
BEGIN:DAYLIGHT
DTSTART:20220327T030000
TZNAME:CEST
TZOFFSETTO:+0200
TZOFFSETFROM:+0100
END:DAYLIGHT
BEGIN:STANDARD
DTSTART:20221030T020000
TZNAME:CET
TZOFFSETTO:+0100
TZOFFSETFROM:+0200
END:STANDARD
END:VTIMEZONE
END:VCALENDAR
