BEGIN:VCALENDAR
PRODID:-//eluceo/ical//2.0/EN
VERSION:2.0
CALSCALE:GREGORIAN
BEGIN:VEVENT
UID:https://hbb.rivio.dev/senioren/2021/wedstrijd/28191
DTSTAMP:20260420T133906Z
SUMMARY:Mierlo 4 - Mixed 3
DESCRIPTION:Baan 11\, Wedstrijdnummer 52\, Afdeling Overgangsklasse 
DTSTART:20211006T200000
DTEND:20211006T230000
LOCATION:City Resort Helmond
ATTACH;FMTTYPE=text/plain:https://hbb.rivio.dev/senioren/2021/wedstrijd/281
 91
END:VEVENT
BEGIN:VEVENT
UID:https://hbb.rivio.dev/senioren/2021/wedstrijd/28213
DTSTAMP:20260420T133906Z
SUMMARY:Brabantia 2 - Mixed 3
DESCRIPTION:Baan 13\, Wedstrijdnummer 54\, Afdeling Overgangsklasse 
DTSTART:20211013T200000
DTEND:20211013T230000
LOCATION:City Resort Helmond
ATTACH;FMTTYPE=text/plain:https://hbb.rivio.dev/senioren/2021/wedstrijd/282
 13
END:VEVENT
BEGIN:VEVENT
UID:https://hbb.rivio.dev/senioren/2021/wedstrijd/28261
DTSTAMP:20260420T133906Z
SUMMARY:RBC 1 - Mixed 3
DESCRIPTION:Baan 11\, Wedstrijdnummer 57\, Afdeling Overgangsklasse 
DTSTART:20211104T200000
DTEND:20211104T230000
LOCATION:City Resort Helmond
ATTACH;FMTTYPE=text/plain:https://hbb.rivio.dev/senioren/2021/wedstrijd/282
 61
END:VEVENT
BEGIN:VEVENT
UID:https://hbb.rivio.dev/senioren/2021/wedstrijd/28272
DTSTAMP:20260420T133906Z
SUMMARY:Mixed 3 - Bakel 1
DESCRIPTION:Baan 12\, Wedstrijdnummer 59\, Afdeling Overgangsklasse 
DTSTART:20211110T200000
DTEND:20211110T230000
LOCATION:City Resort Helmond
ATTACH;FMTTYPE=text/plain:https://hbb.rivio.dev/senioren/2021/wedstrijd/282
 72
END:VEVENT
BEGIN:VEVENT
UID:https://hbb.rivio.dev/senioren/2021/wedstrijd/28294
DTSTAMP:20260420T133906Z
SUMMARY:Mixed 3 - Phoenix 2
DESCRIPTION:Baan 14\, Wedstrijdnummer 2010\, Afdeling Overgangsklasse 
DTSTART:20211117T200000
DTEND:20211117T230000
LOCATION:City Resort Helmond
ATTACH;FMTTYPE=text/plain:https://hbb.rivio.dev/senioren/2021/wedstrijd/282
 94
END:VEVENT
BEGIN:VEVENT
UID:https://hbb.rivio.dev/senioren/2021/wedstrijd/28823
DTSTAMP:20260420T133906Z
SUMMARY:Mixed 3 - Eindhoven 1
DESCRIPTION:Baan 15\, Wedstrijdnummer 63\, Afdeling Overgangsklasse 
DTSTART:20220210T200000
DTEND:20220210T230000
LOCATION:City Resort Helmond
ATTACH;FMTTYPE=text/plain:https://hbb.rivio.dev/senioren/2021/wedstrijd/288
 23
END:VEVENT
BEGIN:VEVENT
UID:https://hbb.rivio.dev/senioren/2021/wedstrijd/28873
DTSTAMP:20260420T133906Z
SUMMARY:Mixed 3 - Phoenix 2
DESCRIPTION:Baan 15\, Wedstrijdnummer 70\, Afdeling Overgangsklasse 
DTSTART:20220309T200000
DTEND:20220309T230000
LOCATION:City Resort Helmond
ATTACH;FMTTYPE=text/plain:https://hbb.rivio.dev/senioren/2021/wedstrijd/288
 73
END:VEVENT
BEGIN:VEVENT
UID:https://hbb.rivio.dev/senioren/2021/wedstrijd/28912
DTSTAMP:20260420T133906Z
SUMMARY:Mixed 3 - Mierlo 4
DESCRIPTION:Baan 14\, Wedstrijdnummer 1052\, Afdeling Overgangsklasse 
DTSTART:20220324T200000
DTEND:20220324T230000
LOCATION:City Resort Helmond
ATTACH;FMTTYPE=text/plain:https://hbb.rivio.dev/senioren/2021/wedstrijd/289
 12
END:VEVENT
BEGIN:VEVENT
UID:https://hbb.rivio.dev/senioren/2021/wedstrijd/28933
DTSTAMP:20260420T133906Z
SUMMARY:Mixed 3 - Brabantia 2
DESCRIPTION:Baan 14\, Wedstrijdnummer 1054\, Afdeling Overgangsklasse 
DTSTART:20220331T200000
DTEND:20220331T230000
LOCATION:City Resort Helmond
ATTACH;FMTTYPE=text/plain:https://hbb.rivio.dev/senioren/2021/wedstrijd/289
 33
END:VEVENT
BEGIN:VEVENT
UID:https://hbb.rivio.dev/senioren/2021/wedstrijd/28964
DTSTAMP:20260420T133906Z
SUMMARY:Mixed 3 - RBC 1
DESCRIPTION:Baan 15\, Wedstrijdnummer 1057\, Afdeling Overgangsklasse 
DTSTART:20220413T200000
DTEND:20220413T230000
LOCATION:City Resort Helmond
ATTACH;FMTTYPE=text/plain:https://hbb.rivio.dev/senioren/2021/wedstrijd/289
 64
END:VEVENT
BEGIN:VEVENT
UID:https://hbb.rivio.dev/senioren/2021/wedstrijd/28995
DTSTAMP:20260420T133906Z
SUMMARY:Bakel 1 - Mixed 3
DESCRIPTION:Baan 12\, Wedstrijdnummer 1059\, Afdeling Overgangsklasse 
DTSTART:20220519T200000
DTEND:20220519T230000
LOCATION:City Resort Helmond
ATTACH;FMTTYPE=text/plain:https://hbb.rivio.dev/senioren/2021/wedstrijd/289
 95
END:VEVENT
BEGIN:VEVENT
UID:https://hbb.rivio.dev/senioren/2021/wedstrijd/29013
DTSTAMP:20260420T133906Z
SUMMARY:Eindhoven 1 - Mixed 3
DESCRIPTION:Baan 4\, Wedstrijdnummer 1063\, Afdeling Overgangsklasse 
DTSTART:20220602T200000
DTEND:20220602T230000
LOCATION:City Resort Helmond
ATTACH;FMTTYPE=text/plain:https://hbb.rivio.dev/senioren/2021/wedstrijd/290
 13
END:VEVENT
BEGIN:VEVENT
UID:https://hbb.rivio.dev/senioren/2021/wedstrijd/29046
DTSTAMP:20260420T133906Z
SUMMARY:Phoenix 2 - Mixed 3
DESCRIPTION:Baan 2\, Wedstrijdnummer 1070\, Afdeling Overgangsklasse 
DTSTART:20220622T200000
DTEND:20220622T230000
LOCATION:City Resort Helmond
ATTACH;FMTTYPE=text/plain:https://hbb.rivio.dev/senioren/2021/wedstrijd/290
 46
END:VEVENT
BEGIN:VTIMEZONE
TZID:Europe/Amsterdam
BEGIN:STANDARD
DTSTART:20210101T000000
TZNAME:CET
TZOFFSETTO:+0100
TZOFFSETFROM:+0100
END:STANDARD
BEGIN:DAYLIGHT
DTSTART:20210328T030000
TZNAME:CEST
TZOFFSETTO:+0200
TZOFFSETFROM:+0100
END:DAYLIGHT
BEGIN:STANDARD
DTSTART:20211031T020000
TZNAME:CET
TZOFFSETTO:+0100
TZOFFSETFROM:+0200
END:STANDARD
BEGIN:DAYLIGHT
DTSTART:20220327T030000
TZNAME:CEST
TZOFFSETTO:+0200
TZOFFSETFROM:+0100
END:DAYLIGHT
BEGIN:STANDARD
DTSTART:20221030T020000
TZNAME:CET
TZOFFSETTO:+0100
TZOFFSETFROM:+0200
END:STANDARD
END:VTIMEZONE
END:VCALENDAR
