BEGIN:VCALENDAR
PRODID:-//eluceo/ical//2.0/EN
VERSION:2.0
CALSCALE:GREGORIAN
BEGIN:VEVENT
UID:https://hbb.rivio.dev/senioren/2021/wedstrijd/28187
DTSTAMP:20260420T220723Z
SUMMARY:Mixed 2 - Phoenix 1
DESCRIPTION:Baan 2\, Wedstrijdnummer 25\, Afdeling Hoofdklasse 
DTSTART:20211006T200000
DTEND:20211006T230000
LOCATION:City Resort Helmond
ATTACH;FMTTYPE=text/plain:https://hbb.rivio.dev/senioren/2021/wedstrijd/281
 87
END:VEVENT
BEGIN:VEVENT
UID:https://hbb.rivio.dev/senioren/2021/wedstrijd/28210
DTSTAMP:20260420T220723Z
SUMMARY:Mierlo 3 - Mixed 2
DESCRIPTION:Baan 5\, Wedstrijdnummer 29\, Afdeling Hoofdklasse 
DTSTART:20211013T200000
DTEND:20211013T230000
LOCATION:City Resort Helmond
ATTACH;FMTTYPE=text/plain:https://hbb.rivio.dev/senioren/2021/wedstrijd/282
 10
END:VEVENT
BEGIN:VEVENT
UID:https://hbb.rivio.dev/senioren/2021/wedstrijd/28234
DTSTAMP:20260420T220723Z
SUMMARY:De Valken 1 - Mixed 2
DESCRIPTION:Baan 14\, Wedstrijdnummer 32\, Afdeling Hoofdklasse 
DTSTART:20211020T200000
DTEND:20211020T230000
LOCATION:City Resort Helmond
ATTACH;FMTTYPE=text/plain:https://hbb.rivio.dev/senioren/2021/wedstrijd/282
 34
END:VEVENT
BEGIN:VEVENT
UID:https://hbb.rivio.dev/senioren/2021/wedstrijd/28267
DTSTAMP:20260420T220723Z
SUMMARY:Smashing Bruang 1 - Mixed 2
DESCRIPTION:Baan 2\, Wedstrijdnummer 35\, Afdeling Hoofdklasse 
DTSTART:20211110T200000
DTEND:20211110T230000
LOCATION:City Resort Helmond
ATTACH;FMTTYPE=text/plain:https://hbb.rivio.dev/senioren/2021/wedstrijd/282
 67
END:VEVENT
BEGIN:VEVENT
UID:https://hbb.rivio.dev/senioren/2021/wedstrijd/28292
DTSTAMP:20260420T220723Z
SUMMARY:Mixed 2 - Smashing Bruang 1
DESCRIPTION:Baan 12\, Wedstrijdnummer 2007\, Afdeling Hoofdklasse 
DTSTART:20211117T200000
DTEND:20211117T230000
LOCATION:City Resort Helmond
ATTACH;FMTTYPE=text/plain:https://hbb.rivio.dev/senioren/2021/wedstrijd/282
 92
END:VEVENT
BEGIN:VEVENT
UID:https://hbb.rivio.dev/senioren/2021/wedstrijd/28843
DTSTAMP:20260420T220723Z
SUMMARY:Mixed 2 - Hanevoet 1
DESCRIPTION:Baan 15\, Wedstrijdnummer 43\, Afdeling Hoofdklasse 
DTSTART:20220217T200000
DTEND:20220217T230000
LOCATION:City Resort Helmond
ATTACH;FMTTYPE=text/plain:https://hbb.rivio.dev/senioren/2021/wedstrijd/288
 43
END:VEVENT
BEGIN:VEVENT
UID:https://hbb.rivio.dev/senioren/2021/wedstrijd/28878
DTSTAMP:20260420T220723Z
SUMMARY:Mixed 2 - Someren 1
DESCRIPTION:Baan 11\, Wedstrijdnummer 48\, Afdeling Hoofdklasse 
DTSTART:20220310T200000
DTEND:20220310T230000
LOCATION:City Resort Helmond
ATTACH;FMTTYPE=text/plain:https://hbb.rivio.dev/senioren/2021/wedstrijd/288
 78
END:VEVENT
BEGIN:VEVENT
UID:https://hbb.rivio.dev/senioren/2021/wedstrijd/28893
DTSTAMP:20260420T220723Z
SUMMARY:Phoenix 1 - Mixed 2
DESCRIPTION:Baan 1\, Wedstrijdnummer 1025\, Afdeling Hoofdklasse 
DTSTART:20220323T200000
DTEND:20220323T230000
LOCATION:City Resort Helmond
ATTACH;FMTTYPE=text/plain:https://hbb.rivio.dev/senioren/2021/wedstrijd/288
 93
END:VEVENT
BEGIN:VEVENT
UID:https://hbb.rivio.dev/senioren/2021/wedstrijd/28938
DTSTAMP:20260420T220723Z
SUMMARY:Mixed 2 - Mierlo 3
DESCRIPTION:Baan 4\, Wedstrijdnummer 1029\, Afdeling Hoofdklasse 
DTSTART:20220406T200000
DTEND:20220406T230000
LOCATION:City Resort Helmond
ATTACH;FMTTYPE=text/plain:https://hbb.rivio.dev/senioren/2021/wedstrijd/289
 38
END:VEVENT
BEGIN:VEVENT
UID:https://hbb.rivio.dev/senioren/2021/wedstrijd/28960
DTSTAMP:20260420T220723Z
SUMMARY:Mixed 2 - De Valken 1
DESCRIPTION:Baan 11\, Wedstrijdnummer 1032\, Afdeling Hoofdklasse 
DTSTART:20220413T200000
DTEND:20220413T230000
LOCATION:City Resort Helmond
ATTACH;FMTTYPE=text/plain:https://hbb.rivio.dev/senioren/2021/wedstrijd/289
 60
END:VEVENT
BEGIN:VEVENT
UID:https://hbb.rivio.dev/senioren/2021/wedstrijd/28982
DTSTAMP:20260420T220723Z
SUMMARY:Mixed 2 - Smashing Bruang 1
DESCRIPTION:Baan 15\, Wedstrijdnummer 1035\, Afdeling Hoofdklasse 
DTSTART:20220420T200000
DTEND:20220420T230000
LOCATION:City Resort Helmond
ATTACH;FMTTYPE=text/plain:https://hbb.rivio.dev/senioren/2021/wedstrijd/289
 82
END:VEVENT
BEGIN:VEVENT
UID:https://hbb.rivio.dev/senioren/2021/wedstrijd/29029
DTSTAMP:20260420T220723Z
SUMMARY:Hanevoet 1 - Mixed 2
DESCRIPTION:Baan 11\, Wedstrijdnummer 1043\, Afdeling Hoofdklasse 
DTSTART:20220609T200000
DTEND:20220609T230000
LOCATION:City Resort Helmond
ATTACH;FMTTYPE=text/plain:https://hbb.rivio.dev/senioren/2021/wedstrijd/290
 29
END:VEVENT
BEGIN:VEVENT
UID:https://hbb.rivio.dev/senioren/2021/wedstrijd/29054
DTSTAMP:20260420T220723Z
SUMMARY:Someren 1 - Mixed 2
DESCRIPTION:Baan 15\, Wedstrijdnummer 1048\, Afdeling Hoofdklasse 
DTSTART:20220623T200000
DTEND:20220623T230000
LOCATION:City Resort Helmond
ATTACH;FMTTYPE=text/plain:https://hbb.rivio.dev/senioren/2021/wedstrijd/290
 54
END:VEVENT
BEGIN:VTIMEZONE
TZID:Europe/Amsterdam
BEGIN:STANDARD
DTSTART:20210101T000000
TZNAME:CET
TZOFFSETTO:+0100
TZOFFSETFROM:+0100
END:STANDARD
BEGIN:DAYLIGHT
DTSTART:20210328T030000
TZNAME:CEST
TZOFFSETTO:+0200
TZOFFSETFROM:+0100
END:DAYLIGHT
BEGIN:STANDARD
DTSTART:20211031T020000
TZNAME:CET
TZOFFSETTO:+0100
TZOFFSETFROM:+0200
END:STANDARD
BEGIN:DAYLIGHT
DTSTART:20220327T030000
TZNAME:CEST
TZOFFSETTO:+0200
TZOFFSETFROM:+0100
END:DAYLIGHT
BEGIN:STANDARD
DTSTART:20221030T020000
TZNAME:CET
TZOFFSETTO:+0100
TZOFFSETFROM:+0200
END:STANDARD
END:VTIMEZONE
END:VCALENDAR
