BEGIN:VCALENDAR
PRODID:-//eluceo/ical//2.0/EN
VERSION:2.0
CALSCALE:GREGORIAN
BEGIN:VEVENT
UID:https://hbb.rivio.dev/senioren/2021/wedstrijd/28171
DTSTAMP:20260420T090620Z
SUMMARY:Ganzeveer 1 - Mixed 1
DESCRIPTION:Baan 11\, Wedstrijdnummer 3\, Afdeling Topklasse 
DTSTART:20210929T200000
DTEND:20210929T230000
LOCATION:City Resort Helmond
ATTACH;FMTTYPE=text/plain:https://hbb.rivio.dev/senioren/2021/wedstrijd/281
 71
END:VEVENT
BEGIN:VEVENT
UID:https://hbb.rivio.dev/senioren/2021/wedstrijd/28203
DTSTAMP:20260420T090620Z
SUMMARY:Con Brio 1 - Mixed 1
DESCRIPTION:Baan 13\, Wedstrijdnummer 5\, Afdeling Topklasse 
DTSTART:20211007T200000
DTEND:20211007T230000
LOCATION:City Resort Helmond
ATTACH;FMTTYPE=text/plain:https://hbb.rivio.dev/senioren/2021/wedstrijd/282
 03
END:VEVENT
BEGIN:VEVENT
UID:https://hbb.rivio.dev/senioren/2021/wedstrijd/28228
DTSTAMP:20260420T090620Z
SUMMARY:Con Brio 2 - Mixed 1
DESCRIPTION:Baan 3\, Wedstrijdnummer 8\, Afdeling Topklasse 
DTSTART:20211020T200000
DTEND:20211020T230000
LOCATION:City Resort Helmond
ATTACH;FMTTYPE=text/plain:https://hbb.rivio.dev/senioren/2021/wedstrijd/282
 28
END:VEVENT
BEGIN:VEVENT
UID:https://hbb.rivio.dev/senioren/2021/wedstrijd/28250
DTSTAMP:20260420T090620Z
SUMMARY:Mixed 1 - Brabantia 1
DESCRIPTION:Baan 5\, Wedstrijdnummer 10\, Afdeling Topklasse 
DTSTART:20211103T200000
DTEND:20211103T230000
LOCATION:City Resort Helmond
ATTACH;FMTTYPE=text/plain:https://hbb.rivio.dev/senioren/2021/wedstrijd/282
 50
END:VEVENT
BEGIN:VEVENT
UID:https://hbb.rivio.dev/senioren/2021/wedstrijd/28803
DTSTAMP:20260420T090620Z
SUMMARY:Mixed 1 - Mierlo 1
DESCRIPTION:Baan 2\, Wedstrijdnummer 14\, Afdeling Topklasse 
DTSTART:20220209T200000
DTEND:20220209T230000
LOCATION:City Resort Helmond
ATTACH;FMTTYPE=text/plain:https://hbb.rivio.dev/senioren/2021/wedstrijd/288
 03
END:VEVENT
BEGIN:VEVENT
UID:https://hbb.rivio.dev/senioren/2021/wedstrijd/28865
DTSTAMP:20260420T090620Z
SUMMARY:Mixed 1 - Mierlo 2
DESCRIPTION:Baan 2\, Wedstrijdnummer 21\, Afdeling Topklasse 
DTSTART:20220309T200000
DTEND:20220309T230000
LOCATION:City Resort Helmond
ATTACH;FMTTYPE=text/plain:https://hbb.rivio.dev/senioren/2021/wedstrijd/288
 65
END:VEVENT
BEGIN:VEVENT
UID:https://hbb.rivio.dev/senioren/2021/wedstrijd/28911
DTSTAMP:20260420T090620Z
SUMMARY:Mixed 1 - Con Brio 1
DESCRIPTION:Baan 13\, Wedstrijdnummer 1005\, Afdeling Topklasse 
DTSTART:20220324T200000
DTEND:20220324T230000
LOCATION:City Resort Helmond
ATTACH;FMTTYPE=text/plain:https://hbb.rivio.dev/senioren/2021/wedstrijd/289
 11
END:VEVENT
BEGIN:VEVENT
UID:https://hbb.rivio.dev/senioren/2021/wedstrijd/28919
DTSTAMP:20260420T090620Z
SUMMARY:Mixed 1 - Ganzeveer 1
DESCRIPTION:Baan 11\, Wedstrijdnummer 1003\, Afdeling Topklasse 
DTSTART:20220330T200000
DTEND:20220330T230000
LOCATION:City Resort Helmond
ATTACH;FMTTYPE=text/plain:https://hbb.rivio.dev/senioren/2021/wedstrijd/289
 19
END:VEVENT
BEGIN:VEVENT
UID:https://hbb.rivio.dev/senioren/2021/wedstrijd/28954
DTSTAMP:20260420T090620Z
SUMMARY:Mixed 1 - Con Brio 2
DESCRIPTION:Baan 15\, Wedstrijdnummer 1008\, Afdeling Topklasse 
DTSTART:20220407T200000
DTEND:20220407T230000
LOCATION:City Resort Helmond
ATTACH;FMTTYPE=text/plain:https://hbb.rivio.dev/senioren/2021/wedstrijd/289
 54
END:VEVENT
BEGIN:VEVENT
UID:https://hbb.rivio.dev/senioren/2021/wedstrijd/28977
DTSTAMP:20260420T090620Z
SUMMARY:Brabantia 1 - Mixed 1
DESCRIPTION:Baan 2\, Wedstrijdnummer 1010\, Afdeling Topklasse 
DTSTART:20220420T200000
DTEND:20220420T230000
LOCATION:City Resort Helmond
ATTACH;FMTTYPE=text/plain:https://hbb.rivio.dev/senioren/2021/wedstrijd/289
 77
END:VEVENT
BEGIN:VEVENT
UID:https://hbb.rivio.dev/senioren/2021/wedstrijd/28997
DTSTAMP:20260420T090620Z
SUMMARY:Mierlo 1 - Mixed 1
DESCRIPTION:Baan 14\, Wedstrijdnummer 1014\, Afdeling Topklasse 
DTSTART:20220519T200000
DTEND:20220519T230000
LOCATION:City Resort Helmond
ATTACH;FMTTYPE=text/plain:https://hbb.rivio.dev/senioren/2021/wedstrijd/289
 97
END:VEVENT
BEGIN:VEVENT
UID:https://hbb.rivio.dev/senioren/2021/wedstrijd/29036
DTSTAMP:20260420T090620Z
SUMMARY:Mierlo 2 - Mixed 1
DESCRIPTION:Baan 3\, Wedstrijdnummer 1021\, Afdeling Topklasse 
DTSTART:20220615T200000
DTEND:20220615T230000
LOCATION:City Resort Helmond
ATTACH;FMTTYPE=text/plain:https://hbb.rivio.dev/senioren/2021/wedstrijd/290
 36
END:VEVENT
BEGIN:VTIMEZONE
TZID:Europe/Amsterdam
BEGIN:STANDARD
DTSTART:20210101T000000
TZNAME:CET
TZOFFSETTO:+0100
TZOFFSETFROM:+0100
END:STANDARD
BEGIN:DAYLIGHT
DTSTART:20210328T030000
TZNAME:CEST
TZOFFSETTO:+0200
TZOFFSETFROM:+0100
END:DAYLIGHT
BEGIN:STANDARD
DTSTART:20211031T020000
TZNAME:CET
TZOFFSETTO:+0100
TZOFFSETFROM:+0200
END:STANDARD
BEGIN:DAYLIGHT
DTSTART:20220327T030000
TZNAME:CEST
TZOFFSETTO:+0200
TZOFFSETFROM:+0100
END:DAYLIGHT
BEGIN:STANDARD
DTSTART:20221030T020000
TZNAME:CET
TZOFFSETTO:+0100
TZOFFSETFROM:+0200
END:STANDARD
END:VTIMEZONE
END:VCALENDAR
