BEGIN:VCALENDAR
PRODID:-//eluceo/ical//2.0/EN
VERSION:2.0
CALSCALE:GREGORIAN
BEGIN:VEVENT
UID:https://hbb.rivio.dev/senioren/2021/wedstrijd/28168
DTSTAMP:20260420T184430Z
SUMMARY:Mierlo 9 - Smashing Bruang 3
DESCRIPTION:Baan 3\, Wedstrijdnummer 202\, Afdeling 4e klasse D
DTSTART:20210929T200000
DTEND:20210929T230000
LOCATION:City Resort Helmond
ATTACH;FMTTYPE=text/plain:https://hbb.rivio.dev/senioren/2021/wedstrijd/281
 68
END:VEVENT
BEGIN:VEVENT
UID:https://hbb.rivio.dev/senioren/2021/wedstrijd/28194
DTSTAMP:20260420T184430Z
SUMMARY:Con Brio 4 - Mierlo 9
DESCRIPTION:Baan 14\, Wedstrijdnummer 204\, Afdeling 4e klasse K
DTSTART:20211006T200000
DTEND:20211006T230000
LOCATION:City Resort Helmond
ATTACH;FMTTYPE=text/plain:https://hbb.rivio.dev/senioren/2021/wedstrijd/281
 94
END:VEVENT
BEGIN:VEVENT
UID:https://hbb.rivio.dev/senioren/2021/wedstrijd/28226
DTSTAMP:20260420T184430Z
SUMMARY:Someren 6 - Mierlo 9
DESCRIPTION:Baan 1\, Wedstrijdnummer 206\, Afdeling 4e klasse D
DTSTART:20211020T200000
DTEND:20211020T230000
LOCATION:City Resort Helmond
ATTACH;FMTTYPE=text/plain:https://hbb.rivio.dev/senioren/2021/wedstrijd/282
 26
END:VEVENT
BEGIN:VEVENT
UID:https://hbb.rivio.dev/senioren/2021/wedstrijd/28265
DTSTAMP:20260420T184430Z
SUMMARY:Mierlo 9 - BC '85 2
DESCRIPTION:Baan 15\, Wedstrijdnummer 207\, Afdeling 4e klasse D
DTSTART:20211104T200000
DTEND:20211104T230000
LOCATION:City Resort Helmond
ATTACH;FMTTYPE=text/plain:https://hbb.rivio.dev/senioren/2021/wedstrijd/282
 65
END:VEVENT
BEGIN:VEVENT
UID:https://hbb.rivio.dev/senioren/2021/wedstrijd/28314
DTSTAMP:20260420T184430Z
SUMMARY:Mierlo 9 - Mierlo 8
DESCRIPTION:Baan 14\, Wedstrijdnummer 2029\, Afdeling 4e klasse D
DTSTART:20211124T200000
DTEND:20211124T230000
LOCATION:City Resort Helmond
ATTACH;FMTTYPE=text/plain:https://hbb.rivio.dev/senioren/2021/wedstrijd/283
 14
END:VEVENT
BEGIN:VEVENT
UID:https://hbb.rivio.dev/senioren/2021/wedstrijd/28827
DTSTAMP:20260420T184430Z
SUMMARY:Smashing Bruang 3 - Mierlo 9
DESCRIPTION:Baan 4\, Wedstrijdnummer 1202\, Afdeling 4e klasse K
DTSTART:20220216T200000
DTEND:20220216T230000
LOCATION:City Resort Helmond
ATTACH;FMTTYPE=text/plain:https://hbb.rivio.dev/senioren/2021/wedstrijd/288
 27
END:VEVENT
BEGIN:VEVENT
UID:https://hbb.rivio.dev/senioren/2021/wedstrijd/28852
DTSTAMP:20260420T184430Z
SUMMARY:Mierlo 9 - Con Brio 4
DESCRIPTION:Baan 14\, Wedstrijdnummer 1204\, Afdeling 4e klasse D
DTSTART:20220223T200000
DTEND:20220223T230000
LOCATION:City Resort Helmond
ATTACH;FMTTYPE=text/plain:https://hbb.rivio.dev/senioren/2021/wedstrijd/288
 52
END:VEVENT
BEGIN:VEVENT
UID:https://hbb.rivio.dev/senioren/2021/wedstrijd/28885
DTSTAMP:20260420T184430Z
SUMMARY:Mierlo 9 - Someren 6
DESCRIPTION:Baan 3\, Wedstrijdnummer 1206\, Afdeling 4e klasse D
DTSTART:20220317T200000
DTEND:20220317T230000
LOCATION:City Resort Helmond
ATTACH;FMTTYPE=text/plain:https://hbb.rivio.dev/senioren/2021/wedstrijd/288
 85
END:VEVENT
BEGIN:VEVENT
UID:https://hbb.rivio.dev/senioren/2021/wedstrijd/28909
DTSTAMP:20260420T184430Z
SUMMARY:BC '85 2 - Mierlo 9
DESCRIPTION:Baan 11\, Wedstrijdnummer 1207\, Afdeling 4e klasse K
DTSTART:20220324T200000
DTEND:20220324T230000
LOCATION:City Resort Helmond
ATTACH;FMTTYPE=text/plain:https://hbb.rivio.dev/senioren/2021/wedstrijd/289
 09
END:VEVENT
BEGIN:VEVENT
UID:https://hbb.rivio.dev/senioren/2021/wedstrijd/29069
DTSTAMP:20260420T184430Z
SUMMARY:Mierlo 9 - Ganzeveer 3
DESCRIPTION:Baan 3\, Wedstrijdnummer 232\, Afdeling 4e klasse D
DTSTART:20220519T200000
DTEND:20220519T230000
LOCATION:City Resort Helmond
ATTACH;FMTTYPE=text/plain:https://hbb.rivio.dev/senioren/2021/wedstrijd/290
 69
END:VEVENT
BEGIN:VEVENT
UID:https://hbb.rivio.dev/senioren/2021/wedstrijd/29076
DTSTAMP:20260420T184430Z
SUMMARY:Mierlo 9 - Someren 5
DESCRIPTION:Baan 1\, Wedstrijdnummer 235\, Afdeling 4e klasse D
DTSTART:20220602T200000
DTEND:20220602T230000
LOCATION:City Resort Helmond
ATTACH;FMTTYPE=text/plain:https://hbb.rivio.dev/senioren/2021/wedstrijd/290
 76
END:VEVENT
BEGIN:VEVENT
UID:https://hbb.rivio.dev/senioren/2021/wedstrijd/29084
DTSTAMP:20260420T184430Z
SUMMARY:Someren 6 - Mierlo 9
DESCRIPTION:Baan 13\, Wedstrijdnummer 239\, Afdeling 4e klasse D
DTSTART:20220615T200000
DTEND:20220615T230000
LOCATION:City Resort Helmond
ATTACH;FMTTYPE=text/plain:https://hbb.rivio.dev/senioren/2021/wedstrijd/290
 84
END:VEVENT
BEGIN:VEVENT
UID:https://hbb.rivio.dev/senioren/2021/wedstrijd/29101
DTSTAMP:20260420T184430Z
SUMMARY:Phoenix 4 - Mierlo 9
DESCRIPTION:Baan 3\, Wedstrijdnummer 240\, Afdeling 4e klasse D
DTSTART:20220622T200000
DTEND:20220622T230000
LOCATION:City Resort Helmond
ATTACH;FMTTYPE=text/plain:https://hbb.rivio.dev/senioren/2021/wedstrijd/291
 01
END:VEVENT
BEGIN:VTIMEZONE
TZID:Europe/Amsterdam
BEGIN:STANDARD
DTSTART:20210101T000000
TZNAME:CET
TZOFFSETTO:+0100
TZOFFSETFROM:+0100
END:STANDARD
BEGIN:DAYLIGHT
DTSTART:20210328T030000
TZNAME:CEST
TZOFFSETTO:+0200
TZOFFSETFROM:+0100
END:DAYLIGHT
BEGIN:STANDARD
DTSTART:20211031T020000
TZNAME:CET
TZOFFSETTO:+0100
TZOFFSETFROM:+0200
END:STANDARD
BEGIN:DAYLIGHT
DTSTART:20220327T030000
TZNAME:CEST
TZOFFSETTO:+0200
TZOFFSETFROM:+0100
END:DAYLIGHT
BEGIN:STANDARD
DTSTART:20221030T020000
TZNAME:CET
TZOFFSETTO:+0100
TZOFFSETFROM:+0200
END:STANDARD
END:VTIMEZONE
END:VCALENDAR
