BEGIN:VCALENDAR
PRODID:-//eluceo/ical//2.0/EN
VERSION:2.0
CALSCALE:GREGORIAN
BEGIN:VEVENT
UID:https://hbb.rivio.dev/senioren/2021/wedstrijd/28197
DTSTAMP:20260420T184013Z
SUMMARY:Mierlo 7 - Someren 4
DESCRIPTION:Baan 2\, Wedstrijdnummer 182\, Afdeling 3e klasse II
DTSTART:20211007T200000
DTEND:20211007T230000
LOCATION:City Resort Helmond
ATTACH;FMTTYPE=text/plain:https://hbb.rivio.dev/senioren/2021/wedstrijd/281
 97
END:VEVENT
BEGIN:VEVENT
UID:https://hbb.rivio.dev/senioren/2021/wedstrijd/28212
DTSTAMP:20260420T184013Z
SUMMARY:Ganzeveer 2 - Mierlo 7
DESCRIPTION:Baan 12\, Wedstrijdnummer 185\, Afdeling 3e klasse II
DTSTART:20211013T200000
DTEND:20211013T230000
LOCATION:City Resort Helmond
ATTACH;FMTTYPE=text/plain:https://hbb.rivio.dev/senioren/2021/wedstrijd/282
 12
END:VEVENT
BEGIN:VEVENT
UID:https://hbb.rivio.dev/senioren/2021/wedstrijd/28271
DTSTAMP:20260420T184013Z
SUMMARY:ASML 1 - Mierlo 7
DESCRIPTION:Baan 11\, Wedstrijdnummer 190\, Afdeling 3e klasse II
DTSTART:20211110T200000
DTEND:20211110T230000
LOCATION:City Resort Helmond
ATTACH;FMTTYPE=text/plain:https://hbb.rivio.dev/senioren/2021/wedstrijd/282
 71
END:VEVENT
BEGIN:VEVENT
UID:https://hbb.rivio.dev/senioren/2021/wedstrijd/28317
DTSTAMP:20260420T184013Z
SUMMARY:ASML 2 - Mierlo 7
DESCRIPTION:Baan 2\, Wedstrijdnummer 2023\, Afdeling 3e klasse I
DTSTART:20211125T200000
DTEND:20211125T230000
LOCATION:City Resort Helmond
ATTACH;FMTTYPE=text/plain:https://hbb.rivio.dev/senioren/2021/wedstrijd/283
 17
END:VEVENT
BEGIN:VEVENT
UID:https://hbb.rivio.dev/senioren/2021/wedstrijd/28820
DTSTAMP:20260420T184013Z
SUMMARY:BCAB 2 - Mierlo 7
DESCRIPTION:Baan 12\, Wedstrijdnummer 192\, Afdeling 3e klasse II
DTSTART:20220210T200000
DTEND:20220210T230000
LOCATION:City Resort Helmond
ATTACH;FMTTYPE=text/plain:https://hbb.rivio.dev/senioren/2021/wedstrijd/288
 20
END:VEVENT
BEGIN:VEVENT
UID:https://hbb.rivio.dev/senioren/2021/wedstrijd/28847
DTSTAMP:20260420T184013Z
SUMMARY:Mierlo 7 - De Valken 4
DESCRIPTION:Baan 4\, Wedstrijdnummer 196\, Afdeling 3e klasse II
DTSTART:20220223T200000
DTEND:20220223T230000
LOCATION:City Resort Helmond
ATTACH;FMTTYPE=text/plain:https://hbb.rivio.dev/senioren/2021/wedstrijd/288
 47
END:VEVENT
BEGIN:VEVENT
UID:https://hbb.rivio.dev/senioren/2021/wedstrijd/28871
DTSTAMP:20260420T184013Z
SUMMARY:Mierlo 7 - Mixed 6
DESCRIPTION:Baan 13\, Wedstrijdnummer 199\, Afdeling 3e klasse II
DTSTART:20220309T200000
DTEND:20220309T230000
LOCATION:City Resort Helmond
ATTACH;FMTTYPE=text/plain:https://hbb.rivio.dev/senioren/2021/wedstrijd/288
 71
END:VEVENT
BEGIN:VEVENT
UID:https://hbb.rivio.dev/senioren/2021/wedstrijd/28905
DTSTAMP:20260420T184013Z
SUMMARY:Someren 4 - Mierlo 7
DESCRIPTION:Baan 3\, Wedstrijdnummer 1182\, Afdeling 3e klasse II
DTSTART:20220324T200000
DTEND:20220324T230000
LOCATION:City Resort Helmond
ATTACH;FMTTYPE=text/plain:https://hbb.rivio.dev/senioren/2021/wedstrijd/289
 05
END:VEVENT
BEGIN:VEVENT
UID:https://hbb.rivio.dev/senioren/2021/wedstrijd/28942
DTSTAMP:20260420T184013Z
SUMMARY:Mierlo 7 - Ganzeveer 2
DESCRIPTION:Baan 13\, Wedstrijdnummer 1185\, Afdeling 3e klasse II
DTSTART:20220406T200000
DTEND:20220406T230000
LOCATION:City Resort Helmond
ATTACH;FMTTYPE=text/plain:https://hbb.rivio.dev/senioren/2021/wedstrijd/289
 42
END:VEVENT
BEGIN:VEVENT
UID:https://hbb.rivio.dev/senioren/2021/wedstrijd/28993
DTSTAMP:20260420T184013Z
SUMMARY:Mierlo 7 - ASML 1
DESCRIPTION:Baan 5\, Wedstrijdnummer 1190\, Afdeling 3e klasse II
DTSTART:20220519T200000
DTEND:20220519T230000
LOCATION:City Resort Helmond
ATTACH;FMTTYPE=text/plain:https://hbb.rivio.dev/senioren/2021/wedstrijd/289
 93
END:VEVENT
BEGIN:VEVENT
UID:https://hbb.rivio.dev/senioren/2021/wedstrijd/29011
DTSTAMP:20260420T184013Z
SUMMARY:Mierlo 7 - BCAB 2
DESCRIPTION:Baan 2\, Wedstrijdnummer 1192\, Afdeling 3e klasse II
DTSTART:20220602T200000
DTEND:20220602T230000
LOCATION:City Resort Helmond
ATTACH;FMTTYPE=text/plain:https://hbb.rivio.dev/senioren/2021/wedstrijd/290
 11
END:VEVENT
BEGIN:VEVENT
UID:https://hbb.rivio.dev/senioren/2021/wedstrijd/29021
DTSTAMP:20260420T184013Z
SUMMARY:De Valken 4 - Mierlo 7
DESCRIPTION:Baan 4\, Wedstrijdnummer 1196\, Afdeling 3e klasse II
DTSTART:20220608T200000
DTEND:20220608T230000
LOCATION:City Resort Helmond
ATTACH;FMTTYPE=text/plain:https://hbb.rivio.dev/senioren/2021/wedstrijd/290
 21
END:VEVENT
BEGIN:VEVENT
UID:https://hbb.rivio.dev/senioren/2021/wedstrijd/29037
DTSTAMP:20260420T184013Z
SUMMARY:Mixed 6 - Mierlo 7
DESCRIPTION:Baan 12\, Wedstrijdnummer 1199\, Afdeling 3e klasse II
DTSTART:20220615T200000
DTEND:20220615T230000
LOCATION:City Resort Helmond
ATTACH;FMTTYPE=text/plain:https://hbb.rivio.dev/senioren/2021/wedstrijd/290
 37
END:VEVENT
BEGIN:VTIMEZONE
TZID:Europe/Amsterdam
BEGIN:STANDARD
DTSTART:20210101T000000
TZNAME:CET
TZOFFSETTO:+0100
TZOFFSETFROM:+0100
END:STANDARD
BEGIN:DAYLIGHT
DTSTART:20210328T030000
TZNAME:CEST
TZOFFSETTO:+0200
TZOFFSETFROM:+0100
END:DAYLIGHT
BEGIN:STANDARD
DTSTART:20211031T020000
TZNAME:CET
TZOFFSETTO:+0100
TZOFFSETFROM:+0200
END:STANDARD
BEGIN:DAYLIGHT
DTSTART:20220327T030000
TZNAME:CEST
TZOFFSETTO:+0200
TZOFFSETFROM:+0100
END:DAYLIGHT
BEGIN:STANDARD
DTSTART:20221030T020000
TZNAME:CET
TZOFFSETTO:+0100
TZOFFSETFROM:+0200
END:STANDARD
END:VTIMEZONE
END:VCALENDAR
