BEGIN:VCALENDAR
PRODID:-//eluceo/ical//2.0/EN
VERSION:2.0
CALSCALE:GREGORIAN
BEGIN:VEVENT
UID:https://hbb.rivio.dev/senioren/2021/wedstrijd/28188
DTSTAMP:20260420T184651Z
SUMMARY:Geldrop 2 - Mierlo 6
DESCRIPTION:Baan 3\, Wedstrijdnummer 94\, Afdeling 2e klasse K
DTSTART:20211006T200000
DTEND:20211006T230000
LOCATION:City Resort Helmond
ATTACH;FMTTYPE=text/plain:https://hbb.rivio.dev/senioren/2021/wedstrijd/281
 88
END:VEVENT
BEGIN:VEVENT
UID:https://hbb.rivio.dev/senioren/2021/wedstrijd/28223
DTSTAMP:20260420T184651Z
SUMMARY:Someren 2 - Mierlo 6
DESCRIPTION:Baan 13\, Wedstrijdnummer 96\, Afdeling 2e klasse K
DTSTART:20211014T200000
DTEND:20211014T230000
LOCATION:City Resort Helmond
ATTACH;FMTTYPE=text/plain:https://hbb.rivio.dev/senioren/2021/wedstrijd/282
 23
END:VEVENT
BEGIN:VEVENT
UID:https://hbb.rivio.dev/senioren/2021/wedstrijd/28246
DTSTAMP:20260420T184651Z
SUMMARY:Con Brio 3 - Mierlo 6
DESCRIPTION:Baan 1\, Wedstrijdnummer 98\, Afdeling 2e klasse D
DTSTART:20211103T200000
DTEND:20211103T230000
LOCATION:City Resort Helmond
ATTACH;FMTTYPE=text/plain:https://hbb.rivio.dev/senioren/2021/wedstrijd/282
 46
END:VEVENT
BEGIN:VEVENT
UID:https://hbb.rivio.dev/senioren/2021/wedstrijd/28269
DTSTAMP:20260420T184651Z
SUMMARY:Mierlo 6 - De Valken 3
DESCRIPTION:Baan 4\, Wedstrijdnummer 102\, Afdeling 2e klasse D
DTSTART:20211110T200000
DTEND:20211110T230000
LOCATION:City Resort Helmond
ATTACH;FMTTYPE=text/plain:https://hbb.rivio.dev/senioren/2021/wedstrijd/282
 69
END:VEVENT
BEGIN:VEVENT
UID:https://hbb.rivio.dev/senioren/2021/wedstrijd/28321
DTSTAMP:20260420T184651Z
SUMMARY:Mierlo 6 - Gemert 1
DESCRIPTION:Baan 11\, Wedstrijdnummer 2017\, Afdeling 2e klasse D
DTSTART:20211125T200000
DTEND:20211125T230000
LOCATION:City Resort Helmond
ATTACH;FMTTYPE=text/plain:https://hbb.rivio.dev/senioren/2021/wedstrijd/283
 21
END:VEVENT
BEGIN:VEVENT
UID:https://hbb.rivio.dev/senioren/2021/wedstrijd/28819
DTSTAMP:20260420T184651Z
SUMMARY:Mierlo 6 - Mixed 5
DESCRIPTION:Baan 11\, Wedstrijdnummer 106\, Afdeling 2e klasse D
DTSTART:20220210T200000
DTEND:20220210T230000
LOCATION:City Resort Helmond
ATTACH;FMTTYPE=text/plain:https://hbb.rivio.dev/senioren/2021/wedstrijd/288
 19
END:VEVENT
BEGIN:VEVENT
UID:https://hbb.rivio.dev/senioren/2021/wedstrijd/28845
DTSTAMP:20260420T184651Z
SUMMARY:Mierlo 6 - Geldrop 2
DESCRIPTION:Baan 2\, Wedstrijdnummer 1094\, Afdeling 2e klasse D
DTSTART:20220223T200000
DTEND:20220223T230000
LOCATION:City Resort Helmond
ATTACH;FMTTYPE=text/plain:https://hbb.rivio.dev/senioren/2021/wedstrijd/288
 45
END:VEVENT
BEGIN:VEVENT
UID:https://hbb.rivio.dev/senioren/2021/wedstrijd/28880
DTSTAMP:20260420T184651Z
SUMMARY:Mierlo 6 - Someren 2
DESCRIPTION:Baan 13\, Wedstrijdnummer 1096\, Afdeling 2e klasse D
DTSTART:20220310T200000
DTEND:20220310T230000
LOCATION:City Resort Helmond
ATTACH;FMTTYPE=text/plain:https://hbb.rivio.dev/senioren/2021/wedstrijd/288
 80
END:VEVENT
BEGIN:VEVENT
UID:https://hbb.rivio.dev/senioren/2021/wedstrijd/28894
DTSTAMP:20260420T184651Z
SUMMARY:Mierlo 6 - Con Brio 3
DESCRIPTION:Baan 2\, Wedstrijdnummer 1098\, Afdeling 2e klasse D
DTSTART:20220323T200000
DTEND:20220323T230000
LOCATION:City Resort Helmond
ATTACH;FMTTYPE=text/plain:https://hbb.rivio.dev/senioren/2021/wedstrijd/288
 94
END:VEVENT
BEGIN:VEVENT
UID:https://hbb.rivio.dev/senioren/2021/wedstrijd/28941
DTSTAMP:20260420T184651Z
SUMMARY:De Valken 3 - Mierlo 6
DESCRIPTION:Baan 12\, Wedstrijdnummer 1102\, Afdeling 2e klasse D
DTSTART:20220406T200000
DTEND:20220406T230000
LOCATION:City Resort Helmond
ATTACH;FMTTYPE=text/plain:https://hbb.rivio.dev/senioren/2021/wedstrijd/289
 41
END:VEVENT
BEGIN:VEVENT
UID:https://hbb.rivio.dev/senioren/2021/wedstrijd/28975
DTSTAMP:20260420T184651Z
SUMMARY:Mixed 5 - Mierlo 6
DESCRIPTION:Baan 15\, Wedstrijdnummer 1106\, Afdeling 2e klasse K
DTSTART:20220414T200000
DTEND:20220414T230000
LOCATION:City Resort Helmond
ATTACH;FMTTYPE=text/plain:https://hbb.rivio.dev/senioren/2021/wedstrijd/289
 75
END:VEVENT
BEGIN:VEVENT
UID:https://hbb.rivio.dev/senioren/2021/wedstrijd/29056
DTSTAMP:20260420T184651Z
SUMMARY:Phoenix 3 - Mierlo 6
DESCRIPTION:Baan 13\, Wedstrijdnummer 138\, Afdeling 2e klasse D
DTSTART:20220420T200000
DTEND:20220420T230000
LOCATION:City Resort Helmond
ATTACH;FMTTYPE=text/plain:https://hbb.rivio.dev/senioren/2021/wedstrijd/290
 56
END:VEVENT
BEGIN:VEVENT
UID:https://hbb.rivio.dev/senioren/2021/wedstrijd/29062
DTSTAMP:20260420T184651Z
SUMMARY:Mierlo 6 - De Valken 3
DESCRIPTION:Baan 2\, Wedstrijdnummer 140\, Afdeling 2e klasse D
DTSTART:20220518T200000
DTEND:20220518T230000
LOCATION:City Resort Helmond
ATTACH;FMTTYPE=text/plain:https://hbb.rivio.dev/senioren/2021/wedstrijd/290
 62
END:VEVENT
BEGIN:VEVENT
UID:https://hbb.rivio.dev/senioren/2021/wedstrijd/29080
DTSTAMP:20260420T184651Z
SUMMARY:Mierlo 6 - Con Brio 3
DESCRIPTION:Baan 12\, Wedstrijdnummer 144\, Afdeling 2e klasse D
DTSTART:20220608T200000
DTEND:20220608T230000
LOCATION:City Resort Helmond
ATTACH;FMTTYPE=text/plain:https://hbb.rivio.dev/senioren/2021/wedstrijd/290
 80
END:VEVENT
BEGIN:VEVENT
UID:https://hbb.rivio.dev/senioren/2021/wedstrijd/29082
DTSTAMP:20260420T184651Z
SUMMARY:Mierlo 6 - Gemert 1
DESCRIPTION:Baan 4\, Wedstrijdnummer 148\, Afdeling 2e klasse D
DTSTART:20220615T200000
DTEND:20220615T230000
LOCATION:City Resort Helmond
ATTACH;FMTTYPE=text/plain:https://hbb.rivio.dev/senioren/2021/wedstrijd/290
 82
END:VEVENT
BEGIN:VEVENT
UID:https://hbb.rivio.dev/senioren/2021/wedstrijd/29096
DTSTAMP:20260420T184651Z
SUMMARY:Someren 3 - Mierlo 6
DESCRIPTION:Baan 11\, Wedstrijdnummer 151\, Afdeling 2e klasse D
DTSTART:20220623T200000
DTEND:20220623T230000
LOCATION:City Resort Helmond
ATTACH;FMTTYPE=text/plain:https://hbb.rivio.dev/senioren/2021/wedstrijd/290
 96
END:VEVENT
BEGIN:VTIMEZONE
TZID:Europe/Amsterdam
BEGIN:STANDARD
DTSTART:20210101T000000
TZNAME:CET
TZOFFSETTO:+0100
TZOFFSETFROM:+0100
END:STANDARD
BEGIN:DAYLIGHT
DTSTART:20210328T030000
TZNAME:CEST
TZOFFSETTO:+0200
TZOFFSETFROM:+0100
END:DAYLIGHT
BEGIN:STANDARD
DTSTART:20211031T020000
TZNAME:CET
TZOFFSETTO:+0100
TZOFFSETFROM:+0200
END:STANDARD
BEGIN:DAYLIGHT
DTSTART:20220327T030000
TZNAME:CEST
TZOFFSETTO:+0200
TZOFFSETFROM:+0100
END:DAYLIGHT
BEGIN:STANDARD
DTSTART:20221030T020000
TZNAME:CET
TZOFFSETTO:+0100
TZOFFSETFROM:+0200
END:STANDARD
END:VTIMEZONE
END:VCALENDAR
