BEGIN:VCALENDAR
PRODID:-//eluceo/ical//2.0/EN
VERSION:2.0
CALSCALE:GREGORIAN
BEGIN:VEVENT
UID:https://hbb.rivio.dev/senioren/2021/wedstrijd/28179
DTSTAMP:20260420T151804Z
SUMMARY:Mierlo 5 - Mixed 4
DESCRIPTION:Baan 4\, Wedstrijdnummer 73\, Afdeling 1e klasse 
DTSTART:20210930T200000
DTEND:20210930T230000
LOCATION:City Resort Helmond
ATTACH;FMTTYPE=text/plain:https://hbb.rivio.dev/senioren/2021/wedstrijd/281
 79
END:VEVENT
BEGIN:VEVENT
UID:https://hbb.rivio.dev/senioren/2021/wedstrijd/28216
DTSTAMP:20260420T151804Z
SUMMARY:Hanevoet 2 - Mierlo 5
DESCRIPTION:Baan 1\, Wedstrijdnummer 76\, Afdeling 1e klasse 
DTSTART:20211014T200000
DTEND:20211014T230000
LOCATION:City Resort Helmond
ATTACH;FMTTYPE=text/plain:https://hbb.rivio.dev/senioren/2021/wedstrijd/282
 16
END:VEVENT
BEGIN:VEVENT
UID:https://hbb.rivio.dev/senioren/2021/wedstrijd/28274
DTSTAMP:20260420T151804Z
SUMMARY:Smashing Bruang 2 - Mierlo 5
DESCRIPTION:Baan 14\, Wedstrijdnummer 81\, Afdeling 1e klasse 
DTSTART:20211110T200000
DTEND:20211110T230000
LOCATION:City Resort Helmond
ATTACH;FMTTYPE=text/plain:https://hbb.rivio.dev/senioren/2021/wedstrijd/282
 74
END:VEVENT
BEGIN:VEVENT
UID:https://hbb.rivio.dev/senioren/2021/wedstrijd/28301
DTSTAMP:20260420T151804Z
SUMMARY:Mierlo 5 - Bakel 2
DESCRIPTION:Baan 11\, Wedstrijdnummer 2012\, Afdeling 1e klasse 
DTSTART:20211118T200000
DTEND:20211118T230000
LOCATION:City Resort Helmond
ATTACH;FMTTYPE=text/plain:https://hbb.rivio.dev/senioren/2021/wedstrijd/283
 01
END:VEVENT
BEGIN:VEVENT
UID:https://hbb.rivio.dev/senioren/2021/wedstrijd/28324
DTSTAMP:20260420T151804Z
SUMMARY:Bakel 2 - Mierlo 5
DESCRIPTION:Baan 14\, Wedstrijdnummer 83\, Afdeling 1e klasse 
DTSTART:20211125T200000
DTEND:20211125T230000
LOCATION:City Resort Helmond
ATTACH;FMTTYPE=text/plain:https://hbb.rivio.dev/senioren/2021/wedstrijd/283
 24
END:VEVENT
BEGIN:VEVENT
UID:https://hbb.rivio.dev/senioren/2021/wedstrijd/28831
DTSTAMP:20260420T151804Z
SUMMARY:Mierlo 5 - De Valken 2
DESCRIPTION:Baan 13\, Wedstrijdnummer 87\, Afdeling 1e klasse 
DTSTART:20220216T200000
DTEND:20220216T230000
LOCATION:City Resort Helmond
ATTACH;FMTTYPE=text/plain:https://hbb.rivio.dev/senioren/2021/wedstrijd/288
 31
END:VEVENT
BEGIN:VEVENT
UID:https://hbb.rivio.dev/senioren/2021/wedstrijd/28866
DTSTAMP:20260420T151804Z
SUMMARY:Mierlo 5 - BC '85 1
DESCRIPTION:Baan 3\, Wedstrijdnummer 90\, Afdeling 1e klasse 
DTSTART:20220309T200000
DTEND:20220309T230000
LOCATION:City Resort Helmond
ATTACH;FMTTYPE=text/plain:https://hbb.rivio.dev/senioren/2021/wedstrijd/288
 66
END:VEVENT
BEGIN:VEVENT
UID:https://hbb.rivio.dev/senioren/2021/wedstrijd/28887
DTSTAMP:20260420T151804Z
SUMMARY:Mixed 4 - Mierlo 5
DESCRIPTION:Baan 5\, Wedstrijdnummer 1073\, Afdeling 1e klasse 
DTSTART:20220317T200000
DTEND:20220317T230000
LOCATION:City Resort Helmond
ATTACH;FMTTYPE=text/plain:https://hbb.rivio.dev/senioren/2021/wedstrijd/288
 87
END:VEVENT
BEGIN:VEVENT
UID:https://hbb.rivio.dev/senioren/2021/wedstrijd/28929
DTSTAMP:20260420T151804Z
SUMMARY:Mierlo 5 - Hanevoet 2
DESCRIPTION:Baan 5\, Wedstrijdnummer 1076\, Afdeling 1e klasse 
DTSTART:20220331T200000
DTEND:20220331T230000
LOCATION:City Resort Helmond
ATTACH;FMTTYPE=text/plain:https://hbb.rivio.dev/senioren/2021/wedstrijd/289
 29
END:VEVENT
BEGIN:VEVENT
UID:https://hbb.rivio.dev/senioren/2021/wedstrijd/28968
DTSTAMP:20260420T151804Z
SUMMARY:Mierlo 5 - Smashing Bruang 2
DESCRIPTION:Baan 4\, Wedstrijdnummer 1081\, Afdeling 1e klasse 
DTSTART:20220414T200000
DTEND:20220414T230000
LOCATION:City Resort Helmond
ATTACH;FMTTYPE=text/plain:https://hbb.rivio.dev/senioren/2021/wedstrijd/289
 68
END:VEVENT
BEGIN:VEVENT
UID:https://hbb.rivio.dev/senioren/2021/wedstrijd/29018
DTSTAMP:20260420T151804Z
SUMMARY:Mierlo 5 - Bakel 2
DESCRIPTION:Baan 14\, Wedstrijdnummer 1083\, Afdeling 1e klasse 
DTSTART:20220602T200000
DTEND:20220602T230000
LOCATION:City Resort Helmond
ATTACH;FMTTYPE=text/plain:https://hbb.rivio.dev/senioren/2021/wedstrijd/290
 18
END:VEVENT
BEGIN:VEVENT
UID:https://hbb.rivio.dev/senioren/2021/wedstrijd/29019
DTSTAMP:20260420T151804Z
SUMMARY:De Valken 2 - Mierlo 5
DESCRIPTION:Baan 1\, Wedstrijdnummer 1087\, Afdeling 1e klasse 
DTSTART:20220608T200000
DTEND:20220608T230000
LOCATION:City Resort Helmond
ATTACH;FMTTYPE=text/plain:https://hbb.rivio.dev/senioren/2021/wedstrijd/290
 19
END:VEVENT
BEGIN:VEVENT
UID:https://hbb.rivio.dev/senioren/2021/wedstrijd/29042
DTSTAMP:20260420T151804Z
SUMMARY:BC '85 1 - Mierlo 5
DESCRIPTION:Baan 13\, Wedstrijdnummer 1090\, Afdeling 1e klasse 
DTSTART:20220616T200000
DTEND:20220616T230000
LOCATION:City Resort Helmond
ATTACH;FMTTYPE=text/plain:https://hbb.rivio.dev/senioren/2021/wedstrijd/290
 42
END:VEVENT
BEGIN:VTIMEZONE
TZID:Europe/Amsterdam
BEGIN:STANDARD
DTSTART:20210101T000000
TZNAME:CET
TZOFFSETTO:+0100
TZOFFSETFROM:+0100
END:STANDARD
BEGIN:DAYLIGHT
DTSTART:20210328T030000
TZNAME:CEST
TZOFFSETTO:+0200
TZOFFSETFROM:+0100
END:DAYLIGHT
BEGIN:STANDARD
DTSTART:20211031T020000
TZNAME:CET
TZOFFSETTO:+0100
TZOFFSETFROM:+0200
END:STANDARD
BEGIN:DAYLIGHT
DTSTART:20220327T030000
TZNAME:CEST
TZOFFSETTO:+0200
TZOFFSETFROM:+0100
END:DAYLIGHT
BEGIN:STANDARD
DTSTART:20221030T020000
TZNAME:CET
TZOFFSETTO:+0100
TZOFFSETFROM:+0200
END:STANDARD
END:VTIMEZONE
END:VCALENDAR
