BEGIN:VCALENDAR
PRODID:-//eluceo/ical//2.0/EN
VERSION:2.0
CALSCALE:GREGORIAN
BEGIN:VEVENT
UID:https://hbb.rivio.dev/senioren/2021/wedstrijd/28191
DTSTAMP:20260420T171904Z
SUMMARY:Mierlo 4 - Mixed 3
DESCRIPTION:Baan 11\, Wedstrijdnummer 52\, Afdeling Overgangsklasse 
DTSTART:20211006T200000
DTEND:20211006T230000
LOCATION:City Resort Helmond
ATTACH;FMTTYPE=text/plain:https://hbb.rivio.dev/senioren/2021/wedstrijd/281
 91
END:VEVENT
BEGIN:VEVENT
UID:https://hbb.rivio.dev/senioren/2021/wedstrijd/28237
DTSTAMP:20260420T171904Z
SUMMARY:Eindhoven 1 - Mierlo 4
DESCRIPTION:Baan 2\, Wedstrijdnummer 55\, Afdeling Overgangsklasse 
DTSTART:20211021T200000
DTEND:20211021T230000
LOCATION:City Resort Helmond
ATTACH;FMTTYPE=text/plain:https://hbb.rivio.dev/senioren/2021/wedstrijd/282
 37
END:VEVENT
BEGIN:VEVENT
UID:https://hbb.rivio.dev/senioren/2021/wedstrijd/28273
DTSTAMP:20260420T171904Z
SUMMARY:Phoenix 2 - Mierlo 4
DESCRIPTION:Baan 13\, Wedstrijdnummer 60\, Afdeling Overgangsklasse 
DTSTART:20211110T200000
DTEND:20211110T230000
LOCATION:City Resort Helmond
ATTACH;FMTTYPE=text/plain:https://hbb.rivio.dev/senioren/2021/wedstrijd/282
 73
END:VEVENT
BEGIN:VEVENT
UID:https://hbb.rivio.dev/senioren/2021/wedstrijd/28293
DTSTAMP:20260420T171905Z
SUMMARY:Mierlo 4 - Bakel 1
DESCRIPTION:Baan 13\, Wedstrijdnummer 2009\, Afdeling Overgangsklasse 
DTSTART:20211117T200000
DTEND:20211117T230000
LOCATION:City Resort Helmond
ATTACH;FMTTYPE=text/plain:https://hbb.rivio.dev/senioren/2021/wedstrijd/282
 93
END:VEVENT
BEGIN:VEVENT
UID:https://hbb.rivio.dev/senioren/2021/wedstrijd/28812
DTSTAMP:20260420T171905Z
SUMMARY:Bakel 1 - Mierlo 4
DESCRIPTION:Baan 14\, Wedstrijdnummer 62\, Afdeling Overgangsklasse 
DTSTART:20220209T200000
DTEND:20220209T230000
LOCATION:City Resort Helmond
ATTACH;FMTTYPE=text/plain:https://hbb.rivio.dev/senioren/2021/wedstrijd/288
 12
END:VEVENT
BEGIN:VEVENT
UID:https://hbb.rivio.dev/senioren/2021/wedstrijd/28848
DTSTAMP:20260420T171905Z
SUMMARY:Mierlo 4 - Brabantia 2
DESCRIPTION:Baan 5\, Wedstrijdnummer 66\, Afdeling Overgangsklasse 
DTSTART:20220223T200000
DTEND:20220223T230000
LOCATION:City Resort Helmond
ATTACH;FMTTYPE=text/plain:https://hbb.rivio.dev/senioren/2021/wedstrijd/288
 48
END:VEVENT
BEGIN:VEVENT
UID:https://hbb.rivio.dev/senioren/2021/wedstrijd/28883
DTSTAMP:20260420T171905Z
SUMMARY:Mierlo 4 - RBC 1
DESCRIPTION:Baan 1\, Wedstrijdnummer 69\, Afdeling Overgangsklasse 
DTSTART:20220317T200000
DTEND:20220317T230000
LOCATION:City Resort Helmond
ATTACH;FMTTYPE=text/plain:https://hbb.rivio.dev/senioren/2021/wedstrijd/288
 83
END:VEVENT
BEGIN:VEVENT
UID:https://hbb.rivio.dev/senioren/2021/wedstrijd/28912
DTSTAMP:20260420T171905Z
SUMMARY:Mixed 3 - Mierlo 4
DESCRIPTION:Baan 14\, Wedstrijdnummer 1052\, Afdeling Overgangsklasse 
DTSTART:20220324T200000
DTEND:20220324T230000
LOCATION:City Resort Helmond
ATTACH;FMTTYPE=text/plain:https://hbb.rivio.dev/senioren/2021/wedstrijd/289
 12
END:VEVENT
BEGIN:VEVENT
UID:https://hbb.rivio.dev/senioren/2021/wedstrijd/28934
DTSTAMP:20260420T171905Z
SUMMARY:Mierlo 4 - Eindhoven 1
DESCRIPTION:Baan 15\, Wedstrijdnummer 1055\, Afdeling Overgangsklasse 
DTSTART:20220331T200000
DTEND:20220331T230000
LOCATION:City Resort Helmond
ATTACH;FMTTYPE=text/plain:https://hbb.rivio.dev/senioren/2021/wedstrijd/289
 34
END:VEVENT
BEGIN:VEVENT
UID:https://hbb.rivio.dev/senioren/2021/wedstrijd/28994
DTSTAMP:20260420T171905Z
SUMMARY:Mierlo 4 - Phoenix 2
DESCRIPTION:Baan 11\, Wedstrijdnummer 1060\, Afdeling Overgangsklasse 
DTSTART:20220519T200000
DTEND:20220519T230000
LOCATION:City Resort Helmond
ATTACH;FMTTYPE=text/plain:https://hbb.rivio.dev/senioren/2021/wedstrijd/289
 94
END:VEVENT
BEGIN:VEVENT
UID:https://hbb.rivio.dev/senioren/2021/wedstrijd/29004
DTSTAMP:20260420T171905Z
SUMMARY:Mierlo 4 - Bakel 1
DESCRIPTION:Baan 13\, Wedstrijdnummer 1062\, Afdeling Overgangsklasse 
DTSTART:20220525T200000
DTEND:20220525T230000
LOCATION:City Resort Helmond
ATTACH;FMTTYPE=text/plain:https://hbb.rivio.dev/senioren/2021/wedstrijd/290
 04
END:VEVENT
BEGIN:VEVENT
UID:https://hbb.rivio.dev/senioren/2021/wedstrijd/29022
DTSTAMP:20260420T171905Z
SUMMARY:Brabantia 2 - Mierlo 4
DESCRIPTION:Baan 5\, Wedstrijdnummer 1066\, Afdeling Overgangsklasse 
DTSTART:20220608T200000
DTEND:20220608T230000
LOCATION:City Resort Helmond
ATTACH;FMTTYPE=text/plain:https://hbb.rivio.dev/senioren/2021/wedstrijd/290
 22
END:VEVENT
BEGIN:VEVENT
UID:https://hbb.rivio.dev/senioren/2021/wedstrijd/29051
DTSTAMP:20260420T171905Z
SUMMARY:RBC 1 - Mierlo 4
DESCRIPTION:Baan 3\, Wedstrijdnummer 1069\, Afdeling Overgangsklasse 
DTSTART:20220623T200000
DTEND:20220623T230000
LOCATION:City Resort Helmond
ATTACH;FMTTYPE=text/plain:https://hbb.rivio.dev/senioren/2021/wedstrijd/290
 51
END:VEVENT
BEGIN:VTIMEZONE
TZID:Europe/Amsterdam
BEGIN:STANDARD
DTSTART:20210101T000000
TZNAME:CET
TZOFFSETTO:+0100
TZOFFSETFROM:+0100
END:STANDARD
BEGIN:DAYLIGHT
DTSTART:20210328T030000
TZNAME:CEST
TZOFFSETTO:+0200
TZOFFSETFROM:+0100
END:DAYLIGHT
BEGIN:STANDARD
DTSTART:20211031T020000
TZNAME:CET
TZOFFSETTO:+0100
TZOFFSETFROM:+0200
END:STANDARD
BEGIN:DAYLIGHT
DTSTART:20220327T030000
TZNAME:CEST
TZOFFSETTO:+0200
TZOFFSETFROM:+0100
END:DAYLIGHT
BEGIN:STANDARD
DTSTART:20221030T020000
TZNAME:CET
TZOFFSETTO:+0100
TZOFFSETFROM:+0200
END:STANDARD
END:VTIMEZONE
END:VCALENDAR
