BEGIN:VCALENDAR
PRODID:-//eluceo/ical//2.0/EN
VERSION:2.0
CALSCALE:GREGORIAN
BEGIN:VEVENT
UID:https://hbb.rivio.dev/senioren/2021/wedstrijd/28167
DTSTAMP:20260420T134135Z
SUMMARY:Gemert 1 - Phoenix 3
DESCRIPTION:Baan 2\, Wedstrijdnummer 109\, Afdeling 2e klasse D
DTSTART:20210929T200000
DTEND:20210929T230000
LOCATION:City Resort Helmond
ATTACH;FMTTYPE=text/plain:https://hbb.rivio.dev/senioren/2021/wedstrijd/281
 67
END:VEVENT
BEGIN:VEVENT
UID:https://hbb.rivio.dev/senioren/2021/wedstrijd/28193
DTSTAMP:20260420T134135Z
SUMMARY:Geldrop 1 - Gemert 1
DESCRIPTION:Baan 13\, Wedstrijdnummer 112\, Afdeling 2e klasse K
DTSTART:20211006T200000
DTEND:20211006T230000
LOCATION:City Resort Helmond
ATTACH;FMTTYPE=text/plain:https://hbb.rivio.dev/senioren/2021/wedstrijd/281
 93
END:VEVENT
BEGIN:VEVENT
UID:https://hbb.rivio.dev/senioren/2021/wedstrijd/28239
DTSTAMP:20260420T134135Z
SUMMARY:Someren 3 - Gemert 1
DESCRIPTION:Baan 4\, Wedstrijdnummer 114\, Afdeling 2e klasse D
DTSTART:20211021T200000
DTEND:20211021T230000
LOCATION:City Resort Helmond
ATTACH;FMTTYPE=text/plain:https://hbb.rivio.dev/senioren/2021/wedstrijd/282
 39
END:VEVENT
BEGIN:VEVENT
UID:https://hbb.rivio.dev/senioren/2021/wedstrijd/28263
DTSTAMP:20260420T134135Z
SUMMARY:Gemert 1 - Bakel 3
DESCRIPTION:Baan 13\, Wedstrijdnummer 116\, Afdeling 2e klasse D
DTSTART:20211104T200000
DTEND:20211104T230000
LOCATION:City Resort Helmond
ATTACH;FMTTYPE=text/plain:https://hbb.rivio.dev/senioren/2021/wedstrijd/282
 63
END:VEVENT
BEGIN:VEVENT
UID:https://hbb.rivio.dev/senioren/2021/wedstrijd/28286
DTSTAMP:20260420T134135Z
SUMMARY:Gemert 1 - Rudra 1
DESCRIPTION:Baan 1\, Wedstrijdnummer 120\, Afdeling 2e klasse D
DTSTART:20211117T200000
DTEND:20211117T230000
LOCATION:City Resort Helmond
ATTACH;FMTTYPE=text/plain:https://hbb.rivio.dev/senioren/2021/wedstrijd/282
 86
END:VEVENT
BEGIN:VEVENT
UID:https://hbb.rivio.dev/senioren/2021/wedstrijd/28321
DTSTAMP:20260420T134135Z
SUMMARY:Mierlo 6 - Gemert 1
DESCRIPTION:Baan 11\, Wedstrijdnummer 2017\, Afdeling 2e klasse D
DTSTART:20211125T200000
DTEND:20211125T230000
LOCATION:City Resort Helmond
ATTACH;FMTTYPE=text/plain:https://hbb.rivio.dev/senioren/2021/wedstrijd/283
 21
END:VEVENT
BEGIN:VEVENT
UID:https://hbb.rivio.dev/senioren/2021/wedstrijd/28826
DTSTAMP:20260420T134135Z
SUMMARY:Phoenix 3 - Gemert 1
DESCRIPTION:Baan 3\, Wedstrijdnummer 1109\, Afdeling 2e klasse D
DTSTART:20220216T200000
DTEND:20220216T230000
LOCATION:City Resort Helmond
ATTACH;FMTTYPE=text/plain:https://hbb.rivio.dev/senioren/2021/wedstrijd/288
 26
END:VEVENT
BEGIN:VEVENT
UID:https://hbb.rivio.dev/senioren/2021/wedstrijd/28851
DTSTAMP:20260420T134135Z
SUMMARY:Gemert 1 - Geldrop 1
DESCRIPTION:Baan 13\, Wedstrijdnummer 1112\, Afdeling 2e klasse D
DTSTART:20220223T200000
DTEND:20220223T230000
LOCATION:City Resort Helmond
ATTACH;FMTTYPE=text/plain:https://hbb.rivio.dev/senioren/2021/wedstrijd/288
 51
END:VEVENT
BEGIN:VEVENT
UID:https://hbb.rivio.dev/senioren/2021/wedstrijd/28884
DTSTAMP:20260420T134135Z
SUMMARY:Gemert 1 - Someren 3
DESCRIPTION:Baan 2\, Wedstrijdnummer 1114\, Afdeling 2e klasse D
DTSTART:20220317T200000
DTEND:20220317T230000
LOCATION:City Resort Helmond
ATTACH;FMTTYPE=text/plain:https://hbb.rivio.dev/senioren/2021/wedstrijd/288
 84
END:VEVENT
BEGIN:VEVENT
UID:https://hbb.rivio.dev/senioren/2021/wedstrijd/28907
DTSTAMP:20260420T134135Z
SUMMARY:Bakel 3 - Gemert 1
DESCRIPTION:Baan 5\, Wedstrijdnummer 1116\, Afdeling 2e klasse K
DTSTART:20220324T200000
DTEND:20220324T230000
LOCATION:City Resort Helmond
ATTACH;FMTTYPE=text/plain:https://hbb.rivio.dev/senioren/2021/wedstrijd/289
 07
END:VEVENT
BEGIN:VEVENT
UID:https://hbb.rivio.dev/senioren/2021/wedstrijd/28944
DTSTAMP:20260420T134135Z
SUMMARY:Rudra 1 - Gemert 1
DESCRIPTION:Baan 15\, Wedstrijdnummer 1120\, Afdeling 2e klasse K
DTSTART:20220406T200000
DTEND:20220406T230000
LOCATION:City Resort Helmond
ATTACH;FMTTYPE=text/plain:https://hbb.rivio.dev/senioren/2021/wedstrijd/289
 44
END:VEVENT
BEGIN:VEVENT
UID:https://hbb.rivio.dev/senioren/2021/wedstrijd/29055
DTSTAMP:20260420T134135Z
SUMMARY:De Valken 3 - Gemert 1
DESCRIPTION:Baan 12\, Wedstrijdnummer 137\, Afdeling 2e klasse D
DTSTART:20220420T200000
DTEND:20220420T230000
LOCATION:City Resort Helmond
ATTACH;FMTTYPE=text/plain:https://hbb.rivio.dev/senioren/2021/wedstrijd/290
 55
END:VEVENT
BEGIN:VEVENT
UID:https://hbb.rivio.dev/senioren/2021/wedstrijd/29063
DTSTAMP:20260420T134135Z
SUMMARY:Gemert 1 - Someren 3
DESCRIPTION:Baan 3\, Wedstrijdnummer 141\, Afdeling 2e klasse D
DTSTART:20220518T200000
DTEND:20220518T230000
LOCATION:City Resort Helmond
ATTACH;FMTTYPE=text/plain:https://hbb.rivio.dev/senioren/2021/wedstrijd/290
 63
END:VEVENT
BEGIN:VEVENT
UID:https://hbb.rivio.dev/senioren/2021/wedstrijd/29072
DTSTAMP:20260420T134135Z
SUMMARY:Gemert 1 - Phoenix 3
DESCRIPTION:Baan 4\, Wedstrijdnummer 145\, Afdeling 2e klasse D
DTSTART:20220601T200000
DTEND:20220601T230000
LOCATION:City Resort Helmond
ATTACH;FMTTYPE=text/plain:https://hbb.rivio.dev/senioren/2021/wedstrijd/290
 72
END:VEVENT
BEGIN:VEVENT
UID:https://hbb.rivio.dev/senioren/2021/wedstrijd/29082
DTSTAMP:20260420T134135Z
SUMMARY:Mierlo 6 - Gemert 1
DESCRIPTION:Baan 4\, Wedstrijdnummer 148\, Afdeling 2e klasse D
DTSTART:20220615T200000
DTEND:20220615T230000
LOCATION:City Resort Helmond
ATTACH;FMTTYPE=text/plain:https://hbb.rivio.dev/senioren/2021/wedstrijd/290
 82
END:VEVENT
BEGIN:VEVENT
UID:https://hbb.rivio.dev/senioren/2021/wedstrijd/29095
DTSTAMP:20260420T134135Z
SUMMARY:Con Brio 3 - Gemert 1
DESCRIPTION:Baan 5\, Wedstrijdnummer 150\, Afdeling 2e klasse D
DTSTART:20220623T200000
DTEND:20220623T230000
LOCATION:City Resort Helmond
ATTACH;FMTTYPE=text/plain:https://hbb.rivio.dev/senioren/2021/wedstrijd/290
 95
END:VEVENT
BEGIN:VTIMEZONE
TZID:Europe/Amsterdam
BEGIN:STANDARD
DTSTART:20210101T000000
TZNAME:CET
TZOFFSETTO:+0100
TZOFFSETFROM:+0100
END:STANDARD
BEGIN:DAYLIGHT
DTSTART:20210328T030000
TZNAME:CEST
TZOFFSETTO:+0200
TZOFFSETFROM:+0100
END:DAYLIGHT
BEGIN:STANDARD
DTSTART:20211031T020000
TZNAME:CET
TZOFFSETTO:+0100
TZOFFSETFROM:+0200
END:STANDARD
BEGIN:DAYLIGHT
DTSTART:20220327T030000
TZNAME:CEST
TZOFFSETTO:+0200
TZOFFSETFROM:+0100
END:DAYLIGHT
BEGIN:STANDARD
DTSTART:20221030T020000
TZNAME:CET
TZOFFSETTO:+0100
TZOFFSETFROM:+0200
END:STANDARD
END:VTIMEZONE
END:VCALENDAR
