BEGIN:VCALENDAR
PRODID:-//eluceo/ical//2.0/EN
VERSION:2.0
CALSCALE:GREGORIAN
BEGIN:VEVENT
UID:https://hbb.rivio.dev/senioren/2021/wedstrijd/28180
DTSTAMP:20260420T234532Z
SUMMARY:Hanevoet 3 - Rudra 2
DESCRIPTION:Baan 5\, Wedstrijdnummer 154\, Afdeling 3e klasse I
DTSTART:20210930T200000
DTEND:20210930T230000
LOCATION:City Resort Helmond
ATTACH;FMTTYPE=text/plain:https://hbb.rivio.dev/senioren/2021/wedstrijd/281
 80
END:VEVENT
BEGIN:VEVENT
UID:https://hbb.rivio.dev/senioren/2021/wedstrijd/28218
DTSTAMP:20260420T234532Z
SUMMARY:Hanevoet 3 - Heiakker 1
DESCRIPTION:Baan 3\, Wedstrijdnummer 159\, Afdeling 3e klasse I
DTSTART:20211014T200000
DTEND:20211014T230000
LOCATION:City Resort Helmond
ATTACH;FMTTYPE=text/plain:https://hbb.rivio.dev/senioren/2021/wedstrijd/282
 18
END:VEVENT
BEGIN:VEVENT
UID:https://hbb.rivio.dev/senioren/2021/wedstrijd/28231
DTSTAMP:20260420T234532Z
SUMMARY:Gemert 2 - Hanevoet 3
DESCRIPTION:Baan 11\, Wedstrijdnummer 163\, Afdeling 3e klasse I
DTSTART:20211020T200000
DTEND:20211020T230000
LOCATION:City Resort Helmond
ATTACH;FMTTYPE=text/plain:https://hbb.rivio.dev/senioren/2021/wedstrijd/282
 31
END:VEVENT
BEGIN:VEVENT
UID:https://hbb.rivio.dev/senioren/2021/wedstrijd/28279
DTSTAMP:20260420T234532Z
SUMMARY:RBC 2 - Hanevoet 3
DESCRIPTION:Baan 4\, Wedstrijdnummer 166\, Afdeling 3e klasse I
DTSTART:20211111T200000
DTEND:20211111T230000
LOCATION:City Resort Helmond
ATTACH;FMTTYPE=text/plain:https://hbb.rivio.dev/senioren/2021/wedstrijd/282
 79
END:VEVENT
BEGIN:VEVENT
UID:https://hbb.rivio.dev/senioren/2021/wedstrijd/28297
DTSTAMP:20260420T234532Z
SUMMARY:Never Down 1 - Hanevoet 3
DESCRIPTION:Baan 2\, Wedstrijdnummer 169\, Afdeling 3e klasse I
DTSTART:20211118T200000
DTEND:20211118T230000
LOCATION:City Resort Helmond
ATTACH;FMTTYPE=text/plain:https://hbb.rivio.dev/senioren/2021/wedstrijd/282
 97
END:VEVENT
BEGIN:VEVENT
UID:https://hbb.rivio.dev/senioren/2021/wedstrijd/28316
DTSTAMP:20260420T234532Z
SUMMARY:Hanevoet 3 - Mixed 6
DESCRIPTION:Baan 1\, Wedstrijdnummer 2022\, Afdeling 3e klasse I
DTSTART:20211125T200000
DTEND:20211125T230000
LOCATION:City Resort Helmond
ATTACH;FMTTYPE=text/plain:https://hbb.rivio.dev/senioren/2021/wedstrijd/283
 16
END:VEVENT
BEGIN:VEVENT
UID:https://hbb.rivio.dev/senioren/2021/wedstrijd/28838
DTSTAMP:20260420T234532Z
SUMMARY:Hanevoet 3 - Geldrop 3
DESCRIPTION:Baan 5\, Wedstrijdnummer 172\, Afdeling 3e klasse I
DTSTART:20220217T200000
DTEND:20220217T230000
LOCATION:City Resort Helmond
ATTACH;FMTTYPE=text/plain:https://hbb.rivio.dev/senioren/2021/wedstrijd/288
 38
END:VEVENT
BEGIN:VEVENT
UID:https://hbb.rivio.dev/senioren/2021/wedstrijd/28874
DTSTAMP:20260420T234532Z
SUMMARY:Hanevoet 3 - ASML 2
DESCRIPTION:Baan 1\, Wedstrijdnummer 177\, Afdeling 3e klasse I
DTSTART:20220310T200000
DTEND:20220310T230000
LOCATION:City Resort Helmond
ATTACH;FMTTYPE=text/plain:https://hbb.rivio.dev/senioren/2021/wedstrijd/288
 74
END:VEVENT
BEGIN:VEVENT
UID:https://hbb.rivio.dev/senioren/2021/wedstrijd/28922
DTSTAMP:20260420T234532Z
SUMMARY:Rudra 2 - Hanevoet 3
DESCRIPTION:Baan 13\, Wedstrijdnummer 1154\, Afdeling 3e klasse I
DTSTART:20220330T200000
DTEND:20220330T230000
LOCATION:City Resort Helmond
ATTACH;FMTTYPE=text/plain:https://hbb.rivio.dev/senioren/2021/wedstrijd/289
 22
END:VEVENT
BEGIN:VEVENT
UID:https://hbb.rivio.dev/senioren/2021/wedstrijd/28946
DTSTAMP:20260420T234532Z
SUMMARY:Heiakker 1 - Hanevoet 3
DESCRIPTION:Baan 2\, Wedstrijdnummer 1159\, Afdeling 3e klasse I
DTSTART:20220407T200000
DTEND:20220407T230000
LOCATION:City Resort Helmond
ATTACH;FMTTYPE=text/plain:https://hbb.rivio.dev/senioren/2021/wedstrijd/289
 46
END:VEVENT
BEGIN:VEVENT
UID:https://hbb.rivio.dev/senioren/2021/wedstrijd/28971
DTSTAMP:20260420T234532Z
SUMMARY:Hanevoet 3 - Gemert 2
DESCRIPTION:Baan 11\, Wedstrijdnummer 1163\, Afdeling 3e klasse I
DTSTART:20220414T200000
DTEND:20220414T230000
LOCATION:City Resort Helmond
ATTACH;FMTTYPE=text/plain:https://hbb.rivio.dev/senioren/2021/wedstrijd/289
 71
END:VEVENT
BEGIN:VEVENT
UID:https://hbb.rivio.dev/senioren/2021/wedstrijd/28985
DTSTAMP:20260420T234532Z
SUMMARY:Hanevoet 3 - RBC 2
DESCRIPTION:Baan 11\, Wedstrijdnummer 1166\, Afdeling 3e klasse I
DTSTART:20220421T200000
DTEND:20220421T230000
LOCATION:City Resort Helmond
ATTACH;FMTTYPE=text/plain:https://hbb.rivio.dev/senioren/2021/wedstrijd/289
 85
END:VEVENT
BEGIN:VEVENT
UID:https://hbb.rivio.dev/senioren/2021/wedstrijd/29001
DTSTAMP:20260420T234532Z
SUMMARY:Hanevoet 3 - Never Down 1
DESCRIPTION:Baan 5\, Wedstrijdnummer 1169\, Afdeling 3e klasse I
DTSTART:20220525T200000
DTEND:20220525T230000
LOCATION:City Resort Helmond
ATTACH;FMTTYPE=text/plain:https://hbb.rivio.dev/senioren/2021/wedstrijd/290
 01
END:VEVENT
BEGIN:VEVENT
UID:https://hbb.rivio.dev/senioren/2021/wedstrijd/29007
DTSTAMP:20260420T234532Z
SUMMARY:Geldrop 3 - Hanevoet 3
DESCRIPTION:Baan 1\, Wedstrijdnummer 1172\, Afdeling 3e klasse I
DTSTART:20220601T200000
DTEND:20220601T230000
LOCATION:City Resort Helmond
ATTACH;FMTTYPE=text/plain:https://hbb.rivio.dev/senioren/2021/wedstrijd/290
 07
END:VEVENT
BEGIN:VEVENT
UID:https://hbb.rivio.dev/senioren/2021/wedstrijd/29044
DTSTAMP:20260420T234532Z
SUMMARY:ASML 2 - Hanevoet 3
DESCRIPTION:Baan 15\, Wedstrijdnummer 1177\, Afdeling 3e klasse I
DTSTART:20220616T200000
DTEND:20220616T230000
LOCATION:City Resort Helmond
ATTACH;FMTTYPE=text/plain:https://hbb.rivio.dev/senioren/2021/wedstrijd/290
 44
END:VEVENT
BEGIN:VTIMEZONE
TZID:Europe/Amsterdam
BEGIN:STANDARD
DTSTART:20210101T000000
TZNAME:CET
TZOFFSETTO:+0100
TZOFFSETFROM:+0100
END:STANDARD
BEGIN:DAYLIGHT
DTSTART:20210328T030000
TZNAME:CEST
TZOFFSETTO:+0200
TZOFFSETFROM:+0100
END:DAYLIGHT
BEGIN:STANDARD
DTSTART:20211031T020000
TZNAME:CET
TZOFFSETTO:+0100
TZOFFSETFROM:+0200
END:STANDARD
BEGIN:DAYLIGHT
DTSTART:20220327T030000
TZNAME:CEST
TZOFFSETTO:+0200
TZOFFSETFROM:+0100
END:DAYLIGHT
BEGIN:STANDARD
DTSTART:20221030T020000
TZNAME:CET
TZOFFSETTO:+0100
TZOFFSETFROM:+0200
END:STANDARD
END:VTIMEZONE
END:VCALENDAR
