BEGIN:VCALENDAR
PRODID:-//eluceo/ical//2.0/EN
VERSION:2.0
CALSCALE:GREGORIAN
BEGIN:VEVENT
UID:https://hbb.rivio.dev/jeugd/2020/wedstrijd/26391
DTSTAMP:20260420T151241Z
SUMMARY:De Valken 2 - De Valken 1
DESCRIPTION:Baan 11\, Afdeling DE-klasse 
DTSTART:20200927T093000
DTEND:20200927T111500
LOCATION:City Resort Helmond
ATTACH;FMTTYPE=text/plain:https://hbb.rivio.dev/jeugd/2020/wedstrijd/26391
END:VEVENT
BEGIN:VEVENT
UID:https://hbb.rivio.dev/jeugd/2020/wedstrijd/26395
DTSTAMP:20260420T151241Z
SUMMARY:De Valken 2 - Mierlo 3
DESCRIPTION:Baan 12\, Afdeling DE-klasse 
DTSTART:20200927T111500
DTEND:20200927T130000
LOCATION:City Resort Helmond
ATTACH;FMTTYPE=text/plain:https://hbb.rivio.dev/jeugd/2020/wedstrijd/26395
END:VEVENT
BEGIN:VEVENT
UID:https://hbb.rivio.dev/jeugd/2020/wedstrijd/26423
DTSTAMP:20260420T151241Z
SUMMARY:Hanevoet 2 - De Valken 2
DESCRIPTION:Baan 13\, Afdeling DE-klasse 
DTSTART:20201011T093000
DTEND:20201011T111500
LOCATION:City Resort Helmond
ATTACH;FMTTYPE=text/plain:https://hbb.rivio.dev/jeugd/2020/wedstrijd/26423
END:VEVENT
BEGIN:VEVENT
UID:https://hbb.rivio.dev/jeugd/2020/wedstrijd/26425
DTSTAMP:20260420T151241Z
SUMMARY:Mierlo 4 - De Valken 2
DESCRIPTION:Baan 12\, Afdeling DE-klasse 
DTSTART:20201011T111500
DTEND:20201011T130000
LOCATION:City Resort Helmond
ATTACH;FMTTYPE=text/plain:https://hbb.rivio.dev/jeugd/2020/wedstrijd/26425
END:VEVENT
BEGIN:VEVENT
UID:https://hbb.rivio.dev/jeugd/2020/wedstrijd/26455
DTSTAMP:20260420T151242Z
SUMMARY:De Valken 2 - Hanevoet 1
DESCRIPTION:Baan 12\, Afdeling DE-klasse 
DTSTART:20201108T111500
DTEND:20201108T130000
LOCATION:City Resort Helmond
ATTACH;FMTTYPE=text/plain:https://hbb.rivio.dev/jeugd/2020/wedstrijd/26455
END:VEVENT
BEGIN:VEVENT
UID:https://hbb.rivio.dev/jeugd/2020/wedstrijd/26451
DTSTAMP:20260420T151242Z
SUMMARY:De Valken 1 - De Valken 2
DESCRIPTION:Baan 11\, Afdeling DE-klasse 
DTSTART:20201108T093000
DTEND:20201108T111500
LOCATION:City Resort Helmond
ATTACH;FMTTYPE=text/plain:https://hbb.rivio.dev/jeugd/2020/wedstrijd/26451
END:VEVENT
BEGIN:VEVENT
UID:https://hbb.rivio.dev/jeugd/2020/wedstrijd/26484
DTSTAMP:20260420T151242Z
SUMMARY:De Valken 2 - Phoenix 3
DESCRIPTION:Baan 11\, Afdeling DE-klasse 
DTSTART:20201122T111500
DTEND:20201122T130000
LOCATION:City Resort Helmond
ATTACH;FMTTYPE=text/plain:https://hbb.rivio.dev/jeugd/2020/wedstrijd/26484
END:VEVENT
BEGIN:VEVENT
UID:https://hbb.rivio.dev/jeugd/2020/wedstrijd/26482
DTSTAMP:20260420T151242Z
SUMMARY:Mierlo 3 - De Valken 2
DESCRIPTION:Baan 12\, Afdeling DE-klasse 
DTSTART:20201122T093000
DTEND:20201122T111500
LOCATION:City Resort Helmond
ATTACH;FMTTYPE=text/plain:https://hbb.rivio.dev/jeugd/2020/wedstrijd/26482
END:VEVENT
BEGIN:VEVENT
UID:https://hbb.rivio.dev/jeugd/2020/wedstrijd/26550
DTSTAMP:20260420T151242Z
SUMMARY:De Valken 2 - Hanevoet 2
DESCRIPTION:Baan 11\, Afdeling DE-klasse 
DTSTART:20210207T111500
DTEND:20210207T130000
LOCATION:City Resort Helmond
ATTACH;FMTTYPE=text/plain:https://hbb.rivio.dev/jeugd/2020/wedstrijd/26550
END:VEVENT
BEGIN:VEVENT
UID:https://hbb.rivio.dev/jeugd/2020/wedstrijd/26548
DTSTAMP:20260420T151242Z
SUMMARY:Hanevoet 1 - De Valken 2
DESCRIPTION:Baan 12\, Afdeling DE-klasse 
DTSTART:20210207T093000
DTEND:20210207T111500
LOCATION:City Resort Helmond
ATTACH;FMTTYPE=text/plain:https://hbb.rivio.dev/jeugd/2020/wedstrijd/26548
END:VEVENT
BEGIN:VEVENT
UID:https://hbb.rivio.dev/jeugd/2020/wedstrijd/26561
DTSTAMP:20260420T151242Z
SUMMARY:De Valken 2 - Mierlo 4
DESCRIPTION:Baan 4\, Afdeling DE-klasse 
DTSTART:20210228T093000
DTEND:20210228T111500
LOCATION:City Resort Helmond
ATTACH;FMTTYPE=text/plain:https://hbb.rivio.dev/jeugd/2020/wedstrijd/26561
END:VEVENT
BEGIN:VEVENT
UID:https://hbb.rivio.dev/jeugd/2020/wedstrijd/26563
DTSTAMP:20260420T151242Z
SUMMARY:Phoenix 3 - De Valken 2
DESCRIPTION:Baan 3\, Afdeling DE-klasse 
DTSTART:20210228T111500
DTEND:20210228T130000
LOCATION:City Resort Helmond
ATTACH;FMTTYPE=text/plain:https://hbb.rivio.dev/jeugd/2020/wedstrijd/26563
END:VEVENT
BEGIN:VTIMEZONE
TZID:Europe/Amsterdam
BEGIN:STANDARD
DTSTART:20200101T000000
TZNAME:CET
TZOFFSETTO:+0100
TZOFFSETFROM:+0100
END:STANDARD
BEGIN:DAYLIGHT
DTSTART:20200329T030000
TZNAME:CEST
TZOFFSETTO:+0200
TZOFFSETFROM:+0100
END:DAYLIGHT
BEGIN:STANDARD
DTSTART:20201025T020000
TZNAME:CET
TZOFFSETTO:+0100
TZOFFSETFROM:+0200
END:STANDARD
BEGIN:DAYLIGHT
DTSTART:20210328T030000
TZNAME:CEST
TZOFFSETTO:+0200
TZOFFSETFROM:+0100
END:DAYLIGHT
BEGIN:STANDARD
DTSTART:20211031T020000
TZNAME:CET
TZOFFSETTO:+0100
TZOFFSETFROM:+0200
END:STANDARD
END:VTIMEZONE
END:VCALENDAR
