BEGIN:VCALENDAR
PRODID:-//eluceo/ical//2.0/EN
VERSION:2.0
CALSCALE:GREGORIAN
BEGIN:VEVENT
UID:https://hbb.rivio.dev/senioren/2020/wedstrijd/26593
DTSTAMP:20260420T203130Z
SUMMARY:Smashing Bruang 3 - Con Brio 5
DESCRIPTION:Baan 2\, Wedstrijdnummer 205\, Afdeling 4e klasse I
DTSTART:20200923T200000
DTEND:20200923T230000
LOCATION:City Resort Helmond
ATTACH;FMTTYPE=text/plain:https://hbb.rivio.dev/senioren/2020/wedstrijd/265
 93
END:VEVENT
BEGIN:VEVENT
UID:https://hbb.rivio.dev/senioren/2020/wedstrijd/26620
DTSTAMP:20260420T203130Z
SUMMARY:BC '85 3 - Smashing Bruang 3
DESCRIPTION:Baan 14\, Wedstrijdnummer 207\, Afdeling 4e klasse I
DTSTART:20200930T200000
DTEND:20200930T230000
LOCATION:City Resort Helmond
ATTACH;FMTTYPE=text/plain:https://hbb.rivio.dev/senioren/2020/wedstrijd/266
 20
END:VEVENT
BEGIN:VEVENT
UID:https://hbb.rivio.dev/senioren/2020/wedstrijd/26655
DTSTAMP:20260420T203130Z
SUMMARY:Smashing Bruang 3 - Mierlo 11
DESCRIPTION:Baan 4\, Wedstrijdnummer 209\, Afdeling 4e klasse I
DTSTART:20201014T200000
DTEND:20201014T230000
LOCATION:City Resort Helmond
ATTACH;FMTTYPE=text/plain:https://hbb.rivio.dev/senioren/2020/wedstrijd/266
 55
END:VEVENT
BEGIN:VEVENT
UID:https://hbb.rivio.dev/senioren/2020/wedstrijd/26703
DTSTAMP:20260420T203130Z
SUMMARY:Gemert 4 - Smashing Bruang 3
DESCRIPTION:Baan 3\, Wedstrijdnummer 211\, Afdeling 4e klasse I
DTSTART:20201105T200000
DTEND:20201105T230000
LOCATION:City Resort Helmond
ATTACH;FMTTYPE=text/plain:https://hbb.rivio.dev/senioren/2020/wedstrijd/267
 03
END:VEVENT
BEGIN:VEVENT
UID:https://hbb.rivio.dev/senioren/2020/wedstrijd/26726
DTSTAMP:20260420T203130Z
SUMMARY:Smashing Bruang 3 - Someren 5
DESCRIPTION:Baan 13\, Wedstrijdnummer 2060\, Afdeling 4e klasse I
DTSTART:20201112T200000
DTEND:20201112T230000
LOCATION:City Resort Helmond
ATTACH;FMTTYPE=text/plain:https://hbb.rivio.dev/senioren/2020/wedstrijd/267
 26
END:VEVENT
BEGIN:VEVENT
UID:https://hbb.rivio.dev/senioren/2020/wedstrijd/26774
DTSTAMP:20260420T203130Z
SUMMARY:Con Brio 5 - Smashing Bruang 3
DESCRIPTION:Baan 11\, Wedstrijdnummer 1205\, Afdeling 4e klasse I
DTSTART:20201202T200000
DTEND:20201202T230000
LOCATION:City Resort Helmond
ATTACH;FMTTYPE=text/plain:https://hbb.rivio.dev/senioren/2020/wedstrijd/267
 74
END:VEVENT
BEGIN:VEVENT
UID:https://hbb.rivio.dev/senioren/2020/wedstrijd/26811
DTSTAMP:20260420T203130Z
SUMMARY:Smashing Bruang 3 - BC '85 3
DESCRIPTION:Baan 3\, Wedstrijdnummer 1207\, Afdeling 4e klasse I
DTSTART:20201216T200000
DTEND:20201216T230000
LOCATION:City Resort Helmond
ATTACH;FMTTYPE=text/plain:https://hbb.rivio.dev/senioren/2020/wedstrijd/268
 11
END:VEVENT
BEGIN:VEVENT
UID:https://hbb.rivio.dev/senioren/2020/wedstrijd/26836
DTSTAMP:20260420T203130Z
SUMMARY:Mierlo 11 - Smashing Bruang 3
DESCRIPTION:Baan 13\, Wedstrijdnummer 1209\, Afdeling 4e klasse I
DTSTART:20210106T200000
DTEND:20210106T230000
LOCATION:City Resort Helmond
ATTACH;FMTTYPE=text/plain:https://hbb.rivio.dev/senioren/2020/wedstrijd/268
 36
END:VEVENT
BEGIN:VEVENT
UID:https://hbb.rivio.dev/senioren/2020/wedstrijd/26878
DTSTAMP:20260420T203130Z
SUMMARY:Smashing Bruang 3 - Gemert 4
DESCRIPTION:Baan 4\, Wedstrijdnummer 1211\, Afdeling 4e klasse I
DTSTART:20210127T200000
DTEND:20210127T230000
LOCATION:City Resort Helmond
ATTACH;FMTTYPE=text/plain:https://hbb.rivio.dev/senioren/2020/wedstrijd/268
 78
END:VEVENT
BEGIN:VTIMEZONE
TZID:Europe/Amsterdam
BEGIN:STANDARD
DTSTART:20200101T000000
TZNAME:CET
TZOFFSETTO:+0100
TZOFFSETFROM:+0100
END:STANDARD
BEGIN:DAYLIGHT
DTSTART:20200329T030000
TZNAME:CEST
TZOFFSETTO:+0200
TZOFFSETFROM:+0100
END:DAYLIGHT
BEGIN:STANDARD
DTSTART:20201025T020000
TZNAME:CET
TZOFFSETTO:+0100
TZOFFSETFROM:+0200
END:STANDARD
BEGIN:DAYLIGHT
DTSTART:20210328T030000
TZNAME:CEST
TZOFFSETTO:+0200
TZOFFSETFROM:+0100
END:DAYLIGHT
BEGIN:STANDARD
DTSTART:20211031T020000
TZNAME:CET
TZOFFSETTO:+0100
TZOFFSETFROM:+0200
END:STANDARD
END:VTIMEZONE
END:VCALENDAR
