BEGIN:VCALENDAR
PRODID:-//eluceo/ical//2.0/EN
VERSION:2.0
CALSCALE:GREGORIAN
BEGIN:VEVENT
UID:https://hbb.rivio.dev/senioren/2020/wedstrijd/26627
DTSTAMP:20260420T090555Z
SUMMARY:Smashing Bruang 1 - Someren 1
DESCRIPTION:Baan 11\, Wedstrijdnummer 24\, Afdeling Hoofdklasse 
DTSTART:20201001T200000
DTEND:20201001T230000
LOCATION:City Resort Helmond
ATTACH;FMTTYPE=text/plain:https://hbb.rivio.dev/senioren/2020/wedstrijd/266
 27
END:VEVENT
BEGIN:VEVENT
UID:https://hbb.rivio.dev/senioren/2020/wedstrijd/26653
DTSTAMP:20260420T090555Z
SUMMARY:Phoenix 1 - Smashing Bruang 1
DESCRIPTION:Baan 2\, Wedstrijdnummer 27\, Afdeling Hoofdklasse 
DTSTART:20201014T200000
DTEND:20201014T230000
LOCATION:City Resort Helmond
ATTACH;FMTTYPE=text/plain:https://hbb.rivio.dev/senioren/2020/wedstrijd/266
 53
END:VEVENT
BEGIN:VEVENT
UID:https://hbb.rivio.dev/senioren/2020/wedstrijd/26759
DTSTAMP:20260420T090555Z
SUMMARY:Smashing Bruang 1 - BCAB 1
DESCRIPTION:Baan 1\, Wedstrijdnummer 31\, Afdeling Hoofdklasse 
DTSTART:20201126T200000
DTEND:20201126T230000
LOCATION:City Resort Helmond
ATTACH;FMTTYPE=text/plain:https://hbb.rivio.dev/senioren/2020/wedstrijd/267
 59
END:VEVENT
BEGIN:VEVENT
UID:https://hbb.rivio.dev/senioren/2020/wedstrijd/26799
DTSTAMP:20260420T090555Z
SUMMARY:Hanevoet 1 - Smashing Bruang 1
DESCRIPTION:Baan 1\, Wedstrijdnummer 35\, Afdeling Hoofdklasse 
DTSTART:20201210T200000
DTEND:20201210T230000
LOCATION:City Resort Helmond
ATTACH;FMTTYPE=text/plain:https://hbb.rivio.dev/senioren/2020/wedstrijd/267
 99
END:VEVENT
BEGIN:VEVENT
UID:https://hbb.rivio.dev/senioren/2020/wedstrijd/26822
DTSTAMP:20260420T090555Z
SUMMARY:Smashing Bruang 1 - Mierlo 3
DESCRIPTION:Baan 4\, Wedstrijdnummer 38\, Afdeling Hoofdklasse 
DTSTART:20201217T200000
DTEND:20201217T230000
LOCATION:City Resort Helmond
ATTACH;FMTTYPE=text/plain:https://hbb.rivio.dev/senioren/2020/wedstrijd/268
 22
END:VEVENT
BEGIN:VEVENT
UID:https://hbb.rivio.dev/senioren/2020/wedstrijd/26832
DTSTAMP:20260420T090555Z
SUMMARY:Mixed 2 - Smashing Bruang 1
DESCRIPTION:Baan 4\, Wedstrijdnummer 42\, Afdeling Hoofdklasse 
DTSTART:20210106T200000
DTEND:20210106T230000
LOCATION:City Resort Helmond
ATTACH;FMTTYPE=text/plain:https://hbb.rivio.dev/senioren/2020/wedstrijd/268
 32
END:VEVENT
BEGIN:VEVENT
UID:https://hbb.rivio.dev/senioren/2020/wedstrijd/26873
DTSTAMP:20260420T090555Z
SUMMARY:Someren 1 - Smashing Bruang 1
DESCRIPTION:Baan 14\, Wedstrijdnummer 1024\, Afdeling Hoofdklasse 
DTSTART:20210121T200000
DTEND:20210121T230000
LOCATION:City Resort Helmond
ATTACH;FMTTYPE=text/plain:https://hbb.rivio.dev/senioren/2020/wedstrijd/268
 73
END:VEVENT
BEGIN:VEVENT
UID:https://hbb.rivio.dev/senioren/2020/wedstrijd/26901
DTSTAMP:20260420T090555Z
SUMMARY:Smashing Bruang 1 - Phoenix 1
DESCRIPTION:Baan 12\, Wedstrijdnummer 1027\, Afdeling Hoofdklasse 
DTSTART:20210203T200000
DTEND:20210203T230000
LOCATION:City Resort Helmond
ATTACH;FMTTYPE=text/plain:https://hbb.rivio.dev/senioren/2020/wedstrijd/269
 01
END:VEVENT
BEGIN:VEVENT
UID:https://hbb.rivio.dev/senioren/2020/wedstrijd/26960
DTSTAMP:20260420T090555Z
SUMMARY:BCAB 1 - Smashing Bruang 1
DESCRIPTION:Baan 11\, Wedstrijdnummer 1031\, Afdeling Hoofdklasse 
DTSTART:20210304T200000
DTEND:20210304T230000
LOCATION:City Resort Helmond
ATTACH;FMTTYPE=text/plain:https://hbb.rivio.dev/senioren/2020/wedstrijd/269
 60
END:VEVENT
BEGIN:VEVENT
UID:https://hbb.rivio.dev/senioren/2020/wedstrijd/26989
DTSTAMP:20260420T090555Z
SUMMARY:Smashing Bruang 1 - Hanevoet 1
DESCRIPTION:Baan 12\, Wedstrijdnummer 1035\, Afdeling Hoofdklasse 
DTSTART:20210318T200000
DTEND:20210318T230000
LOCATION:City Resort Helmond
ATTACH;FMTTYPE=text/plain:https://hbb.rivio.dev/senioren/2020/wedstrijd/269
 89
END:VEVENT
BEGIN:VEVENT
UID:https://hbb.rivio.dev/senioren/2020/wedstrijd/27009
DTSTAMP:20260420T090555Z
SUMMARY:Mierlo 3 - Smashing Bruang 1
DESCRIPTION:Baan 14\, Wedstrijdnummer 1038\, Afdeling Hoofdklasse 
DTSTART:20210325T200000
DTEND:20210325T230000
LOCATION:City Resort Helmond
ATTACH;FMTTYPE=text/plain:https://hbb.rivio.dev/senioren/2020/wedstrijd/270
 09
END:VEVENT
BEGIN:VEVENT
UID:https://hbb.rivio.dev/senioren/2020/wedstrijd/27032
DTSTAMP:20260420T090555Z
SUMMARY:Smashing Bruang 1 - Mixed 2
DESCRIPTION:Baan 13\, Wedstrijdnummer 1042\, Afdeling Hoofdklasse 
DTSTART:20210415T200000
DTEND:20210415T230000
LOCATION:City Resort Helmond
ATTACH;FMTTYPE=text/plain:https://hbb.rivio.dev/senioren/2020/wedstrijd/270
 32
END:VEVENT
BEGIN:VTIMEZONE
TZID:Europe/Amsterdam
BEGIN:STANDARD
DTSTART:20200101T000000
TZNAME:CET
TZOFFSETTO:+0100
TZOFFSETFROM:+0100
END:STANDARD
BEGIN:DAYLIGHT
DTSTART:20200329T030000
TZNAME:CEST
TZOFFSETTO:+0200
TZOFFSETFROM:+0100
END:DAYLIGHT
BEGIN:STANDARD
DTSTART:20201025T020000
TZNAME:CET
TZOFFSETTO:+0100
TZOFFSETFROM:+0200
END:STANDARD
BEGIN:DAYLIGHT
DTSTART:20210328T030000
TZNAME:CEST
TZOFFSETTO:+0200
TZOFFSETFROM:+0100
END:DAYLIGHT
BEGIN:STANDARD
DTSTART:20211031T020000
TZNAME:CET
TZOFFSETTO:+0100
TZOFFSETFROM:+0200
END:STANDARD
END:VTIMEZONE
END:VCALENDAR
