BEGIN:VCALENDAR
PRODID:-//eluceo/ical//2.0/EN
VERSION:2.0
CALSCALE:GREGORIAN
BEGIN:VEVENT
UID:https://hbb.rivio.dev/jeugd/2020/wedstrijd/26409
DTSTAMP:20260420T134012Z
SUMMARY:Phoenix 4 - RBC 1
DESCRIPTION:Baan 13\, Afdeling F-klasse 
DTSTART:20201004T093000
DTEND:20201004T111500
LOCATION:City Resort Helmond
ATTACH;FMTTYPE=text/plain:https://hbb.rivio.dev/jeugd/2020/wedstrijd/26409
END:VEVENT
BEGIN:VEVENT
UID:https://hbb.rivio.dev/jeugd/2020/wedstrijd/26411
DTSTAMP:20260420T134012Z
SUMMARY:Mixed 4 - Phoenix 4
DESCRIPTION:Baan 12\, Afdeling F-klasse 
DTSTART:20201004T111500
DTEND:20201004T130000
LOCATION:City Resort Helmond
ATTACH;FMTTYPE=text/plain:https://hbb.rivio.dev/jeugd/2020/wedstrijd/26411
END:VEVENT
BEGIN:VEVENT
UID:https://hbb.rivio.dev/jeugd/2020/wedstrijd/26440
DTSTAMP:20260420T134012Z
SUMMARY:Phoenix 4 - Mixed 3
DESCRIPTION:Baan 11\, Afdeling F-klasse 
DTSTART:20201101T111500
DTEND:20201101T130000
LOCATION:City Resort Helmond
ATTACH;FMTTYPE=text/plain:https://hbb.rivio.dev/jeugd/2020/wedstrijd/26440
END:VEVENT
BEGIN:VEVENT
UID:https://hbb.rivio.dev/jeugd/2020/wedstrijd/26438
DTSTAMP:20260420T134012Z
SUMMARY:Bakel 4 - Phoenix 4
DESCRIPTION:Baan 12\, Afdeling F-klasse 
DTSTART:20201101T093000
DTEND:20201101T111500
LOCATION:City Resort Helmond
ATTACH;FMTTYPE=text/plain:https://hbb.rivio.dev/jeugd/2020/wedstrijd/26438
END:VEVENT
BEGIN:VEVENT
UID:https://hbb.rivio.dev/jeugd/2020/wedstrijd/26498
DTSTAMP:20260420T134012Z
SUMMARY:Phoenix 4 - Mixed 4
DESCRIPTION:Baan 12\, Afdeling F-klasse 
DTSTART:20201129T093000
DTEND:20201129T111500
LOCATION:City Resort Helmond
ATTACH;FMTTYPE=text/plain:https://hbb.rivio.dev/jeugd/2020/wedstrijd/26498
END:VEVENT
BEGIN:VEVENT
UID:https://hbb.rivio.dev/jeugd/2020/wedstrijd/26502
DTSTAMP:20260420T134012Z
SUMMARY:Phoenix 4 - Mierlo 6
DESCRIPTION:Baan 13\, Afdeling F-klasse 
DTSTART:20201129T111500
DTEND:20201129T130000
LOCATION:City Resort Helmond
ATTACH;FMTTYPE=text/plain:https://hbb.rivio.dev/jeugd/2020/wedstrijd/26502
END:VEVENT
BEGIN:VEVENT
UID:https://hbb.rivio.dev/jeugd/2020/wedstrijd/26529
DTSTAMP:20260420T134012Z
SUMMARY:Phoenix 4 - Gemert 1
DESCRIPTION:Baan 13\, Afdeling F-klasse 
DTSTART:20210110T093000
DTEND:20210110T111500
LOCATION:City Resort Helmond
ATTACH;FMTTYPE=text/plain:https://hbb.rivio.dev/jeugd/2020/wedstrijd/26529
END:VEVENT
BEGIN:VEVENT
UID:https://hbb.rivio.dev/jeugd/2020/wedstrijd/26531
DTSTAMP:20260420T134012Z
SUMMARY:Mierlo 6 - Phoenix 4
DESCRIPTION:Baan 12\, Afdeling F-klasse 
DTSTART:20210110T111500
DTEND:20210110T130000
LOCATION:City Resort Helmond
ATTACH;FMTTYPE=text/plain:https://hbb.rivio.dev/jeugd/2020/wedstrijd/26531
END:VEVENT
BEGIN:VEVENT
UID:https://hbb.rivio.dev/jeugd/2020/wedstrijd/26555
DTSTAMP:20260420T134012Z
SUMMARY:Phoenix 4 - Bakel 4
DESCRIPTION:Baan 15\, Afdeling F-klasse 
DTSTART:20210207T093000
DTEND:20210207T111500
LOCATION:City Resort Helmond
ATTACH;FMTTYPE=text/plain:https://hbb.rivio.dev/jeugd/2020/wedstrijd/26555
END:VEVENT
BEGIN:VEVENT
UID:https://hbb.rivio.dev/jeugd/2020/wedstrijd/26557
DTSTAMP:20260420T134012Z
SUMMARY:Mixed 3 - Phoenix 4
DESCRIPTION:Baan 5\, Afdeling F-klasse 
DTSTART:20210207T111500
DTEND:20210207T130000
LOCATION:City Resort Helmond
ATTACH;FMTTYPE=text/plain:https://hbb.rivio.dev/jeugd/2020/wedstrijd/26557
END:VEVENT
BEGIN:VEVENT
UID:https://hbb.rivio.dev/jeugd/2020/wedstrijd/26576
DTSTAMP:20260420T134012Z
SUMMARY:Gemert 1 - Phoenix 4
DESCRIPTION:Baan 12\, Afdeling F-klasse 
DTSTART:20210307T093000
DTEND:20210307T111500
LOCATION:City Resort Helmond
ATTACH;FMTTYPE=text/plain:https://hbb.rivio.dev/jeugd/2020/wedstrijd/26576
END:VEVENT
BEGIN:VEVENT
UID:https://hbb.rivio.dev/jeugd/2020/wedstrijd/26580
DTSTAMP:20260420T134012Z
SUMMARY:RBC 1 - Phoenix 4
DESCRIPTION:Baan 13\, Afdeling F-klasse 
DTSTART:20210307T111500
DTEND:20210307T130000
LOCATION:City Resort Helmond
ATTACH;FMTTYPE=text/plain:https://hbb.rivio.dev/jeugd/2020/wedstrijd/26580
END:VEVENT
BEGIN:VTIMEZONE
TZID:Europe/Amsterdam
BEGIN:STANDARD
DTSTART:20200101T000000
TZNAME:CET
TZOFFSETTO:+0100
TZOFFSETFROM:+0100
END:STANDARD
BEGIN:DAYLIGHT
DTSTART:20200329T030000
TZNAME:CEST
TZOFFSETTO:+0200
TZOFFSETFROM:+0100
END:DAYLIGHT
BEGIN:STANDARD
DTSTART:20201025T020000
TZNAME:CET
TZOFFSETTO:+0100
TZOFFSETFROM:+0200
END:STANDARD
BEGIN:DAYLIGHT
DTSTART:20210328T030000
TZNAME:CEST
TZOFFSETTO:+0200
TZOFFSETFROM:+0100
END:DAYLIGHT
BEGIN:STANDARD
DTSTART:20211031T020000
TZNAME:CET
TZOFFSETTO:+0100
TZOFFSETFROM:+0200
END:STANDARD
END:VTIMEZONE
END:VCALENDAR
