BEGIN:VCALENDAR
PRODID:-//eluceo/ical//2.0/EN
VERSION:2.0
CALSCALE:GREGORIAN
BEGIN:VEVENT
UID:https://hbb.rivio.dev/jeugd/2020/wedstrijd/26422
DTSTAMP:20260420T133746Z
SUMMARY:Phoenix 3 - Mierlo 3
DESCRIPTION:Baan 12\, Afdeling DE-klasse 
DTSTART:20201011T093000
DTEND:20201011T111500
LOCATION:City Resort Helmond
ATTACH;FMTTYPE=text/plain:https://hbb.rivio.dev/jeugd/2020/wedstrijd/26422
END:VEVENT
BEGIN:VEVENT
UID:https://hbb.rivio.dev/jeugd/2020/wedstrijd/26426
DTSTAMP:20260420T133746Z
SUMMARY:Hanevoet 2 - Phoenix 3
DESCRIPTION:Baan 13\, Afdeling DE-klasse 
DTSTART:20201011T111500
DTEND:20201011T130000
LOCATION:City Resort Helmond
ATTACH;FMTTYPE=text/plain:https://hbb.rivio.dev/jeugd/2020/wedstrijd/26426
END:VEVENT
BEGIN:VEVENT
UID:https://hbb.rivio.dev/jeugd/2020/wedstrijd/26456
DTSTAMP:20260420T133746Z
SUMMARY:Phoenix 3 - De Valken 1
DESCRIPTION:Baan 13\, Afdeling DE-klasse 
DTSTART:20201108T111500
DTEND:20201108T130000
LOCATION:City Resort Helmond
ATTACH;FMTTYPE=text/plain:https://hbb.rivio.dev/jeugd/2020/wedstrijd/26456
END:VEVENT
BEGIN:VEVENT
UID:https://hbb.rivio.dev/jeugd/2020/wedstrijd/26453
DTSTAMP:20260420T133746Z
SUMMARY:Mierlo 4 - Phoenix 3
DESCRIPTION:Baan 13\, Afdeling DE-klasse 
DTSTART:20201108T093000
DTEND:20201108T111500
LOCATION:City Resort Helmond
ATTACH;FMTTYPE=text/plain:https://hbb.rivio.dev/jeugd/2020/wedstrijd/26453
END:VEVENT
BEGIN:VEVENT
UID:https://hbb.rivio.dev/jeugd/2020/wedstrijd/26481
DTSTAMP:20260420T133746Z
SUMMARY:Hanevoet 1 - Phoenix 3
DESCRIPTION:Baan 11\, Afdeling DE-klasse 
DTSTART:20201122T093000
DTEND:20201122T111500
LOCATION:City Resort Helmond
ATTACH;FMTTYPE=text/plain:https://hbb.rivio.dev/jeugd/2020/wedstrijd/26481
END:VEVENT
BEGIN:VEVENT
UID:https://hbb.rivio.dev/jeugd/2020/wedstrijd/26484
DTSTAMP:20260420T133746Z
SUMMARY:De Valken 2 - Phoenix 3
DESCRIPTION:Baan 11\, Afdeling DE-klasse 
DTSTART:20201122T111500
DTEND:20201122T130000
LOCATION:City Resort Helmond
ATTACH;FMTTYPE=text/plain:https://hbb.rivio.dev/jeugd/2020/wedstrijd/26484
END:VEVENT
BEGIN:VEVENT
UID:https://hbb.rivio.dev/jeugd/2020/wedstrijd/26522
DTSTAMP:20260420T133746Z
SUMMARY:Phoenix 3 - Hanevoet 2
DESCRIPTION:Baan 4\, Afdeling DE-klasse 
DTSTART:20210110T093000
DTEND:20210110T111500
LOCATION:City Resort Helmond
ATTACH;FMTTYPE=text/plain:https://hbb.rivio.dev/jeugd/2020/wedstrijd/26522
END:VEVENT
BEGIN:VEVENT
UID:https://hbb.rivio.dev/jeugd/2020/wedstrijd/26526
DTSTAMP:20260420T133746Z
SUMMARY:Phoenix 3 - Mierlo 4
DESCRIPTION:Baan 5\, Afdeling DE-klasse 
DTSTART:20210110T111500
DTEND:20210110T130000
LOCATION:City Resort Helmond
ATTACH;FMTTYPE=text/plain:https://hbb.rivio.dev/jeugd/2020/wedstrijd/26526
END:VEVENT
BEGIN:VEVENT
UID:https://hbb.rivio.dev/jeugd/2020/wedstrijd/26552
DTSTAMP:20260420T133746Z
SUMMARY:Phoenix 3 - Hanevoet 1
DESCRIPTION:Baan 13\, Afdeling DE-klasse 
DTSTART:20210207T111500
DTEND:20210207T130000
LOCATION:City Resort Helmond
ATTACH;FMTTYPE=text/plain:https://hbb.rivio.dev/jeugd/2020/wedstrijd/26552
END:VEVENT
BEGIN:VEVENT
UID:https://hbb.rivio.dev/jeugd/2020/wedstrijd/26549
DTSTAMP:20260420T133746Z
SUMMARY:Mierlo 3 - Phoenix 3
DESCRIPTION:Baan 13\, Afdeling DE-klasse 
DTSTART:20210207T093000
DTEND:20210207T111500
LOCATION:City Resort Helmond
ATTACH;FMTTYPE=text/plain:https://hbb.rivio.dev/jeugd/2020/wedstrijd/26549
END:VEVENT
BEGIN:VEVENT
UID:https://hbb.rivio.dev/jeugd/2020/wedstrijd/26563
DTSTAMP:20260420T133746Z
SUMMARY:Phoenix 3 - De Valken 2
DESCRIPTION:Baan 3\, Afdeling DE-klasse 
DTSTART:20210228T111500
DTEND:20210228T130000
LOCATION:City Resort Helmond
ATTACH;FMTTYPE=text/plain:https://hbb.rivio.dev/jeugd/2020/wedstrijd/26563
END:VEVENT
BEGIN:VEVENT
UID:https://hbb.rivio.dev/jeugd/2020/wedstrijd/26559
DTSTAMP:20260420T133746Z
SUMMARY:De Valken 1 - Phoenix 3
DESCRIPTION:Baan 2\, Afdeling DE-klasse 
DTSTART:20210228T093000
DTEND:20210228T111500
LOCATION:City Resort Helmond
ATTACH;FMTTYPE=text/plain:https://hbb.rivio.dev/jeugd/2020/wedstrijd/26559
END:VEVENT
BEGIN:VTIMEZONE
TZID:Europe/Amsterdam
BEGIN:STANDARD
DTSTART:20200101T000000
TZNAME:CET
TZOFFSETTO:+0100
TZOFFSETFROM:+0100
END:STANDARD
BEGIN:DAYLIGHT
DTSTART:20200329T030000
TZNAME:CEST
TZOFFSETTO:+0200
TZOFFSETFROM:+0100
END:DAYLIGHT
BEGIN:STANDARD
DTSTART:20201025T020000
TZNAME:CET
TZOFFSETTO:+0100
TZOFFSETFROM:+0200
END:STANDARD
BEGIN:DAYLIGHT
DTSTART:20210328T030000
TZNAME:CEST
TZOFFSETTO:+0200
TZOFFSETFROM:+0100
END:DAYLIGHT
BEGIN:STANDARD
DTSTART:20211031T020000
TZNAME:CET
TZOFFSETTO:+0100
TZOFFSETFROM:+0200
END:STANDARD
END:VTIMEZONE
END:VCALENDAR
